Workbook

Sheet Тариф на 1кв.м
A1: Тариф на 1 м кв. на послуги з утримання будинків і споруд та прибудинкових територій КП "Новозаводське"
A3: № п/п | B3: Статті тарифу | C3: Контроль (нарахування з тарифу | D3: Нараховання | E3: Нараховання | G3: Нараховання | I3: Нараховання | K3: Нараховання
D4: тарифу з 15.06.2016 | E4: тарифу з 01.08.2017 | G4: тарифу з 01.01.2018 | I4: тарифу з 17.02.2018 | K4: тарифу з 01.06.2018
E5: збільш. Мін. заробітної плати, прожиткового мінімума, ціни на е/е, ПММ, вивезення сміття | G5: коригування( збільшення мінімальної заробітної плати + ПММ) | I5: коригування( збільшення ТО ліфтів + диспетчеризація) | K5: збільш. ЗП по Гал. Угоді, виведення статті "вивезення побут. Відх)
D6: грн./м.кв з ПДВ | E6: грн.з ПДВ | F6: грн./м.кв з ПДВ | G6: грн.з ПДВ | H6: грн./м.кв з ПДВ | I6: грн.з ПДВ | J6: грн./м.кв з ПДВ | K6: грн.з ПДВ | L6: грн./м.кв з ПДВ
A7: 1 | B7: Прибирання сходових кліток | C7: =23.26/100 -> 0.2326 | D7: 0.233 | E7: 243432.59 | F7: 0.30012874 | G7: ='[1]2018 рік (по послугам)'!AL553 -> 271277.25 | H7: =G7/$G$25 -> 0.32649822 | I7: 271277.25 | J7: =I7/$G$25 -> 0.32649822 | K7: 370272 | L7: 0.4905
A8: =A7+1 -> 2 | B8: Прибирання прибудинкової території | C8: =38.66/100 -> 0.3866 | D8: 0.387 | E8: 439247.91 | F8: 0.54155001 | G8: ='[1]2018 рік (по послугам)'!I553 -> 477893.72 | H8: =G8/$G$25 -> 0.57517337 | I8: 477893.72 | J8: =I8/$G$25 -> 0.57517337 | K8: 551208 | L8: 0.6724
A9: =A8+1 -> 3 | B9: Вивезення побутових відходів (збирання, зберігання, перевезення, перероблення, утилізація, знешкодження та захоронення) | C9: =31.88/100 -> 0.3188 | D9: 0.319 | E9: 275598.97 | F9: 0.33978677 | G9: ='[1]2018 рік (по послугам)'!BO553 -> 286334.61 | H9: =G9/$G$25 -> 0.34462064 | I9: 286334.61 | J9: =I9/$G$25 -> 0.34462064 | K9: 0 | L9: =K9/$G$25 -> 0
A10: =A9+1 -> 4 | B10: Прибирання підвалів, технічних поверхів та покрівлі | C10: =0.89/100 -> 0.0089 | D10: 0.009 | E10: 8681.7442 | F10: 0.010703747 | G10: ='[1]2018 рік (по послугам)'!CR553 -> 9596.85 | H10: =G10/$G$25 -> 0.011550377 | I10: 9596.85 | J10: =I10/$G$25 -> 0.011550377 | K10: 11285 | L10: 0.0138
A11: =A10+1 -> 5 | B11: Технічне обслуговування ліфтів | C11: =27.89/100 -> 0.2789 | D11: =0.279-0.193 -> 0.086 | E11: 63435.923 | F11: 0.078210332 | G11: ='[1]2018 рік (по послугам)'!DU553 -> 65741.03 | H11: =G11/$G$25 -> 0.079123219 | I11: =J11*G25 -> 127953.83 | J11: 0.154 | K11: 136458 | L11: 0.5447
A12: =A11+1 -> 6 | B12: Обслуговування систем диспетчеризації | C12: =0.29/100 -> 0.0029 | D12: 0.0029866494 | E12: 2422.4531 | F12: 0.0029866494 | G12: ='[1]2018 рік (по послугам)'!EX553 -> 2414.15 | H12: =G12/$G$25 -> 0.0029055724 | I12: =J12*G25 -> 4154.345 | J12: 0.005 | K12: 3889 | L12: 0.0047
A13: =A12+1 -> 7 | B13: Технічне обслуговування внутнішньобудинкових систем: гарячого водопостачання; холодного водопостачання; водовідведення; теплопостачання; зливової каналізації. | C13: =34.36/100 -> 0.3436 | D13: 0.344 | E13: 494380.96 | F13: 0.6095237 | G13: ='[1]2018 рік (по послугам)'!GA553 -> 540723.67 | H13: =G13/$G$25 -> 0.65079293 | I13: 540723.67 | J13: =I13/$G$25 -> 0.65079293 | K13: 644031 | L13: 0.7856
A14: =A13+1 -> 8 | B14: Дератизація | C14: =1.99/100 -> 0.0199 | D14: 0.02 | E14: 22334.575 | F14: 0.027536362 | G14: ='[1]2018 рік (по послугам)'!HD553 -> 22273.16 | H14: =G14/$G$25 -> 0.026807066 | I14: 22273.16 | J14: =I14/$G$25 -> 0.026807066 | K14: 23299 | L14: 0.033
A15: =A14+1 -> 9 | B15: Дезінсекція | C15: =0.121/100 -> 0.00121 | D15: 0.00070156988 | E15: 569.03905 | F15: 0.00070156988 | G15: ='[1]2018 рік (по послугам)'!IG553 -> 629.44 | H15: =G15/$G$25 -> 0.00075756828 | I15: 629.44 | J15: =I15/$G$25 -> 0.00075756828 | K15: 594 | L15: 0.0008
A16: =A15+1 -> 10 | B16: Обслуговування димових та вентиляційних каналів | C16: =0.869/100 -> 0.00869 | D16: 0.087 | E16: 118484.95 | F16: 0.14608043 | G16: ='[1]2018 рік (по послугам)'!JJ553 -> 126931.8 | H16: =G16/$G$25 -> 0.15276993 | I16: 126931.8 | J16: =I16/$G$25 -> 0.15276993 | K16: 165783 | L16: 0.2024
A17: =A16+1 -> 11 | B17: Технічне обслуговування та поточного ремонту мереж електропостачання та електрообладнання, систем протипожежної автоматики та димовидалення | C17: =3.66/100 -> 0.0366 | D17: 0.038 | E17: 109489.49 | F17: 0.13498991 | G17: ='[1]2018 рік (по послугам)'!KM553 -> 117430.37 | H17: =G17/$G$25 -> 0.1413344 | I17: 117430.37 | J17: =I17/$G$25 -> 0.1413344 | K17: 147021 | L17: 0.1793
A18: =A17+1 -> 12 | B18: Поточний ремонт конструктивних елементів, внутрішньобудинкових систем ГВП, ХВП, ХВВ, ЦО та зливової каналізації і технічних пристроїв будинків та елементів зовнішнього упорядження | C18: =63.23/100 -> 0.6323 | D18: 0.632 | E18: 685118.7 | F18: 0.84468481 | G18: ='[1]2018 рік (по послугам)'!LP553 -> 716958.41 | H18: =G18/$G$25 -> 0.86290187 | I18: 716958.41 | J18: =I18/$G$25 -> 0.86290187 | K18: 873288 | L18: 1.0653
A19: =A18+1 -> 13 | B19: Прибирання і вивезення снігу, посипання частини прибудинкової території, призначеної для проходу та проїзду, протиожеледними сумішами | C19: =8.47/100 -> 0.0847 | D19: 0.085 | E19: 105209.78 | F19: 0.12971344 | G19: ='[1]2018 рік (по послугам)'!MS553 -> 112646.02 | H19: =G19/$G$25 -> 0.13557615 | I19: 112646.02 | J19: =I19/$G$25 -> 0.13557615 | K19: 132251 | L19: 0.1613
A20: =A19+1 -> 14 | B20: Експлуатація номерних знаків на будинках | C20: =0.02/100 -> 0.0002 | D20: 0.0002 | E20: 343.15559 | F20: 0.00042307752 | G20: ='[1]2018 рік (по послугам)'!NV553 -> 375.05 | H20: =G20/$G$25 -> 0.00045139486 | I20: 375.05 | J20: =I20/$G$25 -> 0.00045139486 | K20: 355 | L20: 0.005
A21: =A20+1 -> 15 | B21: Освітлення місць загального користування і підвалів та підкачування води | C21: =17.13/100 -> 0.1713 | D21: 0.171 | E21: 241174.93 | F21: 0.29734527 | G21: ='[1]2018 рік (по послугам)'!OY553 -> 240317.23 | H21: =G21/$G$25 -> 0.289236 | I21: 240317.23 | J21: =I21/$G$25 -> 0.289236 | K21: 190985 | L21: 0.233
A22: =A21+1 -> 16 | B22: Енергопостачання ліфтів | C22: =19.2/100 -> 0.192 | D22: =0.192-0.14 -> 0.052 | E22: 82598.536 | F22: 0.10183597 | G22: ='[1]2018 рік (по послугам)'!QB553 -> 85643.54 | H22: =G22/$G$25 -> 0.10307707 | I22: 85643.54 | J22: =I22/$G$25 -> 0.10307707 | K22: 59496 | L22: 0.2375
B23: ВСЬОГО з ПДВ | C23: =SUM(C7:C22) -> 2.7192 | D23: =SUM(D7:D22) -> 2.4668882 | E23: =SUM(E7:E22) -> 2892523.7 | F23: =SUM(F7:F22) -> 3.5662008 | G23: =SUM(G7:G22) -> 3077186.3 | H23: =SUM(H7:H22) -> 3.7035758 | I23: =SUM(I7:I22) -> 3141139.3 | J23: =SUM(J7:J22) -> 3.780547 | ... L23: =SUM(L7:L22) -> 4.6293
B25: Загальна площа житл. та нежитл. прим,м2 | G25: 830869 | I25: 822055 | K25: 822056

Sheet Звіт по будинку
A1: =VLOOKUP(B3,'№ дог., кіл.підїз.'!$C$3:$H$569,3,0) -> 5 | C1: =VLOOKUP(B3,'№ дог., кіл.підїз.'!$C$3:$H$569,2,0) -> 3
A2: Звіт про виконання кошторису на утримання будинків та прибудинкової території управителя КП "Новозаводське" з ЛИСТОПАДА 2025 року по СЕРПЕНЬ 2026 року
B3: Текстильникiв, ВУЛ, 18 | E3: Договір № 1/ | F3: =VLOOKUP(B3,'№ дог., кіл.підїз.'!C3:I569,6,0) -> 503 | G3: Увага! Станьте на адресу будинку, виберіть Ваш будинок
E4: діє з 01.11.2025 до 31.11.2026 рр
A5: № п/п | B5: Складова витрат на утримання будинку та прибудинкової території та поточний ремонт спільного майна будинку | C5: Витрати, грн.
C6: Плановий кошторис | D6: Фактичні | E6: Відхилення | F6: % виконання кошторису
B7: Загальна площа, м2 | C7: =VLOOKUP(B3,'2025рік-2026р (по послугам)'!C8:E94,3,0) -> 2679.86
A8: 1 | B8: Обовязковий перелік послуг
A9: 1.1 | B9: Технічне обслуговування внутрішньобудинкових систем | C9: =SUM(C10:C17) -> 39084.24 | D9: =SUM(D10:D17) -> 34067.467 | E9: =D9-C9 -> -5016.7727 | F9: =IF(D9=0,0,D9/C9) -> 0.87164206
A10: 1.1.1 | B10: водопостачання | C10: =VLOOKUP(B3,'2025рік-2026р (по послугам)'!C8:K94,9,0) -> 12479.74 | D10: =VLOOKUP(B3,'2025рік-2026р (по послугам)'!C8:X94,22,0) -> 7027.731 | E10: =D10-C10 -> -5452.009 | F10: =IF(D10=0,0,D10/C10) -> 0.5631312
A11: 1.1.2 | B11: водовідведення | C11: =VLOOKUP(B3,'2025рік-2026р (по послугам)'!C8:AN94,38,0) -> 2244.8 | D11: =VLOOKUP(B3,'2025рік-2026р (по послугам)'!C8:BA94,51,0) -> 1296.0341 | E11: =D11-C11 -> -948.76595 | F11: =IF(D11=0,0,D11/C11) -> 0.57734945
A12: 1.1.3 | B12: теплопостачання | C12: =VLOOKUP(B3,'2025рік-2026р (по послугам)'!C8:BQ94,67,0) -> 1512.42 | D12: =VLOOKUP(B3,'2025рік-2026р (по послугам)'!C8:CD94,80,0) -> 1477.4129 | E12: =D12-C12 -> -35.007103 | F12: =IF(D12=0,0,D12/C12) -> 0.97685358
A13: 1.1.4 | B13: гарячого водопостачання | C13: =VLOOKUP(B3,'2025рік-2026р (по послугам)'!C8:DG94,96,0) -> 368.96 | D13: =VLOOKUP(B3,'2025рік-2026р (по послугам)'!C8:DG94,109,0) -> 361.73277 | E13: =D13-C13 -> -7.2272343 | F13: =IF(D13=0,0,D13/C13) -> 0.98041188
A14: 1.1.5 | B14: зливової каналізації | C14: =VLOOKUP(B3,'2025рік-2026р (по послугам)'!C8:DW94,125,0) -> 1261.02 | D14: =VLOOKUP(B3,'2025рік-2026р (по послугам)'!C8:EK94,139,0) -> 726.76914 | E14: =D14-C14 -> -534.25086 | F14: =IF(D14=0,0,D14/C14) -> 0.57633435
A15: 1.1.6 | B15: електропостачання | C15: =VLOOKUP(B3,'2025рік-2026р (по послугам)'!C8:FA94,155,0) -> 8200.84 | D15: =VLOOKUP(B3,'2025рік-2026р (по послугам)'!C8:GB94,168,0) -> 10449.396 | E15: =D15-C15 -> 2248.5562 | F15: =IF(D15=0,0,D15/C15) -> 1.2741861
A16: 1.1.7 | B16: газопостачання | C16: =VLOOKUP(B3,'2025рік-2026р (по послугам)'!C8:GX94,184,0) -> 0 | D16: =VLOOKUP(B3,'2025рік-2026р (по послугам)'!C8:GQ94,197,0) -> 0 | E16: =D16-C16 -> 0 | F16: =IF(D16=0,0,D16/C16) -> 0
A17: 1.1.8 | B17: аварійне обслуговування | C17: =VLOOKUP(B3,'2025рік-2026р (по послугам)'!C8:GY94,205,0) -> 13016.46 | D17: =VLOOKUP(B3,'2025рік-2026р (по послугам)'!C8:HL94,218,0) -> 12728.391 | E17: =D17-C17 -> -288.06868 | F17: =IF(D17=0,0,D17/C17) -> 0.97786889
A18: 1.2 | B18: Технічне обслуговування ліфтів | C18: =VLOOKUP(B3,'2025рік-2026р (по послугам)'!C8:JE94,234,0) -> 0 | D18: =VLOOKUP(B3,'2025рік-2026р (по послугам)'!C8:IO94,247,0) -> 0 | E18: =D18-C18 -> 0 | F18: 0
A19: 1.3 | B19: Обслуговування систем диспетчеризації | C19: =VLOOKUP(B3,'2025рік-2026р (по послугам)'!C8:JE94,263,0) -> 0 | D19: =VLOOKUP(B3,'2025рік-2026р (по послугам)'!C8:JR94,276,0) -> 0 | E19: =D19-C19 -> 0 | F19: =IF(D19=0,0,D19/C19) -> 0
A20: 1.4 | B20: Обслуговування димових та вентиляційних каналів | C20: =VLOOKUP(B3,'2025рік-2026р (по послугам)'!C8:KH94,292,0) -> 2354.18 | D20: =VLOOKUP(B3,'2025рік-2026р (по послугам)'!C8:KU94,305,0) -> 3284.361 | E20: =D20-C20 -> 930.18095 | F20: =IF(D20=0,0,D20/C20) -> 1.3951189
A21: 1.5 | B21: Технічне обслуговування систем протипожежної автоматики та димовидалення (у разі їх наявності) | C21: =VLOOKUP(B3,'2025рік-2026р (по послугам)'!C8:LK94,321,0) -> 0 | D21: =VLOOKUP(B3,'2025рік-2026р (по послугам)'!C8:LX94,334,0) -> 0 | E21: =D21-C21 -> 0 | F21: =IF(D21=0,0,D21/C21) -> 0
A22: 1.6 | B22: Поточний ремонт конструктивних елементів, технічних пристроїв та елементів зовнішнього упорядження, що розміщені на закріпленій в установленому порядку прибудинковій території (в т.ч спорт., дитячих та інших майданчиків), та іншого спільного майна ББ | C22: =VLOOKUP(B3,'2025рік-2026р (по послугам)'!C8:MN94,350,0) -> 33044.98 | D22: =VLOOKUP(B3,'2025рік-2026р (по послугам)'!C8:NA94,363,0) -> 10053.806 | E22: =D22-C22 -> -22991.174 | F22: =IF(D22=0,0,D22/C22) -> 0.30424608
A23: 1.7 | B23: Поточний ремонт внутрішньобудинкових систем | C23: =SUM(C24:C30) -> 16143.12 | D23: =SUM(D24:D30) -> 9683.15 | E23: =D23-C23 -> -6459.97 | F23: =IF(D23=0,0,D23/C23) -> 0.59983138
A24: 1.7.1 | B24: водопостачання | C24: =VLOOKUP(B3,'2025рік-2026р (по послугам)'!C8:NV94,384,0) -> 3599.6 | D24: =VLOOKUP(B3,'2025рік-2026р (по послугам)'!C8:OI94,397,0) -> 7696.41 | E24: =D24-C24 -> 4096.81 | F24: =IF(D24=0,0,D24/C24) -> 2.1381292
A25: 1.7.2 | B25: водовідведення | C25: =VLOOKUP(B3,'2025рік-2026р (по послугам)'!C8:OY94,413,0) -> 5359.18 | D25: =VLOOKUP(B3,'2025рік-2026р (по послугам)'!C8:PL94,426,0) -> 0 | E25: =D25-C25 -> -5359.18 | F25: =IF(D25=0,0,D25/C25) -> 0
A26: 1.7.3 | B26: теплопостачання | C26: =VLOOKUP(B3,'2025рік-2026р (по послугам)'!C8:QB94,442,0) -> 810.68 | D26: =VLOOKUP(B3,'2025рік-2026р (по послугам)'!C8:QO94,455,0) -> 0 | E26: =D26-C26 -> -810.68 | F26: =IF(D26=0,0,D26/C26) -> 0
A27: 1.7.4 | B27: гарячого водопостачання | C27: =VLOOKUP(B3,'2025рік-2026р (по послугам)'!C8:RE94,471,0) -> 4279.96 | D27: =VLOOKUP(B3,'2025рік-2026р (по послугам)'!C8:RR94,484,0) -> 1986.74 | E27: =D27-C27 -> -2293.22 | F27: =IF(D27=0,0,D27/C27) -> 0.46419593
A28: 1.7.5 | B28: зливової каналізації | C28: =VLOOKUP(B3,'2025рік-2026р (по послугам)'!C8:SH94,500,0) -> 0 | D28: =VLOOKUP(B3,'2025рік-2026р (по послугам)'!C8:SU94,513,0) -> 0 | E28: =D28-C28 -> 0 | F28: =IF(D28=0,0,D28/C28) -> 0
A29: 1.7.6 | B29: електропостачання | C29: =VLOOKUP(B3,'2025рік-2026р (по послугам)'!C8:TK94,529,0) -> 2035.24 | D29: =VLOOKUP(B3,'2025рік-2026р (по послугам)'!C8:TX94,542,0) -> 0 | E29: =D29-C29 -> -2035.24 | F29: =IF(D29=0,0,D29/C29) -> 0
A30: 1.7.7 | B30: газопостачання | C30: =VLOOKUP(B3,'2025рік-2026р (по послугам)'!C8:VO94,558,0) -> 58.46 | D30: =VLOOKUP(B3,'2025рік-2026р (по послугам)'!C8:VA94,571,0) -> 0 | E30: =D30-C30 -> -58.46 | F30: =IF(D30=0,0,D30/C30) -> 0
A31: 1.8 | B31: Поточний ремонт систем протипожежної автоматики та димовидалення (у разі їх наявності) | C31: =VLOOKUP(B3,'2025рік-2026р (по послугам)'!C8:VQ94,587,0) -> 0 | D31: =VLOOKUP(B3,'2025рік-2026р (по послугам)'!C8:WD94,600,0) -> 0 | E31: =D31-C31 -> 0 | F31: =IF(D31=0,0,D31/C31) -> 0
A32: 1.9 | B32: Прибирання прибудинкової території | C32: =VLOOKUP(B3,'2025рік-2026р (по послугам)'!C8:WT94,616,0) -> 36890.42 | D32: =VLOOKUP(B3,'2025рік-2026р (по послугам)'!C8:XG94,629,0) -> 48593.069 | E32: =D32-C32 -> 11702.649 | F32: =IF(D32=0,0,D32/C32) -> 1.3172273
A33: 1.10 | B33: Прибирання приміщень загального користування (у т.ч допоміжних) | C33: =VLOOKUP(B3,'2025рік-2026р (по послугам)'!C8:XW94,645,0) -> 25208.5 | D33: =VLOOKUP(B3,'2025рік-2026р (по послугам)'!C8:YJ94,658,0) -> 16390.138 | E33: =D33-C33 -> -8818.3617 | F33: =IF(D33=0,0,D33/C33) -> 0.650183
A34: 1.11 | B34: Прибирання та вивезення снігу, посипання частини прибудинкової території, призначеної для проходу та проїзду, протиожеледними сумішами | C34: =VLOOKUP(B3,'2025рік-2026р (по послугам)'!C8:YZ94,674,0) -> 5387.02 | D34: =VLOOKUP(B3,'2025рік-2026р (по послугам)'!C8:ZM94,687,0) -> 10899.191 | E34: =D34-C34 -> 5512.1708 | F34: =IF(D34=0,0,D34/C34) -> 2.0232319
A35: 1.12 | B35: Дератизація | C35: =VLOOKUP(B3,'2025рік-2026р (по послугам)'!C8:AAC94,703,0) -> 416.02 | D35: =VLOOKUP(B3,'2025рік-2026р (по послугам)'!C8:AAP94,716,0) -> 492.43349 | E35: =D35-C35 -> 76.413495 | F35: =IF(D35=0,0,D35/C35) -> 1.1836775
A36: 1.13 | B36: Дезінсекція | C36: =VLOOKUP(B3,'2025рік-2026р (по послугам)'!C8:ABF94,732,0) -> 92.06 | D36: =VLOOKUP(B3,'2025рік-2026р (по послугам)'!C8:ABS94,745,0) -> 0 | E36: =D36-C36 -> -92.06 | F36: =IF(D36=0,0,D36/C36) -> 0
A37: 1.14 | B37: Придбання електричної енергії для освітлення місць загального користуванння, живлення ліфтів та забезпечення функціонування іншого спільного майна багатоквартирного будинку, в т.ч | C37: =(SUM(C38:C39)) -> 15691.62 | D37: =(SUM(D38:D39)) -> 18754.085 | E37: =D37-C37 -> 3062.4646 | F37: =IF(D37=0,0,D37/C37) -> 1.1951656
A38: 1.14.1 | B38: для освітлення місць загального користування | C38: =VLOOKUP(B3,'2025рік-2026р (по послугам)'!C8:ACN94,766,0) -> 15691.62 | D38: =VLOOKUP(B3,'2025рік-2026р (по послугам)'!C8:ADA94,779,0) -> 18754.085 | E38: =D38-C38 -> 3062.4646 | F38: =IF(D38=0,0,D38/C38) -> 1.1951656
A39: 1.14.2 | B39: для живлення ліфтів | C39: =VLOOKUP(B3,'2025рік-2026р (по послугам)'!C8:ADQ94,795,0) -> 0 | D39: =VLOOKUP(B3,'2025рік-2026р (по послугам)'!C8:AED94,808,0) -> 0 | E39: =D39-C39 -> 0 | F39: =IF(D39=0,0,D39/C39) -> 0
A40: 2 | B40: Інші роботи (послуги) понад обов'язковий перелік | C40: 0 | D40: 0 | E40: =D40-C40 -> 0 | F40: =IF(D40=0,0,D40/C40) -> 0
A41: 3 | B41: Загальна сума витрат (без урахування ПДВ) | C41: =VLOOKUP(B3,'2025рік-2026р (по послугам)'!C8:AFW94,853,0) -> 174312.16 | D41: =VLOOKUP(B3,'2025рік-2026р (по послугам)'!C8:AFX94,854,0) -> 152217.7 | E41: =D41-C41 -> -22094.46 | F41: =IF(D41=0,0,D41/C41) -> 0.87324774 | G41: =C9+C18+C19+C20+C21+C22+C23+C31+C32+C33+C34+C35+C36+C40+C37 -> 174312.16 | H41: =D9+D18+D19+D20+D21+D22+D23+D31+D32+D33+D34+D35+D36+D40+D37 -> 152217.7 | J41: =C9+C18+C19+C20+C21+C22+C23+C31+C32+C33+C34+C35+C36+C37+C40 -> 174312.16 | K41: =D9+D18+D19+D20+D21+D22+D23+D31+D32+D33+D34+D35+D36+D37+D40 -> 152217.7
A42: 4 | B42: Загальна сума витрат (з урахуванням ПДВ) | C42: =C41*1.2 -> 209174.59 | D42: =D41*1.2 -> 182661.24 | E42: =D42-C42 -> -26513.352 | F42: =IF(D42=0,0,D42/C42) -> 0.87324774
A43: 5 | B43: Винагорода управителю (з урахуванням ПДВ) | C43: =VLOOKUP(B3,'2025рік-2026р (по послугам)'!C8:AGG94,863,0) -> 10458.73 | D43: =VLOOKUP(B3,'2025рік-2026р (по послугам)'!C8:AGH94,864,0) -> 9133.062 | E43: =D43-C43 -> -1325.6676 | F43: =IF(D43=0,0,D43/C43) -> 0.87324774
A44: 6 | B44: Загальна сума витрат з винагородою управителю | C44: =C42+C43 -> 219633.32 | D44: =D42+D43 -> 191794.3 | E44: =D44-C44 -> -27839.019 | F44: =IF(D44=0,0,D44/C44) -> 0.87324774 | H44: Місяць
B46: Прострочена заборгованість населення на | C46: 01.09.2026 року | D46: =VLOOKUP(B3,'Просроч.забрг. на 01.09.2026'!A2:D522,4,0) -> 102302.88 | E46: =D46/H46 -> 0.46578943 | F46: місяці | H46: =VLOOKUP(B3,'2025рік-2026р (по послугам)'!C8:AGL94,868,0) -> 219633.32
B48: Наявність коштів станом на 01.09.2026 року | C48: (- ) відсутні кошти | D48: =VLOOKUP(B3,'Наявн.коштів 2021-2026'!D9:AH95,31,0) -> -43085.414
B49: ( з урахуванням 11-12.2020-31.08.2026 ) | C49: (+) наявність коштів
B50: в т.ч. по поточному ремонту | D50: =-E22-E23 -> 29451.144 | E50: =D50/1.2 -> 24542.62 | F50: =D50-E50 -> 4908.5241
B53: Адміністрація КП "Новозаводське"

Sheet 2025рік-2026р (по послугам)
C1: КП «Новозаводське» ЧМР
C2: Відомість фактичних витрат і доходів по обслуговуванню житлових будинків (КОНКУРС)
C3: Серпент 2026р.
C4: 1 | D4: 2 | E4: 3 | F4: 4 | G4: 5 | H4: 6 | I4: 7 | J4: 8 | K4: 9 | L4: 10 | M4: 11 | N4: 12 | O4: 13 | P4: 14 | Q4: 15 | R4: 16 | S4: 17 | T4: 18 | U4: 19 | V4: 20 | W4: 21 | X4: 22 | Y4: 23 | Z4: 24 | AA4: 25 | AB4: 26 | AC4: 27 | AD4: 28 | AE4: 29 | AF4: 30 | AG4: 31 | AH4: 32 | AI4: 33 | AJ4: 34 | AK4: 35 | AL4: 36 | AM4: 37 | AN4: 38 | AO4: 39 | AP4: 40 | AQ4: 41 | AR4: 42 | AS4: 43 | AT4: 44 | AU4: 45 | AV4: 46 | AW4: 47 | AX4: 48 | AY4: 49 | AZ4: 50 | BA4: 51 | BB4: 52 | BC4: 53 | BD4: 54 | BE4: 55 | BF4: 56 | BG4: 57 | BH4: 58 | BI4: 59 | BJ4: 60 | BK4: 61 | BL4: 62 | BM4: 63 | BN4: 64 | BO4: 65 | BP4: 66 | BQ4: 67 | BR4: 68 | BS4: 69 | BT4: 70 | BU4: 71 | BV4: 72 | BW4: 73 | BX4: 74 | BY4: 75 | BZ4: 76 | CA4: 77 | CB4: 78 | CC4: 79 | CD4: 80 | CE4: 81 | CF4: 82 | CG4: 83 | CH4: 84 | CI4: 85 | CJ4: 86 | CK4: 87 | CL4: 88 | CM4: 89 | CN4: 90 | CO4: 91 | CP4: 92 | CQ4: 93 | CR4: 94 | CS4: 95 | CT4: 96 | CU4: 97 | CV4: 98 | CW4: 99 | CX4: 100 | CY4: 101 | CZ4: 102 | DA4: 103 | DB4: 104 | DC4: 105 | DD4: 106 | DE4: 107 | DF4: 108 | DG4: 109 | DH4: 110 | DI4: 111 | DJ4: 112 | DK4: 113 | DL4: 114 | DM4: 115 | DN4: 116 | DO4: 117 | DP4: 118 | DQ4: 119 | DR4: 120 | DS4: 121 | DT4: 122 | DU4: 123 | DV4: 124 | DW4: 125 | DX4: 126 | DY4: 127 | DZ4: 128 | EA4: 129 | EB4: 130 | EC4: 131 | ED4: 132 | EE4: 133 | EF4: 134 | EG4: 135 | EH4: 136 | EI4: 137 | EJ4: 138 | EK4: 139 | EL4: 140 | EM4: 141 | EN4: 142 | EO4: 143 | EP4: 144 | EQ4: 145 | ER4: 146 | ES4: 147 | ET4: 148 | EU4: 149 | EV4: 150 | EW4: 151 | EX4: 152 | EY4: 153 | EZ4: 154 | FA4: 155 | FB4: 156 | FC4: 157 | FD4: 158 | FE4: 159 | FF4: 160 | FG4: 161 | FH4: 162 | FI4: 163 | FJ4: 164 | FK4: 165 | FL4: 166 | FM4: 167 | FN4: 168 | FO4: 169 | FP4: 170 | FQ4: 171 | FR4: 172 | FS4: 173 | FT4: 174 | FU4: 175 | FV4: 176 | FW4: 177 | FX4: 178 | FY4: 179 | FZ4: 180 | GA4: 181 | GB4: 182 | GC4: 183 | GD4: 184 | GE4: 185 | GF4: 186 | GG4: 187 | GH4: 188 | GI4: 189 | GJ4: 190 | GK4: 191 | GL4: 192 | GM4: 193 | GN4: 194 | GO4: 195 | GP4: 196 | GQ4: 197 | GR4: 198 | GS4: 199 | GT4: 200 | GU4: 201 | GV4: 202 | GW4: 203 | GX4: 204 | GY4: 205 | GZ4: 206 | HA4: 207 | HB4: 208 | HC4: 209 | HD4: 210 | HE4: 211 | HF4: 212 | HG4: 213 | HH4: 214 | HI4: 215 | HJ4: 216 | HK4: 217 | HL4: 218 | HM4: 219 | HN4: 220 | HO4: 221 | HP4: 222 | HQ4: 223 | HR4: 224 | HS4: 225 | HT4: 226 | HU4: 227 | HV4: 228 | HW4: 229 | HX4: 230 | HY4: 231 | HZ4: 232 | IA4: 233 | IB4: 234 | IC4: 235 | ID4: 236 | IE4: 237 | IF4: 238 | IG4: 239 | IH4: 240 | II4: 241 | IJ4: 242 | IK4: 243 | IL4: 244 | IM4: 245 | IN4: 246 | IO4: 247 | IP4: 248 | IQ4: 249 | IR4: 250 | IS4: 251 | IT4: 252 | IU4: 253 | IV4: 254 | IW4: 255 | IX4: 256 | IY4: 257 | IZ4: 258 | JA4: 259 | JB4: 260 | JC4: 261 | JD4: 262 | JE4: 263 | JF4: 264 | JG4: 265 | JH4: 266 | JI4: 267 | JJ4: 268 | JK4: 269 | JL4: 270 | JM4: 271 | JN4: 272 | JO4: 273 | JP4: 274 | JQ4: 275 | JR4: 276 | JS4: 277 | JT4: 278 | JU4: 279 | JV4: 280 | JW4: 281 | JX4: 282 | JY4: 283 | JZ4: 284 | KA4: 285 | KB4: 286 | KC4: 287 | KD4: 288 | KE4: 289 | KF4: 290 | KG4: 291 | KH4: 292 | KI4: 293 | KJ4: 294 | KK4: 295 | KL4: 296 | KM4: 297 | KN4: 298 | KO4: 299 | KP4: 300 | KQ4: 301 | KR4: 302 | KS4: 303 | KT4: 304 | KU4: 305 | KV4: 306 | KW4: 307 | KX4: 308 | KY4: 309 | KZ4: 310 | LA4: 311 | LB4: 312 | LC4: 313 | LD4: 314 | LE4: 315 | LF4: 316 | LG4: 317 | LH4: 318 | LI4: 319 | LJ4: 320 | LK4: 321 | LL4: 322 | LM4: 323 | LN4: 324 | LO4: 325 | LP4: 326 | LQ4: 327 | LR4: 328 | LS4: 329 | LT4: 330 | LU4: 331 | LV4: 332 | LW4: 333 | LX4: 334 | LY4: 335 | LZ4: 336 | MA4: 337 | MB4: 338 | MC4: 339 | MD4: 340 | ME4: 341 | MF4: 342 | MG4: 343 | MH4: 344 | MI4: 345 | MJ4: 346 | MK4: 347 | ML4: 348 | MM4: 349 | MN4: 350 | MO4: 351 | MP4: 352 | MQ4: 353 | MR4: 354 | MS4: 355 | MT4: 356 | MU4: 357 | MV4: 358 | MW4: 359 | MX4: 360 | MY4: 361 | MZ4: 362 | NA4: 363 | NB4: 364 | NC4: 365 | ND4: 366 | NE4: 367 | NF4: 368 | NG4: 369 | NH4: 370 | NI4: 371 | NJ4: 372 | NK4: 373 | NL4: 374 | NM4: 375 | NN4: 376 | NO4: 377 | NP4: 378 | NQ4: 379 | NR4: 380 | NS4: 381 | NT4: 382 | NU4: 383 | NV4: 384 | NW4: 385 | NX4: 386 | NY4: 387 | NZ4: 388 | OA4: 389 | OB4: 390 | OC4: 391 | OD4: 392 | OE4: 393 | OF4: 394 | OG4: 395 | OH4: 396 | OI4: 397 | OJ4: 398 | OK4: 399 | OL4: 400 | OM4: 401 | ON4: 402 | OO4: 403 | OP4: 404 | OQ4: 405 | OR4: 406 | OS4: 407 | OT4: 408 | OU4: 409 | OV4: 410 | OW4: 411 | OX4: 412 | OY4: 413 | OZ4: 414 | PA4: 415 | PB4: 416 | PC4: 417 | PD4: 418 | PE4: 419 | PF4: 420 | PG4: 421 | PH4: 422 | PI4: 423 | PJ4: 424 | PK4: 425 | PL4: 426 | PM4: 427 | PN4: 428 | PO4: 429 | PP4: 430 | PQ4: 431 | PR4: 432 | PS4: 433 | PT4: 434 | PU4: 435 | PV4: 436 | PW4: 437 | PX4: 438 | PY4: 439 | PZ4: 440 | QA4: 441 | QB4: 442 | QC4: 443 | QD4: 444 | QE4: 445 | QF4: 446 | QG4: 447 | QH4: 448 | QI4: 449 | QJ4: 450 | QK4: 451 | QL4: 452 | QM4: 453 | QN4: 454 | QO4: 455 | QP4: 456 | QQ4: 457 | QR4: 458 | QS4: 459 | QT4: 460 | QU4: 461 | QV4: 462 | QW4: 463 | QX4: 464 | QY4: 465 | QZ4: 466 | RA4: 467 | RB4: 468 | RC4: 469 | RD4: 470 | RE4: 471 | RF4: 472 | RG4: 473 | RH4: 474 | RI4: 475 | RJ4: 476 | RK4: 477 | RL4: 478 | RM4: 479 | RN4: 480 | RO4: 481 | RP4: 482 | RQ4: 483 | RR4: 484 | RS4: 485 | RT4: 486 | RU4: 487 | RV4: 488 | RW4: 489 | RX4: 490 | RY4: 491 | RZ4: 492 | SA4: 493 | SB4: 494 | SC4: 495 | SD4: 496 | SE4: 497 | SF4: 498 | SG4: 499 | SH4: 500 | SI4: 501 | SJ4: 502 | SK4: 503 | SL4: 504 | SM4: 505 | SN4: 506 | SO4: 507 | SP4: 508 | SQ4: 509 | SR4: 510 | SS4: 511 | ST4: 512 | SU4: 513 | SV4: 514 | SW4: 515 | SX4: 516 | SY4: 517 | SZ4: 518 | TA4: 519 | TB4: 520 | TC4: 521 | TD4: 522 | TE4: 523 | TF4: 524 | TG4: 525 | TH4: 526 | TI4: 527 | TJ4: 528 | TK4: 529 | TL4: 530 | TM4: 531 | TN4: 532 | TO4: 533 | TP4: 534 | TQ4: 535 | TR4: 536 | TS4: 537 | TT4: 538 | TU4: 539 | TV4: 540 | TW4: 541 | TX4: 542 | TY4: 543 | TZ4: 544 | UA4: 545 | UB4: 546 | UC4: 547 | UD4: 548 | UE4: 549 | UF4: 550 | UG4: 551 | UH4: 552 | UI4: 553 | UJ4: 554 | UK4: 555 | UL4: 556 | UM4: 557 | UN4: 558 | UO4: 559 | UP4: 560 | UQ4: 561 | UR4: 562 | US4: 563 | UT4: 564 | UU4: 565 | UV4: 566 | UW4: 567 | UX4: 568 | UY4: 569 | UZ4: 570 | VA4: 571 | VB4: 572 | VC4: 573 | VD4: 574 | VE4: 575 | VF4: 576 | VG4: 577 | VH4: 578 | VI4: 579 | VJ4: 580 | VK4: 581 | VL4: 582 | VM4: 583 | VN4: 584 | VO4: 585 | VP4: 586 | VQ4: 587 | VR4: 588 | VS4: 589 | VT4: 590 | VU4: 591 | VV4: 592 | VW4: 593 | VX4: 594 | VY4: 595 | VZ4: 596 | WA4: 597 | WB4: 598 | WC4: 599 | WD4: 600 | WE4: 601 | WF4: 602 | WG4: 603 | WH4: 604 | WI4: 605 | WJ4: 606 | WK4: 607 | WL4: 608 | WM4: 609 | WN4: 610 | WO4: 611 | WP4: 612 | WQ4: 613 | WR4: 614 | WS4: 615 | WT4: 616 | WU4: 617 | WV4: 618 | WW4: 619 | WX4: 620 | WY4: 621 | WZ4: 622 | XA4: 623 | XB4: 624 | XC4: 625 | XD4: 626 | XE4: 627 | XF4: 628 | XG4: 629 | XH4: 630 | XI4: 631 | XJ4: 632 | XK4: 633 | XL4: 634 | XM4: 635 | XN4: 636 | XO4: 637 | XP4: 638 | XQ4: 639 | XR4: 640 | XS4: 641 | XT4: 642 | XU4: 643 | XV4: 644 | XW4: 645 | XX4: 646 | XY4: 647 | XZ4: 648 | YA4: 649 | YB4: 650 | YC4: 651 | YD4: 652 | YE4: 653 | YF4: 654 | YG4: 655 | YH4: 656 | YI4: 657 | YJ4: 658 | YK4: 659 | YL4: 660 | YM4: 661 | YN4: 662 | YO4: 663 | YP4: 664 | YQ4: 665 | YR4: 666 | YS4: 667 | YT4: 668 | YU4: 669 | YV4: 670 | YW4: 671 | YX4: 672 | YY4: 673 | YZ4: 674 | ZA4: 675 | ZB4: 676 | ZC4: 677 | ZD4: 678 | ZE4: 679 | ZF4: 680 | ZG4: 681 | ZH4: 682 | ZI4: 683 | ZJ4: 684 | ZK4: 685 | ZL4: 686 | ZM4: 687 | ZN4: 688 | ZO4: 689 | ZP4: 690 | ZQ4: 691 | ZR4: 692 | ZS4: 693 | ZT4: 694 | ZU4: 695 | ZV4: 696 | ZW4: 697 | ZX4: 698 | ZY4: 699 | ZZ4: 700 | AAA4: 701 | AAB4: 702 | AAC4: 703 | AAD4: 704 | AAE4: 705 | AAF4: 706 | AAG4: 707 | AAH4: 708 | AAI4: 709 | AAJ4: 710 | AAK4: 711 | AAL4: 712 | AAM4: 713 | AAN4: 714 | AAO4: 715 | AAP4: 716 | AAQ4: 717 | AAR4: 718 | AAS4: 719 | AAT4: 720 | AAU4: 721 | AAV4: 722 | AAW4: 723 | AAX4: 724 | AAY4: 725 | AAZ4: 726 | ABA4: 727 | ABB4: 728 | ABC4: 729 | ABD4: 730 | ABE4: 731 | ABF4: 732 | ABG4: 733 | ABH4: 734 | ABI4: 735 | ABJ4: 736 | ABK4: 737 | ABL4: 738 | ABM4: 739 | ABN4: 740 | ABO4: 741 | ABP4: 742 | ABQ4: 743 | ABR4: 744 | ABS4: 745 | ABT4: 746 | ABU4: 747 | ABV4: 748 | ABW4: 749 | ABX4: 750 | ABY4: 751 | ABZ4: 752 | ACA4: 753 | ACB4: 754 | ACC4: 755 | ACD4: 756 | ACE4: 757 | ACF4: 758 | ACG4: 759 | ACH4: 760 | ACI4: 761 | ACJ4: 762 | ACK4: 763 | ACL4: 764 | ACM4: 765 | ACN4: 766 | ACO4: 767 | ACP4: 768 | ACQ4: 769 | ACR4: 770 | ACS4: 771 | ACT4: 772 | ACU4: 773 | ACV4: 774 | ACW4: 775 | ACX4: 776 | ACY4: 777 | ACZ4: 778 | ADA4: 779 | ADB4: 780 | ADC4: 781 | ADD4: 782 | ADE4: 783 | ADF4: 784 | ADG4: 785 | ADH4: 786 | ADI4: 787 | ADJ4: 788 | ADK4: 789 | ADL4: 790 | ADM4: 791 | ADN4: 792 | ADO4: 793 | ADP4: 794 | ADQ4: 795 | ADR4: 796 | ADS4: 797 | ADT4: 798 | ADU4: 799 | ADV4: 800 | ADW4: 801 | ADX4: 802 | ADY4: 803 | ADZ4: 804 | AEA4: 805 | AEB4: 806 | AEC4: 807 | AED4: 808 | AEE4: 809 | AEF4: 810 | AEG4: 811 | AEH4: 812 | AEI4: 813 | AEJ4: 814 | AEK4: 815 | AEL4: 816 | AEM4: 817 | AEN4: 818 | AEO4: 819 | AEP4: 820 | AEQ4: 821 | AER4: 822 | AES4: 823 | AET4: 824 | AEU4: 825 | AEV4: 826 | AEW4: 827 | AEX4: 828 | AEY4: 829 | AEZ4: 830 | AFA4: 831 | AFB4: 832 | AFC4: 833 | AFD4: 834 | AFE4: 835 | AFF4: 836 | AFG4: 837 | AFH4: 838 | AFI4: 839 | AFJ4: 840 | AFK4: 841 | AFL4: 842 | AFM4: 843 | AFN4: 844 | AFO4: 845 | AFP4: 846 | AFQ4: 847 | AFR4: 848 | AFS4: 849 | AFT4: 850 | AFU4: 851 | AFV4: 852 | AFW4: 853 | AFX4: 854 | AFY4: 855 | AFZ4: 856 | AGA4: 857 | AGB4: 858 | AGC4: 859 | AGD4: 860 | AGE4: 861 | AGF4: 862 | AGG4: 863 | AGH4: 864 | AGI4: 865 | AGJ4: 866 | AGK4: 867 | AGL4: 868 | AGM4: 869 | AGN4: 870 | AGO4: 871 | AGP4: 872
B5: Пов. | C5: Адреса | D5: Пов. | E5: Загальна площа житла, та нежитлових приміщень, м2 | F5: Обов'язковий перелік послуг | AET5: 2 Інші роботи понад обов'язковий перелік | AFW5: 3 Загальна сума витрат (без урахування ПДВ) | AGB5: 4 Загальна сума витрат (з урахування ПДВ) | AGG5: 5 Винагорода управителю (з урахуванням ПДВ) | AGL5: 6 Загальна сума витрат з винагородою управителю
F6: 1.1 Технічне обслуговування внутрішньобудинкових систем, в т.ч. | K6: 1.1.1. ТО водопостачання | AN6: 1.1.2 ТО водовідведення | BQ6: 1.1.3 ТО теплопостачання | CT6: 1.1.4 ТО гарячого водопостачання | DW6: 1.1.5 ТО зливової каналізації | FA6: 1.1.6 ТО електропостачання | GD6: 1.1.7 ТО газопостачання | GY6: 1.1.8 аварійне обслуговування | IB6: 1.2. ТО ліфтів | JE6: 1.3 Обслуг. систем диспетчеризації | KH6: 1.4 Обслуговування ДВК | LK6: 1.5 ТО систем ППА | MN6: 1.6 ПР костуктивних елементів | NQ6: 1.7 Поточний ремонт внутрішньобудинкових систем, в т.ч. | NV6: 1.7.1 ПР водопостачання | OY6: 1.7.2 ПР водовідведення | QB6: 1.7.3 ПР теплопостачання | RE6: 1.7.4 ПР гарячого водопостачання | SH6: 1.7.5 ПР зливової каналізації | TK6: 1.7.6 ПР електропостачання | UN6: 1.7.7 ПР газопостачання | VQ6: 1.8 ПР систем ППА | WT6: 1.9 Прибирання прибудинкової території | XW6: 1.10 Прибирання приміщень загального користування | YZ6: 1.11 Прибирання і вивезення снігу | AAC6: 1.12 Дератизація | ABF6: 1.13 Дезінсекція | ACI6: 1.14 Придбання е/е , в т.ч. | ACN6: 1.14.1 Придбання е/е для освітлення місць загального користування | ADQ6: 1.14.2 Придбання е/е для живлення ліфтів
F7: Нараховано | G7: Фактично виконано | H7: Різниця між нарахуванням та витратами | I7: Недовиконано, грн. | J7: Перевиконано, грн. | K7: Нараховано, грн. | L7: листопад | M7: грудень | N7: січень | O7: лютий | P7: березень | Q7: квітень | R7: травень | S7: червень | T7: липень | U7: серпень | V7: вересень | W7: жовтень | X7: Фактично виконано, грн. | Y7: листопад | Z7: грудень | AA7: січень | AB7: лютий | AC7: березень | AD7: квітень | AE7: травень | AF7: червень | AG7: липень | AH7: серпень | AI7: вересень | AJ7: жовтень | AK7: Різниця мі нарахуваннями та витратами,грн | AL7: Недовиконано, грн. | AM7: Перевиконано, грн. | AN7: Нараховано згідно тарифу, грн. | AO7: листопад | AP7: грудень | AQ7: січень | AR7: лютий | AS7: березень | AT7: квітень | AU7: трвень | AV7: чеврень | AW7: липень | AX7: серпень | AY7: вересень | AZ7: жовтень | BA7: Фактично виконано, грн. | BB7: листопад | BC7: грудень | BD7: січень | BE7: лютий | BF7: березень | BG7: квітень | BH7: травень | BI7: червень | BJ7: липень | BK7: серпень | BL7: вересень | BM7: жовтень | BN7: Різниця мі нарахуваннями та витратами,грн | BO7: Недовиконано, грн. | BP7: Перевиконано, грн. | BQ7: Нараховано згідно тарифу, грн. | BR7: листопад | BS7: грудень | BT7: січень | BU7: лютий | BV7: березень | BW7: квітень | BX7: травень | BY7: червень | BZ7: липень | CA7: серпень | CB7: вересень | CC7: жовтень | CD7: Фактично виконано, грн. | CE7: листопад | CF7: грудень | CG7: січень | CH7: лютий | CI7: березень | CJ7: квітень | CK7: травень | CL7: червень | CM7: липень | CN7: серпень | CO7: вересень | CP7: жовтень | CQ7: Різниця мі нарахуваннями та витратами,грн | CR7: Недовиконано, грн. | CS7: Перевиконано, грн. | CT7: Нараховано згідно тарифу, грн. | CU7: листопад | CV7: грудень | CW7: січень | CX7: лютий | CY7: березень | CZ7: квітень | DA7: травень | DB7: червень | DC7: липень | DD7: серпень | DE7: вересень | DF7: жовтень | DG7: Фактично виконано, грн. | DH7: листопад | DI7: грудень | DJ7: січень | DK7: лютий | DL7: березень | DM7: квітень | DN7: травень | DO7: червень | DP7: липень | DQ7: серпень | DR7: вересень | DS7: жовтень | DT7: Різниця мі нарахуваннями та витратами,грн | DU7: Недовиконано, грн. | DV7: Перевиконано, грн. | DW7: Нараховано згідно тарифу, грн. | DX7: листопад | DY7: грудень | DZ7: січень | EA7: лютий | EB7: березень | EC7: квітень | ED7: травень | EE7: червень | EF7: липень | EG7: серпень | EH7: вересень | EI7: жовтень | EK7: Фактично виконано, грн. | EL7: листопад | EM7: грудень | EN7: січень | EO7: лютий | EP7: березень | EQ7: квітень | ER7: травень | ES7: червень | ET7: липень | EU7: серпень | EV7: вересень | EW7: жовтень | EX7: Різниця між нарахуваннями та витратами,грн | EY7: Недовиконано, грн. | EZ7: Перевиконано, грн. | FA7: Нараховано згідно тарифу, грн. | FB7: листопад | FC7: грудень | FD7: січень | FE7: лютий | FF7: березень | FG7: квітень | FH7: травень | FI7: червень | FJ7: липень | FK7: серпень | FL7: вересень | FM7: жовтень | FN7: Фактично виконано, грн. | FO7: листопад | FP7: грудень | FQ7: січень | FR7: лютий | FS7: березень | FT7: квітень | FU7: травень | FV7: червень | FW7: липень | FX7: серпень | FY7: вересень | FZ7: жовтень | GA7: Різниця між нарахуваннями та витратами,грн | GB7: Недовиконано, грн. | GC7: Перевиконано, грн. | GD7: Нараховано згідно тарифу, грн. | GE7: листопад | GF7: грудень | GG7: січень | GH7: лютий | GI7: березень | GJ7: квітень | GK7: травень | GL7: червень | GM7: липень | GN7: сервень | GO7: вересень | GP7: жовтень | GQ7: Фактично виконано, грн. | GR7: травень | GV7: Різниця між нарахуваннями та витратами,грн | GW7: Недовиконано, грн. | GX7: Перевиконано, грн. | GY7: Нараховано згідно тарифу, грн. | GZ7: листопад | HA7: грудень | HB7: січень | HC7: лютий | HD7: березень | HE7: квітень | HF7: травень | HG7: червень | HH7: липень | HI7: серпень | HJ7: вересень | HK7: жовтень | HL7: Фактично виконано, грн. | HM7: листопад | HN7: грудень | HO7: січень | HP7: лютий | HQ7: березень | HR7: квітень | HS7: травень | HT7: червень | HU7: липень | HV7: серпень | HW7: вересень | HX7: жовтень | HY7: Різниця між нарахуваннями та витратами,грн | HZ7: Недовиконано, грн. | IA7: Перевиконано, грн. | IB7: Нараховано згідно тарифу, грн. | IC7: листопад | ID7: грудень | IE7: січень | IF7: лютий | IG7: березень | IH7: квітень | II7: травень | IJ7: червень | IK7: липень | IL7: серпень | IM7: вересень | IN7: жовтень | IO7: Фактично виконано, грн. | IP7: листопад | IQ7: грудень | IR7: січень | IS7: лютий | IT7: березень | IU7: квітень | IV7: травень | IW7: червень | IX7: липень | IY7: серпень | IZ7: вересень | JA7: жовтень | JB7: Різниця між нарахуваннями та витратами,грн | JC7: Недовиконано, грн. | JD7: Перевиконано, грн. | JE7: Нараховано згідно тарифу, грн. | JF7: листопад | JG7: грудень | JH7: січень | JI7: лютий | JJ7: березень | JK7: квітень | JL7: травень | JM7: червень | JN7: липень | JO7: серпень | JP7: вересень | JQ7: жовтень | JR7: Фактично виконано, грн. | JS7: листопад | JT7: грудень | JU7: січень | JV7: лютий | JW7: березень | JX7: квітень | JY7: травень | JZ7: червень | KA7: липень | KB7: серпень | KC7: вересень | KD7: жовтень | KE7: Різниця між нарахуваннями та витратами,грн | KF7: Недовиконано, грн. | KG7: Перевиконано, грн. | KH7: Нараховано згідно тарифу, грн. | KI7: листопад | KJ7: грудень | KK7: січень | KL7: лютий | KM7: березень | KN7: квітень | KO7: травень | KP7: червень | KQ7: липень | KR7: серпень | KS7: вересень | KT7: жовтень | KU7: Фактично виконано, грн. | KV7: листопад | KW7: грудень | KX7: січень | KY7: лютий | KZ7: березень | LA7: квітень | LB7: травень | LC7: червень | LD7: липень | LE7: серпень | LF7: вересень | LG7: жовтень | LH7: Різниця між нарахуваннями та витратами,грн | LI7: Недовиконано, грн. | LJ7: Перевиконано, грн. | LK7: Нараховано згідно тарифу, грн. | LL7: січень | LM7: лютий | LN7: березень | LO7: квітень | LP7: травень | LQ7: червень | LR7: липень | LS7: серпень | LT7: вересень | LU7: жовтень | LV7: листопад | LW7: грудень | LX7: Фактично виконано, грн. | LY7: січень | LZ7: лютий | MA7: березень | MB7: квітень | MC7: травень | MD7: червень | ME7: липень | MF7: серпень | MG7: вересень | MH7: жовтень | MI7: листопад | MJ7: грудень | MK7: Різниця між нарахуваннями та витратами,грн | ML7: Недовиконано, грн. | MM7: Перевиконано, грн. | MN7: Нараховано згідно тарифу, грн. | MO7: листопад | MP7: грудень | MQ7: січень | MR7: лютий | MS7: березень | MT7: квітень | MU7: травень | MV7: червень | MW7: липень | MX7: серпень | MY7: вереснь | MZ7: жовтень | NA7: Фактично виконано, грн. | NB7: листопад | NC7: грудень | ND7: січень | NE7: лютий | NF7: березень | NG7: квітень | NH7: травень | NI7: червень | NJ7: липень | NK7: серпень | NL7: вересень | NM7: жовтень | NN7: Різниця між нарахуваннями та витратами,грн | NO7: Недовиконано, грн. | NP7: Перевиконано, грн. | NQ7: Нараховано | NR7: Фактично виконано | NS7: Різниця між нарахуванням та витратами | NT7: Недовиконано, грн. | NU7: Перевиконано, грн. | NV7: Нараховано згідно тарифу, грн. | NW7: листопад | NX7: грудень | NY7: січень | NZ7: лютий | OA7: березень | OB7: квітень | OC7: травень | OD7: червень | OE7: липень | OF7: серпень | OG7: вересень | OH7: жовтень | OI7: Фактично виконано, грн. | OJ7: листопад | OK7: грудень | OL7: січень | OM7: лютий | ON7: березень | OO7: квітень | OP7: травень | OQ7: червень | OR7: липень | OS7: серпень | OT7: вересень | OU7: жовтень | OV7: Різниця між нарахуваннями та витратами,грн | OW7: Недовиконано, грн. | OX7: Перевиконано, грн. | OY7: Нараховано згідно тарифу, грн. | OZ7: листопад | PA7: грудень | PB7: січень | PC7: лютий | PD7: березень | PE7: квітень | PF7: травень | PG7: червень | PH7: липень | PI7: серпень | PJ7: вересень | PK7: жовтень | PL7: Фактично виконано, грн. | PM7: листопад | PN7: грудень | PO7: січень | PP7: лютий | PQ7: березень | PR7: квітень | PS7: травень | PT7: червень | PU7: липень | PV7: серпень | PW7: вересень | PX7: жовтень | PY7: Різниця між нарахуваннями та витратами,грн | PZ7: Недовиконано, грн. | QA7: Перевиконано, грн. | QB7: Нараховано згідно тарифу, грн. | QC7: листопад | QD7: грудень | QE7: січень | QF7: лютий | QG7: березень | QH7: квітень | QI7: травень | QJ7: червень | QK7: липень | QL7: серпень | QM7: вересень | QN7: жовтень | QO7: Фактично виконано, грн. | QP7: листопад | QQ7: грудень | QR7: січень | QS7: лютий | QT7: березень | QU7: квітень | QV7: травень | QW7: червень | QX7: липень | QY7: серпень | QZ7: вересень | RA7: жовтень | RB7: Різниця між нарахуваннями та витратами,грн | RC7: Недовиконано, грн. | RD7: Перевиконано, грн. | RE7: Нараховано згідно тарифу, грн. | RF7: листопад | RG7: грудень | RH7: січень | RI7: лютий | RJ7: березень | RK7: квітень | RL7: травень | RM7: червень | RN7: липень | RO7: серпень | RP7: вересень | RQ7: жовтень | RR7: Фактично виконано, грн. | RS7: листопад | RT7: грудень | RU7: січень | RV7: лютий | RW7: березень | RX7: квітень | RY7: травень | RZ7: червень | SA7: липень | SB7: серпень | SC7: вересень | SD7: жовтень | SE7: Різниця між нарахуваннями та витратами,грн | SF7: Недовиконано, грн. | SG7: Перевиконано, грн. | SH7: Нараховано згідно тарифу, грн. | SI7: листопад | SJ7: грудень | SK7: січень | SL7: лютий | SM7: березень | SN7: квітень | SO7: травень | SP7: червень | SQ7: липень | SR7: серпень | SS7: вересень | ST7: жовтень | SU7: Фактично виконано, грн. | SV7: листопад | SW7: грудень | SX7: січень | SY7: лютий | SZ7: березень | TA7: квітень | TB7: травень | TC7: червень | TD7: липень | TE7: серпень | TF7: вересень | TG7: жовтень | TH7: Різниця між нарахуваннями та витратами,грн | TI7: Недовиконано, грн. | TJ7: Перевиконано, грн. | TK7: Нараховано згідно тарифу, грн. | TL7: листопад | TM7: грудень | TN7: січень | TO7: лютий | TP7: березень | TQ7: квітень | TR7: травень | TS7: червень | TT7: липень | TU7: серпень | TV7: вересень | TW7: жовтень | TX7: Фактично виконано, грн. | TY7: листопад | TZ7: грудень | UA7: січень | UB7: лютий | UC7: березень | UD7: квітень | UE7: травень | UF7: червень | UG7: липень | UH7: серпень | UI7: вересень | UJ7: жовтень | UK7: Різниця між нарахуваннями та витратами,грн | UL7: Недовиконано, грн. | UM7: Перевиконано, грн. | UN7: Нараховано згідно тарифу, грн. | UO7: листопад | UP7: грудень | UQ7: січень | UR7: лютий | US7: березень | UT7: квітень | UU7: травень | UV7: червень | UW7: липень | UX7: серпень | UY7: вересень | UZ7: жовтень | VA7: Фактично виконано, грн. | VB7: січень | VC7: лютий | VD7: березень | VE7: квітень | VF7: травень | VG7: червень | VH7: липень | VI7: серпень | VJ7: вересень | VK7: жовтень | VL7: листопад | VM7: грудень | VN7: Різниця між нарахуваннями та витратами,грн | VO7: Недовиконано, грн. | VP7: Перевиконано, грн. | VQ7: Нараховано згідно тарифу, грн. | VR7: січень | VS7: лютий | VT7: березень | VU7: квітень | VV7: травень | VW7: червень | VX7: липень | VY7: серпень | VZ7: вересень | WA7: жовтень | WB7: листопад | WC7: грудень | WD7: Фактично виконано, грн. | WE7: січень | WF7: лютий | WG7: березень | WH7: квітень | WI7: травень | WJ7: червень | WK7: липень | WL7: серпень | WM7: вересень | WN7: жовтень | WO7: листопад | WP7: грудень | WQ7: Різниця між нарахуваннями та витратами,грн | WR7: Недовиконано, грн. | WS7: Перевиконано, грн. | WT7: Нараховано згідно тарифу, грн. | WU7: листопад | WV7: грудень | WW7: січень | WX7: лютий | WY7: березень | WZ7: квітень | XA7: травень | XB7: червень | XC7: липень | XD7: серпень | XE7: вересень | XF7: жовтень | XG7: Фактично виконано, грн. | XH7: листопад | XI7: грудень | XJ7: січень | XK7: лютий | XL7: березень | XM7: квітень | XN7: травень | XO7: червень | XP7: липень | XQ7: серпень | XR7: вересень | XS7: жовтень | XT7: Різниця між нарахуваннями та витратами,грн | XU7: Недовиконано, грн. | XV7: Перевиконано, грн. | XW7: Нараховано згідно тароифу, грн. | XX7: листопад | XY7: грудень | XZ7: січень | YA7: лютий | YB7: березень | YC7: квітень | YD7: травень | YE7: червень | YF7: липень | YG7: серпень | YH7: вересень | YI7: жовтень | YJ7: Фактично виконано, грн. | YK7: листопад | YL7: грудень | YM7: січень | YN7: лютий | YO7: березень | YP7: квітень | YQ7: травень | YR7: червень | YS7: липень | YT7: серпень | YU7: вересень | YV7: жовтень | YW7: Різниця між нарахуваннями та витратами,грн | YX7: Недовиконано, грн. | YY7: Перевиконано, грн. | YZ7: Нараховано згідно тароифу, грн. | ZA7: листопад | ZB7: грудень | ZC7: січень | ZD7: лютий | ZE7: березень | ZF7: квітень | ZG7: травень | ZH7: червень | ZI7: липень | ZJ7: серпень | ZK7: вересень | ZL7: жовтень | ZM7: Фактично виконано, грн. | ZN7: листопад | ZO7: грудень | ZP7: січень | ZQ7: лютий | ZR7: березень | ZS7: квітень | ZT7: грудень | ZU7: січень | ZV7: лютий | ZZ7: Різниця між нарахуваннями та витратами,грн | AAA7: Недовиконано, грн. | AAB7: Перевиконано, грн. | AAC7: Нараховано згідно тароифу, грн. | AAD7: листопад | AAE7: грудень | AAF7: січень | AAG7: лютий | AAH7: березень | AAI7: квітень | AAJ7: травень | AAK7: червень | AAL7: липень | AAM7: серпень | AAN7: вересень | AAO7: жовтень | AAP7: Фактично виконано, грн. | AAQ7: листопад | AAR7: грудень | AAS7: січень | AAT7: лютий | AAU7: березень | AAV7: квітень | AAW7: травень | AAX7: червень | AAY7: липень | AAZ7: серпень | ABA7: вересень | ABB7: жовтень | ABC7: Різниця між нарахуваннями та витратами,грн | ABD7: Недовиконано, грн. | ABE7: Перевиконано, грн. | ABF7: Нараховано згідно тароифу, грн. | ABG7: листопад | ABH7: грудень | ABI7: січень | ABJ7: лютий | ABK7: березень | ABL7: квітень | ABM7: травень | ABN7: червень | ABO7: липень | ABP7: серпень | ABQ7: вересень | ABR7: жовтень | ABS7: Фактично виконано, грн. | ABT7: листопад | ABU7: грудень | ABV7: січень | ABW7: лютий | ABX7: березень | ABY7: квітень | ABZ7: травень | ACA7: червень | ACB7: липень | ACC7: серпень | ACD7: вересень | ACE7: жовтень | ACF7: Різниця між нарахуваннями та витратами,грн | ACG7: Недовиконано, грн. | ACH7: Перевиконано, грн. | ACI7: Нараховано | ACJ7: Фактично виконано | ACK7: Різниця між нарахуванням та витратами | ACL7: Недовиконано, грн. | ACM7: Перевиконано, грн. | ACN7: Нараховано згідно тароифу, грн. | ACO7: листопад | ACP7: грудень | ACQ7: січень | ACR7: лютий | ACS7: березень | ACT7: квітень | ACU7: травень | ACV7: червень | ACW7: липень | ACX7: серпень | ACY7: вересень | ACZ7: жовтень | ADA7: Фактично виконано, грн. | ADB7: листопад | ADC7: грудень | ADD7: січень | ADE7: лютий | ADF7: березень | ADG7: квітень | ADH7: травень | ADI7: червень | ADJ7: липень | ADK7: серпень | ADL7: вересень | ADM7: жовтень | ADN7: Різниця між нарахуваннями та витратами,грн | ADO7: Недовиконано, грн. | ADP7: Перевиконано, грн. | ADQ7: Нараховано згідно тароифу, грн. | ADR7: листопад | ADS7: грудень | ADT7: січень | ADU7: лютий | ADV7: березень | ADW7: квітень | ADX7: травень | ADY7: червень | ADZ7: липень | AEA7: серпень | AEB7: вересень | AEC7: жовтень | AED7: Фактично виконано, грн. | AEE7: листопад | AEF7: грудень | AEG7: січень | AEH7: лютий | AEI7: березень | AEJ7: квітень | AEK7: травень | AEL7: червень | AEM7: липень | AEN7: серпень | AEO7: вересень | AEP7: жовтень | AEQ7: Різниця між нарахуваннями та витратами,грн | AER7: Недовиконано, грн. | AES7: Перевиконано, грн. | AET7: Нараховано згідно тароифу, грн. | AEU7: листопад | AEV7: грудень | AEW7: січень | AEX7: лютий | AEY7: березень | AEZ7: квітень | AFA7: травень | AFB7: червень | AFC7: липень | AFD7: серпень | AFE7: вересень | AFF7: жовтень | AFG7: Фактично виконано, грн. | AFH7: листопад | AFI7: грудень | AFJ7: січень | AFK7: лютий | AFL7: березень | AFM7: квітень | AFN7: травень | AFO7: червень | AFP7: липень | AFQ7: серпень | AFR7: вересень | AFT7: Різниця між нарахуваннями та витратами,грн | AFU7: Недовиконано, грн. | AFV7: Перевиконано, грн. | AFW7: Нарахування | AFX7: Витрати | AFY7: Різниця між нарахуванням та витратами | AFZ7: Недовиконано, грн. | AGA7: Перевиконано, грн. | AGB7: Нарахування | AGC7: Витрати | AGD7: Різниця між нарахуванням та витратами | AGE7: Недовиконано, грн. | AGF7: Перевиконано, грн. | AGG7: Нарахування | AGH7: Витрати | AGI7: Різниця між нарахуванням та витратами | AGJ7: Недовиконано, грн. | AGK7: Перевиконано, грн. | AGL7: Нарахування | AGM7: Витрати | AGN7: Різниця між нарахуванням та витратами | AGO7: Недовиконано, грн. | AGP7: Перевиконано, грн.
A8: 438 | B8: 3 | C8: Олександра Довгача вул. 1 | D8: 5 | E8: 2075.78 | F8: =K8+AN8+BQ8+CT8+DW8+FA8+GD8+GY8 -> 29867.52 | G8: =X8+BA8+CD8+DG8+EK8+FN8+GQ8+HL8 -> 43485.188 | H8: =G8-F8 -> 13617.668 | I8: =IF(H8<0,H8,0) -> 0 | J8: =IF(H8>0,H8,0) -> 13617.668 | K8: =SUM(L8:W8) -> 12256.52 | L8: 1080.86 | M8: 1080.86 | N8: 1080.86 | O8: 1080.86 | P8: 1080.86 | Q8: 1080.86 | R8: 1442.84 | S8: 1442.84 | T8: 1442.84 | U8: 1442.84 | X8: =SUM(Y8:AJ8) -> 15007.719 | Y8: 0 | Z8: 0 | AA8: 6873.337 | AB8: 0 | AC8: 0 | AD8: 0 | AE8: 0 | AF8: 0 | AG8: 8134.3819 | AH8: 0 | AL8: =IF(AK8<0,AK8,0) -> 0 | AM8: =IF(AK8>0,AK8,0) -> 0 | AN8: =SUM(AO8:AZ8) -> 2647.2 | AO8: 232.9 | AP8: 232.9 | AQ8: 232.9 | AR8: 232.9 | AS8: 232.9 | AT8: 232.9 | AU8: 312.45 | AV8: 312.45 | AW8: 312.45 | AX8: 312.45 | BA8: =SUM(BB8:BM8) -> 3313.8934 | BB8: 0 | BC8: 0 | BD8: 1517.7167 | BE8: 0 | BF8: 0 | BG8: 0 | BH8: 0 | BI8: 0 | BJ8: 1796.1767 | BK8: 0 | BO8: =IF(BN8<0,BN8,0) -> 0 | BP8: =IF(BN8>0,BN8,0) -> 0 | BQ8: =SUM(BR8:CC8) -> 1073.74 | BR8: 102.13 | BS8: 102.13 | BT8: 102.13 | BU8: 102.13 | BV8: 102.13 | BW8: 102.13 | BX8: 115.24 | BY8: 115.24 | BZ8: 115.24 | CA8: 115.24 | CD8: =SUM(CE8:CP8) -> 1147.9616 | CE8: 118.7786 | CF8: 116.13345 | CG8: 115.86076 | CH8: 115.2732 | CI8: 115.80447 | CJ8: 115.80723 | CK8: 113.10646 | CL8: 112.22283 | CM8: 111.41094 | CN8: 113.56369 | CR8: =IF(CQ8<0,CQ8,0) -> 0 | CS8: =IF(CQ8>0,CQ8,0) -> 0 | CT8: =SUM(CU8:DF8) -> 265.92 | CU8: 25.32 | CV8: 25.32 | CW8: 25.32 | CX8: 25.32 | CY8: 25.32 | CZ8: 25.32 | DA8: 28.5 | DB8: 28.5 | DC8: 28.5 | DD8: 28.5 | DG8: =SUM(DH8:DS8) -> 285.02202 | DH8: 29.490983 | DI8: 28.834232 | DJ8: 28.766525 | DK8: 28.620643 | DL8: 28.75255 | DM8: 28.753235 | DN8: 28.082675 | DO8: 27.863281 | DP8: 27.661701 | DQ8: 28.196198 | DT8: =DG8-CT8 -> 19.102024 | DU8: =IF(DT8<0,DT8,0) -> 0 | DV8: =IF(DT8>0,DT8,0) -> 19.102024 | DW8: =SUM(DX8:EI8) -> 582.22 | DX8: 51.27 | DY8: 51.27 | DZ8: 51.27 | EA8: 51.27 | EB8: 51.27 | EC8: 51.27 | ED8: 68.65 | EE8: 68.65 | EF8: 68.65 | EG8: 68.65 | EK8: =SUM(EL8:EW8) -> 723.73991 | EL8: 0 | EM8: 0 | EN8: 331.46579 | EO8: 0 | EP8: 0 | EQ8: 0 | ER8: 0 | ES8: 0 | ET8: 392.27411 | EU8: 0 | EX8: =EK8-DW8 -> 141.51991 | EY8: =IF(EX8<0,EX8,0) -> 0 | EZ8: =IF(EX8>0,EX8,0) -> 141.51991 | FA8: =SUM(FB8:FM8) -> 5188.44 | FB8: 456.46 | FC8: 456.46 | FD8: 456.46 | FE8: 456.46 | FF8: 456.46 | FG8: 456.46 | FH8: 612.42 | FI8: 612.42 | FJ8: 612.42 | FK8: 612.42 | FN8: =SUM(FO8:FZ8) -> 6500.4398 | FO8: 0 | FP8: 0 | FQ8: 0 | FR8: 3020.8999 | FS8: 0 | FT8: 0 | FU8: 0 | FV8: 0 | FW8: 3479.5399 | FX8: 0 | GA8: =FN8-FA8 -> 1311.9998 | GB8: =IF(GA8<0,GA8,0) -> 0 | GC8: =IF(GA8>0,GA8,0) -> 1311.9998 | GD8: =SUM(GE8:GP8) -> 0 | GQ8: =GR8+GS8+GT8+GU8 -> 0 | GR8: 0 | GS8: =VLOOKUP(C8,'[2]Фін.рез.(витрати)'!$C$8:$V$94,20,0) -> 0 | GV8: =GQ8-GD8 -> 0 | GW8: =IF(GV8<0,GV8,0) -> 0 | GX8: =IF(GV8>0,GV8,0) -> 0 | GY8: =SUM(GZ8:HK8) -> 7853.48 | GZ8: 696.22 | HA8: 696.22 | HB8: 696.22 | HC8: 696.22 | HD8: 696.22 | HE8: 696.22 | HF8: 919.04 | HG8: 919.04 | HH8: 919.04 | HI8: 919.04 | HL8: =SUM(HM8:HX8) -> 16506.413 | HM8: 2086.6133 | HN8: 2349.9212 | HO8: 2977.1543 | HP8: 1041.4362 | HQ8: 961.70198 | HR8: 3374.5717 | HS8: 884.04412 | HT8: 878.86425 | HU8: 987.94418 | HV8: 964.16158 | HY8: =HL8-GY8 -> 8652.9328 | HZ8: =IF(HY8<0,HY8,0) -> 0 | IA8: =IF(HY8>0,HY8,0) -> 8652.9328 | IB8: =SUM(IC8:IN8) -> 0 | IC8: 0 | ID8: 0 | IE8: 0 | IF8: 0 | IG8: 0 | IH8: 0 | II8: 0 | IJ8: 0 | IK8: 0 | IL8: 0 | IO8: =SUM(IP8:JA8) -> 0 | IP8: 0 | IQ8: 0 | IR8: 0 | IS8: 0 | IT8: 0 | IU8: 0 | IV8: 0 | IW8: 0 | IX8: 0 | IY8: 0 | JB8: =IO8-IB8 -> 0 | JC8: =IF(JB8<0,JB8,0) -> 0 | JD8: =IF(JB8>0,JB8,0) -> 0 | JE8: =SUM(JF8:JQ8) -> 0 | JF8: 0 | JG8: 0 | JH8: 0 | JI8: 0 | JJ8: 0 | JK8: 0 | JL8: 0 | JM8: 0 | JN8: 0 | JO8: 0 | JR8: =SUM(JS8:KD8) -> 0 | JS8: 0 | JT8: 0 | JU8: 0 | JV8: 0 | JW8: 0 | JX8: 0 | JY8: 0 | JZ8: 0 | KA8: 0 | KB8: 0 | KE8: =JR8-JE8 -> 0 | KF8: =IF(KE8<0,KE8,0) -> 0 | KG8: =IF(KE8>0,KE8,0) -> 0 | KH8: =SUM(KI8:KT8) -> 3485.42 | KI8: 306.59 | KJ8: 306.59 | KK8: 306.59 | KL8: 306.59 | KM8: 306.59 | KN8: 306.59 | KO8: 411.47 | KP8: 411.47 | KQ8: 411.47 | KR8: 411.47 | KU8: =SUM(KV8:LG8) -> 4860.3947 | KV8: 417.70274 | KW8: 446.61555 | KX8: 443.79665 | KY8: 422.06794 | KZ8: 440.32111 | LA8: 566.70158 | LB8: 525.94785 | LC8: 522.25556 | LD8: 538.59922 | LE8: 536.3865 | LH8: =KU8-KH8 -> 1374.9747 | LI8: =IF(LH8<0,LH8,0) -> 0 | LJ8: =IF(LH8>0,LH8,0) -> 1374.9747 | LK8: =SUM(LL8:LW8) -> 0 | LX8: =SUM(LY8:MJ8) -> 0 | MJ8: 0 | ML8: =IF(MK8<0,MK8,0) -> 0 | MM8: =IF(MK8>0,MK8,0) -> 0 | MN8: =SUM(MO8:MZ8) -> 29607.48 | MO8: 3005.52 | MP8: 3005.52 | MQ8: 3005.52 | MR8: 3005.52 | MS8: 3005.52 | MT8: 3005.52 | MU8: 2893.59 | MV8: 2893.59 | MW8: 2893.59 | MX8: 2893.59 | NA8: =SUM(NB8:NM8) -> 8659.53 | NB8: 0 | NC8: 0 | ND8: 0 | NE8: 1449.5307 | NF8: 0 | NG8: 860.47652 | NH8: 0 | NI8: 0 | NJ8: 0 | NK8: 6349.5227 | NN8: =NA8-MN8 -> -20947.95 | NO8: =IF(NN8<0,NN8,0) -> -20947.95 | NP8: =IF(NN8>0,NN8,0) -> 0 | NQ8: =NV8+OY8+QB8+RE8+SH8+TK8+UN8 -> 17864.1 | NR8: =OI8+PL8+QO8+RR8+SU8+TX8+VA8 -> 35252.15 | NS8: =NR8-NQ8 -> 17388.05 | NT8: =IF(NS8<0,NS8,0) -> 0 | NU8: =IF(NS8>0,NS8,0) -> 17388.05 | NV8: =SUM(NW8:OH8) -> 4146.9 | NW8: 375.51 | NX8: 375.51 | NY8: 375.51 | NZ8: 375.51 | OA8: 375.51 | OB8: 375.51 | OC8: 473.46 | OD8: 473.46 | OE8: 473.46 | OF8: 473.46 | OI8: =SUM(OJ8:OU8) -> 22341.1 | OJ8: 0 | OK8: 13651.57 | OL8: 2514.6 | ON8: 0 | OO8: 0 | OP8: 0 | OQ8: 3662.4 | OR8: 0 | OS8: 2512.53 | OV8: =OI8-NV8 -> 18194.2 | OW8: =IF(OV8<0,OV8,0) -> 0 | OX8: =IF(OV8>0,OV8,0) -> 18194.2 | OY8: =SUM(OZ8:PK8) -> 6314.06 | OZ8: 601.77 | PA8: 601.77 | PB8: 601.77 | PC8: 601.77 | PD8: 601.77 | PE8: 601.77 | PF8: 675.86 | PG8: 675.86 | PH8: 675.86 | PI8: 675.86 | PL8: =SUM(PM8:PX8) -> 12911.05 | PM8: 0 | PN8: 0 | PO8: 0 | PP8: 0 | PQ8: 0 | PR8: 0 | PS8: 0 | PT8: 0 | PU8: 12911.05 | PV8: 0 | PY8: =PL8-OY8 -> 6596.99 | PZ8: =IF(PY8<0,PY8,0) -> 0 | QA8: =IF(PY8>0,PY8,0) -> 6596.99 | QB8: =SUM(QC8:QN8) -> 736.82 | QC8: 65.39 | QD8: 65.39 | QE8: 65.39 | QF8: 65.39 | QG8: 65.39 | QH8: 65.39 | QI8: 86.12 | QJ8: 86.12 | QK8: 86.12 | QL8: 86.12 | QO8: =SUM(QP8:RA8) -> 0 | QP8: 0 | QQ8: 0 | QR8: 0 | QT8: 0 | QW8: 0 | QY8: 0 | RB8: =QO8-QB8 -> -736.82 | RC8: =IF(RB8<0,RB8,0) -> -736.82 | RD8: =IF(RB8>0,RB8,0) -> 0 | RE8: =SUM(RF8:RQ8) -> 3191.46 | RF8: 290.19 | RG8: 290.19 | RH8: 290.19 | RI8: 290.19 | RJ8: 290.19 | RK8: 290.19 | RL8: 362.58 | RM8: 362.58 | RN8: 362.58 | RO8: 362.58 | RR8: =SUM(RS8:SD8) -> 0 | RS8: 0 | RU8: 0 | RV8: 0 | RW8: 0 | RX8: 0 | RZ8: 0 | SA8: 0 | SB8: 0 | SE8: =RR8-RE8 -> -3191.46 | SF8: =IF(SE8<0,SE8,0) -> -3191.46 | SG8: =IF(SE8>0,SE8,0) -> 0 | SH8: =SUM(SI8:ST8) -> 1985.86 | SI8: 188.69 | SJ8: 188.69 | SK8: 188.69 | SL8: 188.69 | SM8: 188.69 | SN8: 188.69 | SO8: 213.43 | SP8: 213.43 | SQ8: 213.43 | SR8: 213.43 | SU8: =SUM(SV8:TG8) -> 0 | SV8: 0 | SW8: 0 | SX8: 0 | SY8: 0 | SZ8: 0 | TC8: 0 | TD8: 0 | TE8: =VLOOKUP(C8,'[2]Фін.рез.(витрати)'!$C$8:$AH$94,32,0) -> 0 | TH8: =SU8-SH8 -> -1985.86 | TI8: =IF(TH8<0,TH8,0) -> -1985.86 | TJ8: =IF(TH8>0,TH8,0) -> 0 | TK8: =SUM(TL8:TW8) -> 1489 | TL8: 131.4 | TM8: 131.4 | TN8: 131.4 | TO8: 131.4 | TP8: 131.4 | TQ8: 131.4 | TR8: 175.15 | TS8: 175.15 | TT8: 175.15 | TU8: 175.15 | TX8: =SUM(TY8:UJ8) -> 0 | TY8: 0 | TZ8: 0 | UA8: 0 | UB8: 0 | UC8: 0 | UD8: 0 | UE8: 0 | UF8: 0 | UG8: 0 | UH8: =VLOOKUP(C8,'[2]Фін.рез.(витрати)'!$C$8:$AI$94,33,0) -> 0 | UK8: =TX8-TK8 -> -1489 | UL8: =IF(UK8<0,UK8,0) -> -1489 | UM8: =IF(UK8>0,UK8,0) -> 0 | UN8: =SUM(UO8:UZ8) -> 0 | UO8: 0 | UP8: 0 | UQ8: 0 | UR8: 0 | US8: 0 | UT8: 0 | UU8: 0 | UV8: 0 | UW8: 0 | UX8: 0 | VA8: =SUM(VB8:VM8) -> 0 | VN8: =VA8-UN8 -> 0 | VO8: =IF(VN8<0,VN8,0) -> 0 | VP8: =IF(VN8>0,VN8,0) -> 0 | VQ8: =SUM(VR8:WC8) -> 0 | WD8: =SUM(WE8:WP8) -> 0 | WQ8: =WD8-VQ8 -> 0 | WR8: =IF(WQ8<0,WQ8,0) -> 0 | WS8: =IF(WQ8>0,WQ8,0) -> 0 | WT8: =SUM(WU8:XF8) -> 52011.8 | WU8: 4438.02 | WV8: 4438.02 | WW8: 4438.02 | WX8: 4438.02 | WY8: 4438.02 | WZ8: 4438.02 | XA8: 6345.92 | XB8: 6345.92 | XC8: 6345.92 | XD8: 6345.92 | XG8: =SUM(XH8:XS8) -> 56026.889 | XH8: 5914.7469 | XI8: 6057.8834 | XK8: 4993.939 | XL8: 5308.4652 | XM8: 6974.5535 | XN8: 5022.8185 | XO8: 7278.9202 | XP8: 6286.8722 | XQ8: =VLOOKUP(C8,'[2]Фін.рез.(витрати)'!$C$8:$AL$94,36,0) -> 8188.6906 | XT8: =XG8-WT8 -> 4015.0894 | XU8: =IF(XT8<0,XT8,0) -> 0 | XV8: =IF(XT8>0,XT8,0) -> 4015.0894 | XW8: =SUM(XX8:YI8) -> 8777.3 | XX8: 778.63 | XY8: 778.63 | XZ8: 778.63 | YA8: 778.63 | YB8: 778.63 | YC8: 778.63 | YD8: 1026.38 | YE8: 1026.38 | YF8: 1026.38 | YG8: 1026.38 | YJ8: =YK8+YL8+YM8+YN8+YO8+YV8+YP8+YU8+YQ8+YR8+YS8+YT8 -> 9447.2505 | YK8: 1129.9448 | YL8: 849.67354 | YM8: 869.5967 | YN8: 845.63923 | YO8: 834.05895 | YP8: 1088.0766 | YQ8: 773.38592 | YR8: 1032.3259 | YS8: 998.95559 | YT8: =VLOOKUP(C8,'[2]Фін.рез.(витрати)'!$C$8:$AM$94,37,0) -> 1025.5933 | YW8: =YJ8-XW8 -> 669.95053 | YX8: =IF(YW8<0,YW8,0) -> 0 | YY8: =IF(YW8>0,YW8,0) -> 669.95053 | YZ8: =SUM(ZA8:ZL8) -> 4150.86 | ZA8: 392.95 | ZB8: 392.95 | ZC8: 392.95 | ZD8: 392.95 | ZE8: 392.95 | ZF8: 392.95 | ZG8: 448.29 | ZH8: 448.29 | ZI8: 448.29 | ZJ8: 448.29 | ZM8: =SUM(ZN8:ZY8) -> 11338.528 | ZO8: 1138.4335 | ZP8: 8149.008 | ZQ8: 2051.0869 | ZZ8: =ZM8-YZ8 -> 7187.6684 | AAA8: =IF(ZZ8<0,ZZ8,0) -> 0 | AAB8: =IF(ZZ8>0,ZZ8,0) -> 7187.6684 | AAC8: =SUM(AAD8:AAO8) -> 1105.28 | AAD8: 109.6 | AAE8: 109.6 | AAF8: 109.6 | AAG8: 109.6 | AAH8: 109.6 | AAI8: 109.6 | AAJ8: 111.92 | AAK8: 111.92 | AAL8: 111.92 | AAM8: 111.92 | AAP8: =SUM(AAQ8:ABB8) -> 1504.5204 | AAQ8: 155.67143 | AAR8: 152.20469 | AAS8: 151.84729 | AAT8: 151.07724 | AAU8: 151.77352 | AAV8: 151.7772 | AAW8: 148.23751 | AAX8: 147.07942 | AAY8: 146.01536 | AAZ8: =VLOOKUP(C8,'[2]Фін.рез.(витрати)'!$C$8:$AO$94,39,0) -> 148.83676 | ABC8: =AAP8-AAC8 -> 399.24043 | ABD8: =IF(ABC8<0,ABC8,0) -> 0 | ABE8: =IF(ABC8>0,ABC8,0) -> 399.24043 | ABF8: =SUM(ABG8:ABR8) -> 244.58 | ABG8: 24.25 | ABH8: 24.25 | ABI8: 24.25 | ABJ8: 24.25 | ABK8: 24.25 | ABL8: 24.25 | ABM8: 24.77 | ABN8: 24.77 | ABO8: 24.77 | ABP8: 24.77 | ABS8: =SUM(ABT8:ACE8) -> 0 | ABT8: 0 | ACA8: 0 | ACB8: 0 | ACC8: =VLOOKUP(C8,'[2]Фін.рез.(витрати)'!$C$8:$AP$94,40,0) -> 0 | ACF8: =ABS8-ABF8 -> -244.58 | ACG8: =IF(ACF8<0,ACF8,0) -> -244.58 | ACH8: =IF(ACF8>0,ACF8,0) -> 0 | ACI8: =ACN8+ADQ8 -> 0 | ACJ8: =ADA8+AED8 -> 3975.9534 | ACK8: =ACJ8-ACI8 -> 3975.9534 | ACL8: =IF(ACK8<0,ACK8,0) -> 0 | ACM8: =IF(ACK8>0,ACK8,0) -> 3975.9534 | ACN8: =SUM(ACO8:ACZ8) -> 0 | ACO8: 0 | ACP8: 0 | ACQ8: 0 | ACR8: 0 | ACS8: 0 | ACT8: 0 | ACU8: 0 | ACV8: 0 | ACW8: 0 | ACX8: 0 | ADA8: =SUM(ADB8:ADM8) -> 3975.9534 | ADB8: 406.40298 | ADC8: 409.64181 | ADD8: 408.67992 | ADE8: 370.01273 | ADF8: 408.48137 | ADG8: 396.23637 | ADH8: 398.9646 | ADI8: 383.97229 | ADJ8: 392.98392 | ADK8: =VLOOKUP(C8,'[2]Фін.рез.(витрати)'!$C$8:$AR$94,42,0) -> 400.5774 | ADN8: =ADA8-ACN8 -> 3975.9534 | ADO8: =IF(ADN8<0,ADN8,0) -> 0 | ADP8: =IF(ADN8>0,ADN8,0) -> 3975.9534 | ADQ8: =SUM(ADR8:AEC8) -> 0 | ADR8: 0 | ADS8: 0 | ADT8: 0 | ADU8: 0 | ADV8: 0 | ADW8: 0 | ADX8: 0 | ADY8: 0 | ADZ8: 0 | AEA8: 0 | AED8: =SUM(AEE8:AEP8) -> 0 | AEE8: 0 | AEF8: 0 | AEG8: 0 | AEH8: 0 | AEI8: 0 | AEJ8: 0 | AEK8: 0 | AEL8: 0 | AEM8: 0 | AEN8: =VLOOKUP(C8,'[2]Фін.рез.(витрати)'!$C$8:$AS$94,43,0) -> 0 | AEQ8: =AED8-ADQ8 -> 0 | AER8: =IF(AEQ8<0,AEQ8,0) -> 0 | AES8: =IF(AEQ8>0,AEQ8,0) -> 0 | AET8: =SUM(AEU8:AFF8) -> 0 | AFG8: =SUM(AFH8:AFS8) -> 0 | AFT8: =AFG8-AET8 -> 0 | AFU8: =IF(AFT8<0,AFT8,0) -> 0 | AFV8: =IF(AFT8>0,AFT8,0) -> 0 | AFW8: =F8+IB8+JE8+KH8+LK8+MN8+NQ8+VQ8+WT8+XW8+YZ8+AAC8+ABF8+ACI8+AET8 -> 147114.34 | AFX8: =G8+IO8+JR8+KU8+LX8+NA8+NR8+WD8+XG8+YJ8+ZM8+AAP8+ABS8+ACJ8+AFG8 -> 174550.41 | AFY8: =AFX8-AFW8 -> 27436.065 | AFZ8: =IF(AFY8<0,AFY8,0) -> 0 | AGA8: =IF(AFY8>0,AFY8,0) -> 27436.065 | AGB8: =AFW8*1.2 -> 176537.21 | AGC8: =AFX8*1.2 -> 209460.49 | AGD8: =AGC8-AGB8 -> 32923.278 | AGE8: =IF(AGD8<0,AGD8,0) -> 0 | AGF8: =IF(AGD8>0,AGD8,0) -> 32923.278 | AGG8: =AGB8*AGS8 -> 8826.8604 | AGH8: =AGC8*AGS8 -> 10473.024 | AGI8: =AGH8-AGG8 -> 1646.1639 | AGJ8: =IF(AGI8<0,AGI8,0) -> 0 | AGK8: =IF(AGI8>0,AGI8,0) -> 1646.1639 | AGL8: =AGB8+AGG8 -> 185364.07 | AGM8: =AGC8+AGH8 -> 219933.51 | AGN8: =AGM8-AGL8 -> 34569.442 | AGO8: =IF(AGN8<0,AGN8,0) -> 0 | AGP8: =IF(AGN8>0,AGN8,0) -> 34569.442 | AGQ8: =#REF!/#REF! -> #REF! | AGS8: 0.05
A9: 439 | B9: 3 | C9: Олександра Довгача вул. 3 | D9: 5 | E9: 1978.61 | F9: =K9+AN9+BQ9+CT9+DW9+FA9+GD9+GY9 -> 30540.38 | G9: =X9+BA9+CD9+DG9+EK9+FN9+GQ9+HL9 -> 41963.385 | H9: =G9-F9 -> 11423.005 | I9: =IF(H9<0,H9,0) -> 0 | J9: =IF(H9>0,H9,0) -> 11423.005 | K9: =SUM(L9:W9) -> 11851.54 | L9: 1044.91 | M9: 1044.91 | N9: 1044.91 | O9: 1044.91 | P9: 1044.91 | Q9: 1044.91 | R9: 1395.52 | S9: 1395.52 | T9: 1395.52 | U9: 1395.52 | X9: =SUM(Y9:AJ9) -> 14908.91 | Y9: 0 | Z9: 0 | AA9: 0 | AB9: 6716.3647 | AC9: 0 | AD9: 0 | AE9: 0 | AF9: 0 | AG9: 0 | AH9: 8192.5448 | AL9: =IF(AK9<0,AK9,0) -> 0 | AM9: =IF(AK9>0,AK9,0) -> 0 | AN9: =SUM(AO9:AZ9) -> 2315.8 | AO9: 203.8 | AP9: 203.8 | AQ9: 203.8 | AR9: 203.8 | AS9: 203.8 | AT9: 203.8 | AU9: 273.25 | AV9: 273.25 | AW9: 273.25 | AX9: 273.25 | BA9: =SUM(BB9:BM9) -> 2959.4283 | BB9: 0 | BC9: 0 | BD9: 0 | BE9: 1333.1988 | BF9: 0 | BG9: 0 | BH9: 0 | BI9: 0 | BJ9: 0 | BK9: 1626.2295 | BO9: =IF(BN9<0,BN9,0) -> 0 | BP9: =IF(BN9>0,BN9,0) -> 0 | BQ9: =SUM(BR9:CC9) -> 1100.5 | BR9: 104.67 | BS9: 104.67 | BT9: 104.67 | BU9: 104.67 | BV9: 104.67 | BW9: 104.67 | BX9: 118.12 | BY9: 118.12 | BZ9: 118.12 | CA9: 118.12 | CD9: =SUM(CE9:CP9) -> 1176.6438 | CE9: 121.74632 | CF9: 119.03508 | CG9: 118.75557 | CH9: 118.15333 | CI9: 118.69788 | CJ9: 118.70071 | CK9: 115.93246 | CL9: 115.02675 | CM9: 114.19458 | CN9: 116.40112 | CR9: =IF(CQ9<0,CQ9,0) -> 0 | CS9: =IF(CQ9>0,CQ9,0) -> 0 | CT9: =SUM(CU9:DF9) -> 277.9 | CU9: 26.47 | CV9: 26.47 | CW9: 26.47 | CX9: 26.47 | CY9: 26.47 | CZ9: 26.47 | DA9: 29.77 | DB9: 29.77 | DC9: 29.77 | DD9: 29.77 | DG9: =SUM(DH9:DS9) -> 298.51951 | DH9: 30.887557 | DI9: 30.199704 | DJ9: 30.128792 | DK9: 29.976001 | DL9: 30.114154 | DM9: 30.114872 | DN9: 29.412557 | DO9: 29.182774 | DP9: 28.971648 | DQ9: 29.531456 | DT9: =DG9-CT9 -> 20.619515 | DU9: =IF(DT9<0,DT9,0) -> 0 | DV9: =IF(DT9>0,DT9,0) -> 20.619515 | DW9: =SUM(DX9:EI9) -> 582.1 | DX9: 51.25 | DY9: 51.25 | DZ9: 51.25 | EA9: 51.25 | EB9: 51.25 | EC9: 51.25 | ED9: 68.65 | EE9: 68.65 | EF9: 68.65 | EG9: 68.65 | EK9: =SUM(EL9:EW9) -> 744.51414 | EL9: 0 | EM9: 0 | EN9: 0 | EO9: 335.39951 | EP9: 0 | EQ9: 0 | ER9: 0 | ES9: 0 | ET9: 0 | EU9: 409.11463 | EX9: =EK9-DW9 -> 162.41414 | EY9: =IF(EX9<0,EX9,0) -> 0 | EZ9: =IF(EX9>0,EX9,0) -> 162.41414 | FA9: =SUM(FB9:FM9) -> 4806 | FB9: 422.82 | FC9: 422.82 | FD9: 422.82 | FE9: 422.82 | FF9: 422.82 | FG9: 422.82 | FH9: 567.27 | FI9: 567.27 | FJ9: 567.27 | FK9: 567.27 | FN9: =SUM(FO9:FZ9) -> 6763.5242 | FO9: 0 | FP9: 0 | FQ9: 321.07484 | FR9: 2791.447 | FS9: 0 | FT9: 320.92664 | FU9: 0 | FV9: 0 | FW9: 0 | FX9: 3330.0757 | GA9: =FN9-FA9 -> 1957.5242 | GB9: =IF(GA9<0,GA9,0) -> 0 | GC9: =IF(GA9>0,GA9,0) -> 1957.5242 | GD9: =SUM(GE9:GP9) -> 0 | GQ9: =GR9+GS9+GT9+GU9 -> 0 | GR9: 0 | GS9: =VLOOKUP(C9,'[2]Фін.рез.(витрати)'!$C$8:$V$94,20,0) -> 0 | GV9: =GQ9-GD9 -> 0 | GW9: =IF(GV9<0,GV9,0) -> 0 | GX9: =IF(GV9>0,GV9,0) -> 0 | GY9: =SUM(GZ9:HK9) -> 9606.54 | GZ9: 850.01 | HA9: 850.01 | HB9: 850.01 | HC9: 850.01 | HD9: 850.01 | HE9: 850.01 | HF9: 1126.62 | HG9: 1126.62 | HH9: 1126.62 | HI9: 1126.62 | HL9: =SUM(HM9:HX9) -> 15111.845 | HM9: 1234.3908 | HN9: 2305.1338 | HO9: 1071.3579 | HP9: 2610.7024 | HQ9: 916.68344 | HR9: 914.50207 | HS9: 842.66085 | HT9: 3355.6888 | HU9: 941.69721 | HV9: 919.0279 | HY9: =HL9-GY9 -> 5505.3052 | HZ9: =IF(HY9<0,HY9,0) -> 0 | IA9: =IF(HY9>0,HY9,0) -> 5505.3052 | IB9: =SUM(IC9:IN9) -> 0 | IC9: 0 | ID9: 0 | IE9: 0 | IF9: 0 | IG9: 0 | IH9: 0 | II9: 0 | IO9: =SUM(IP9:JA9) -> 0 | IP9: 0 | IQ9: 0 | IR9: 0 | IS9: 0 | IT9: 0 | IU9: 0 | IV9: 0 | IW9: 0 | IX9: 0 | IY9: 0 | JB9: =IO9-IB9 -> 0 | JC9: =IF(JB9<0,JB9,0) -> 0 | JD9: =IF(JB9>0,JB9,0) -> 0 | JE9: =SUM(JF9:JQ9) -> 0 | JF9: 0 | JG9: 0 | JH9: 0 | JI9: 0 | JJ9: 0 | JK9: 0 | JL9: 0 | JM9: 0 | JN9: 0 | JO9: 0 | JR9: =SUM(JS9:KD9) -> 0 | JS9: 0 | JT9: 0 | JU9: 0 | JV9: 0 | JW9: 0 | JX9: 0 | JY9: 0 | JZ9: 0 | KA9: 0 | KB9: 0 | KE9: =JR9-JE9 -> 0 | KF9: =IF(KE9<0,KE9,0) -> 0 | KG9: =IF(KE9>0,KE9,0) -> 0 | KH9: =SUM(KI9:KT9) -> 3485.54 | KI9: 306.69 | KJ9: 306.69 | KK9: 306.69 | KL9: 306.69 | KM9: 306.69 | KN9: 306.69 | KO9: 411.35 | KP9: 411.35 | KQ9: 411.35 | KR9: 411.35 | KU9: =SUM(KV9:LG9) -> 4860.3947 | KV9: 417.70274 | KW9: 446.61555 | KX9: 443.79665 | KY9: 422.06794 | KZ9: 440.32111 | LA9: 566.70158 | LB9: 525.94785 | LC9: 522.25556 | LD9: 538.59922 | LE9: 536.3865 | LH9: =KU9-KH9 -> 1374.8547 | LI9: =IF(LH9<0,LH9,0) -> 0 | LJ9: =IF(LH9>0,LH9,0) -> 1374.8547 | LK9: =SUM(LL9:LW9) -> 0 | LX9: =SUM(LY9:MJ9) -> 0 | MJ9: 0 | ML9: =IF(MK9<0,MK9,0) -> 0 | MM9: =IF(MK9>0,MK9,0) -> 0 | MN9: =SUM(MO9:MZ9) -> 36456.7 | MO9: 3553.39 | MP9: 3553.39 | MQ9: 3553.39 | MR9: 3553.39 | MS9: 3553.39 | MT9: 3553.39 | MU9: 3784.09 | MV9: 3784.09 | MW9: 3784.09 | MX9: 3784.09 | NA9: =SUM(NB9:NM9) -> 1507.6788 | NB9: 1507.6788 | NC9: 0 | ND9: 0 | NE9: 0 | NF9: 0 | NG9: 0 | NH9: 0 | NI9: 0 | NJ9: 0 | NK9: 0 | NN9: =NA9-MN9 -> -34949.021 | NO9: =IF(NN9<0,NN9,0) -> -34949.021 | NP9: =IF(NN9>0,NN9,0) -> 0 | NQ9: =NV9+OY9+QB9+RE9+SH9+TK9+UN9 -> 16917.08 | NR9: =OI9+PL9+QO9+RR9+SU9+TX9+VA9 -> 40163.9 | NS9: =NR9-NQ9 -> 23246.82 | NT9: =IF(NS9<0,NS9,0) -> 0 | NU9: =IF(NS9>0,NS9,0) -> 23246.82 | NV9: =SUM(NW9:OH9) -> 3988.82 | NW9: 361.29 | NX9: 361.29 | NY9: 361.29 | NZ9: 361.29 | OA9: 361.29 | OB9: 361.29 | OC9: 455.27 | OD9: 455.27 | OE9: 455.27 | OF9: 455.27 | OI9: =SUM(OJ9:OU9) -> 12096.9 | OJ9: 0 | OK9: 5202.06 | OL9: 2191.69 | ON9: 0 | OO9: 0 | OP9: 0 | OQ9: 4703.15 | OR9: 0 | OS9: 0 | OV9: =OI9-NV9 -> 8108.08 | OW9: =IF(OV9<0,OV9,0) -> 0 | OX9: =IF(OV9>0,OV9,0) -> 8108.08 | OY9: =SUM(OZ9:PK9) -> 5525.84 | OZ9: 526.7 | PA9: 526.7 | PB9: 526.7 | PC9: 526.7 | PD9: 526.7 | PE9: 526.7 | PF9: 591.41 | PG9: 591.41 | PH9: 591.41 | PI9: 591.41 | PL9: =SUM(PM9:PX9) -> 10733.96 | PM9: 0 | PN9: 0 | PO9: 0 | PP9: 0 | PQ9: 0 | PR9: 0 | PS9: 0 | PT9: 0 | PU9: 10733.96 | PV9: 0 | PY9: =PL9-OY9 -> 5208.12 | PZ9: =IF(PY9<0,PY9,0) -> 0 | QA9: =IF(PY9>0,PY9,0) -> 5208.12 | QB9: =SUM(QC9:QN9) -> 747.54 | QC9: 66.29 | QD9: 66.29 | QE9: 66.29 | QF9: 66.29 | QG9: 66.29 | QH9: 66.29 | QI9: 87.45 | QJ9: 87.45 | QK9: 87.45 | QL9: 87.45 | QO9: =SUM(QP9:RA9) -> 0 | QP9: 0 | QQ9: 0 | QR9: 0 | QT9: 0 | QW9: 0 | QY9: 0 | RB9: =QO9-QB9 -> -747.54 | RC9: =IF(RB9<0,RB9,0) -> -747.54 | RD9: =IF(RB9>0,RB9,0) -> 0 | RE9: =SUM(RF9:RQ9) -> 3322.92 | RF9: 302.14 | RG9: 302.14 | RH9: 302.14 | RI9: 302.14 | RJ9: 302.14 | RK9: 302.14 | RL9: 377.52 | RM9: 377.52 | RN9: 377.52 | RO9: 377.52 | RR9: =SUM(RS9:SD9) -> 0 | RS9: 0 | RU9: 0 | RV9: 0 | RW9: 0 | RX9: 0 | RZ9: 0 | SA9: 0 | SB9: 0 | SE9: =RR9-RE9 -> -3322.92 | SF9: =IF(SE9<0,SE9,0) -> -3322.92 | SG9: =IF(SE9>0,SE9,0) -> 0 | SH9: =SUM(SI9:ST9) -> 1985.72 | SI9: 188.76 | SJ9: 188.76 | SK9: 188.76 | SL9: 188.76 | SM9: 188.76 | SN9: 188.76 | SO9: 213.29 | SP9: 213.29 | SQ9: 213.29 | SR9: 213.29 | SU9: =SUM(SV9:TG9) -> 12541.32 | SV9: 0 | SW9: 12541.32 | SX9: 0 | SY9: 0 | SZ9: 0 | TC9: 0 | TD9: 0 | TE9: =VLOOKUP(C9,'[2]Фін.рез.(витрати)'!$C$8:$AH$94,32,0) -> 0 | TH9: =SU9-SH9 -> 10555.6 | TI9: =IF(TH9<0,TH9,0) -> 0 | TJ9: =IF(TH9>0,TH9,0) -> 10555.6 | TK9: =SUM(TL9:TW9) -> 1346.24 | TL9: 118.72 | TM9: 118.72 | TN9: 118.72 | TO9: 118.72 | TP9: 118.72 | TQ9: 118.72 | TR9: 158.48 | TS9: 158.48 | TT9: 158.48 | TU9: 158.48 | TX9: =SUM(TY9:UJ9) -> 4791.72 | TY9: 0 | TZ9: 0 | UA9: 4791.72 | UB9: 0 | UC9: 0 | UD9: 0 | UE9: 0 | UF9: 0 | UG9: 0 | UH9: =VLOOKUP(C9,'[2]Фін.рез.(витрати)'!$C$8:$AI$94,33,0) -> 0 | UK9: =TX9-TK9 -> 3445.48 | UL9: =IF(UK9<0,UK9,0) -> 0 | UM9: =IF(UK9>0,UK9,0) -> 3445.48 | UN9: =SUM(UO9:UZ9) -> 0 | UO9: 0 | UP9: 0 | UQ9: 0 | UR9: 0 | US9: 0 | UT9: 0 | UU9: 0 | UV9: 0 | UW9: 0 | UX9: 0 | VA9: =SUM(VB9:VM9) -> 0 | VN9: =VA9-UN9 -> 0 | VO9: =IF(VN9<0,VN9,0) -> 0 | VP9: =IF(VN9>0,VN9,0) -> 0 | VQ9: =SUM(VR9:WC9) -> 0 | WD9: =SUM(WE9:WP9) -> 0 | WQ9: =WD9-VQ9 -> 0 | WR9: =IF(WQ9<0,WQ9,0) -> 0 | WS9: =IF(WQ9>0,WQ9,0) -> 0 | WT9: =SUM(WU9:XF9) -> 37074 | WU9: 3165.18 | WV9: 3165.18 | WW9: 3165.18 | WX9: 3165.18 | WY9: 3165.18 | WZ9: 3165.18 | XA9: 4520.73 | XB9: 4520.73 | XC9: 4520.73 | XD9: 4520.73 | XG9: =SUM(XH9:XS9) -> 35630.354 | XH9: 3687.548 | XI9: 4150.8794 | XK9: 3060.1597 | XL9: 3336.3112 | XM9: 4379.9622 | XN9: 4132.1664 | XO9: 4818.1088 | XP9: 2528.2016 | XQ9: =VLOOKUP(C9,'[2]Фін.рез.(витрати)'!$C$8:$AL$94,36,0) -> 5537.0164 | XT9: =XG9-WT9 -> -1443.6463 | XU9: =IF(XT9<0,XT9,0) -> -1443.6463 | XV9: =IF(XT9>0,XT9,0) -> 0 | XW9: =SUM(XX9:YI9) -> 8749.98 | XX9: 777.01 | XY9: 777.01 | XZ9: 777.01 | YA9: 777.01 | YB9: 777.01 | YC9: 777.01 | YD9: 1021.98 | YE9: 1021.98 | YF9: 1021.98 | YG9: 1021.98 | YJ9: =YK9+YL9+YM9+YN9+YO9+YV9+YP9+YU9+YQ9+YR9+YS9+YT9 -> 7881.1072 | YK9: 954.34771 | YL9: 717.62128 | YM9: 734.44624 | YN9: 714.21217 | YO9: 704.43167 | YP9: 918.95741 | YQ9: 881.44559 | YR9: 871.88447 | YS9: 517.56245 | YT9: =VLOOKUP(C9,'[2]Фін.рез.(витрати)'!$C$8:$AM$94,37,0) -> 866.19823 | YW9: =YJ9-XW9 -> -868.87279 | YX9: =IF(YW9<0,YW9,0) -> -868.87279 | YY9: =IF(YW9>0,YW9,0) -> 0 | YZ9: =SUM(ZA9:ZL9) -> 3852.36 | ZA9: 364.66 | ZB9: 364.66 | ZC9: 364.66 | ZD9: 364.66 | ZE9: 364.66 | ZF9: 364.66 | ZG9: 416.1 | ZH9: 416.1 | ZI9: 416.1 | ZJ9: 416.1 | ZM9: =SUM(ZN9:ZY9) -> 8344.4661 | ZO9: 860.46321 | ZP9: 5772.5852 | ZQ9: 1711.4177 | ZZ9: =ZM9-YZ9 -> 4492.1061 | AAA9: =IF(ZZ9<0,ZZ9,0) -> 0 | AAB9: =IF(ZZ9>0,ZZ9,0) -> 4492.1061 | AAC9: =SUM(AAD9:AAO9) -> 1104.82 | AAD9: 109.61 | AAE9: 109.61 | AAF9: 109.61 | AAG9: 109.61 | AAH9: 109.61 | AAI9: 109.61 | AAJ9: 111.79 | AAK9: 111.79 | AAL9: 111.79 | AAM9: 111.79 | AAP9: =SUM(AAQ9:ABB9) -> 1504.5204 | AAQ9: 155.67143 | AAR9: 152.20469 | AAS9: 151.84729 | AAT9: 151.07724 | AAU9: 151.77352 | AAV9: 151.7772 | AAW9: 148.23751 | AAX9: 147.07942 | AAY9: 146.01536 | AAZ9: =VLOOKUP(C9,'[2]Фін.рез.(витрати)'!$C$8:$AO$94,39,0) -> 148.83676 | ABC9: =AAP9-AAC9 -> 399.70043 | ABD9: =IF(ABC9<0,ABC9,0) -> 0 | ABE9: =IF(ABC9>0,ABC9,0) -> 399.70043 | ABF9: =SUM(ABG9:ABR9) -> 244.64 | ABG9: 24.26 | ABH9: 24.26 | ABI9: 24.26 | ABJ9: 24.26 | ABK9: 24.26 | ABL9: 24.26 | ABM9: 24.77 | ABN9: 24.77 | ABO9: 24.77 | ABP9: 24.77 | ABS9: =SUM(ABT9:ACE9) -> 0 | ABT9: 0 | ACA9: 0 | ACB9: 0 | ACC9: =VLOOKUP(C9,'[2]Фін.рез.(витрати)'!$C$8:$AP$94,40,0) -> 0 | ACF9: =ABS9-ABF9 -> -244.64 | ACG9: =IF(ACF9<0,ACF9,0) -> -244.64 | ACH9: =IF(ACF9>0,ACF9,0) -> 0 | ACI9: =ACN9+ADQ9 -> 384.06 | ACJ9: =ADA9+AED9 -> 334.21119 | ACK9: =ACJ9-ACI9 -> -49.848812 | ACL9: =IF(ACK9<0,ACK9,0) -> -49.848812 | ACM9: =IF(ACK9>0,ACK9,0) -> 0 | ACN9: =SUM(ACO9:ACZ9) -> 384.06 | ACO9: 39.57 | ACP9: 39.57 | ACQ9: 39.57 | ACR9: 39.57 | ACS9: 39.57 | ACT9: 39.57 | ACU9: 36.66 | ACV9: 36.66 | ACW9: 36.66 | ACX9: 36.66 | ADA9: =SUM(ADB9:ADM9) -> 334.21119 | ADB9: 50.276657 | ADC9: 45.060599 | ADD9: 53.12839 | ADE9: 52.858962 | ADF9: 36.763323 | ADG9: 32.679288 | ADH9: 7.979292 | ADI9: 19.792386 | ADJ9: 19.649196 | ADK9: =VLOOKUP(C9,'[2]Фін.рез.(витрати)'!$C$8:$AR$94,42,0) -> 16.023096 | ADN9: =ADA9-ACN9 -> -49.848812 | ADO9: =IF(ADN9<0,ADN9,0) -> -49.848812 | ADP9: =IF(ADN9>0,ADN9,0) -> 0 | ADQ9: =SUM(ADR9:AEC9) -> 0 | ADR9: 0 | ADS9: 0 | ADT9: 0 | ADU9: 0 | ADV9: 0 | ADW9: 0 | ADX9: 0 | ADY9: 0 | ADZ9: 0 | AEA9: 0 | AED9: =SUM(AEE9:AEP9) -> 0 | AEE9: 0 | AEF9: 0 | AEG9: 0 | AEH9: 0 | AEI9: 0 | AEJ9: 0 | AEK9: 0 | AEL9: 0 | AEM9: 0 | AEN9: =VLOOKUP(C9,'[2]Фін.рез.(витрати)'!$C$8:$AS$94,43,0) -> 0 | AEQ9: =AED9-ADQ9 -> 0 | AER9: =IF(AEQ9<0,AEQ9,0) -> 0 | AES9: =IF(AEQ9>0,AEQ9,0) -> 0 | AET9: =SUM(AEU9:AFF9) -> 0 | AFG9: =SUM(AFH9:AFS9) -> 0 | AFT9: =AFG9-AET9 -> 0 | AFU9: =IF(AFT9<0,AFT9,0) -> 0 | AFV9: =IF(AFT9>0,AFT9,0) -> 0 | AFW9: =F9+IB9+JE9+KH9+LK9+MN9+NQ9+VQ9+WT9+XW9+YZ9+AAC9+ABF9+ACI9+AET9 -> 138809.56 | AFX9: =G9+IO9+JR9+KU9+LX9+NA9+NR9+WD9+XG9+YJ9+ZM9+AAP9+ABS9+ACJ9+AFG9 -> 142190.02 | AFY9: =AFX9-AFW9 -> 3380.4568 | AFZ9: =IF(AFY9<0,AFY9,0) -> 0 | AGA9: =IF(AFY9>0,AFY9,0) -> 3380.4568 | AGB9: =AFW9*1.2 -> 166571.47 | AGC9: =AFX9*1.2 -> 170628.02 | AGD9: =AGC9-AGB9 -> 4056.5482 | AGE9: =IF(AGD9<0,AGD9,0) -> 0 | AGF9: =IF(AGD9>0,AGD9,0) -> 4056.5482 | AGG9: =AGB9*AGS9 -> 8328.5736 | AGH9: =AGC9*AGS9 -> 8531.401 | AGI9: =AGH9-AGG9 -> 202.82741 | AGJ9: =IF(AGI9<0,AGI9,0) -> 0 | AGK9: =IF(AGI9>0,AGI9,0) -> 202.82741 | AGL9: =AGB9+AGG9 -> 174900.05 | AGM9: =AGC9+AGH9 -> 179159.42 | AGN9: =AGM9-AGL9 -> 4259.3756 | AGO9: =IF(AGN9<0,AGN9,0) -> 0 | AGP9: =IF(AGN9>0,AGN9,0) -> 4259.3756 | AGQ9: =AGG8/AGL8 -> 0.047619048 | AGS9: 0.05
A10: 440 | B10: 3 | C10: Олександра Довгача вул. 5 | D10: 5 | E10: 3437.1 | F10: =K10+AN10+BQ10+CT10+DW10+FA10+GD10+GY10 -> 47479.42 | G10: =X10+BA10+CD10+DG10+EK10+FN10+GQ10+HL10 -> 46341.612 | H10: =G10-F10 -> -1137.8085 | I10: =IF(H10<0,H10,0) -> -1137.8085 | J10: =IF(H10>0,H10,0) -> 0 | K10: =SUM(L10:W10) -> 16734.84 | L10: 1474.3 | M10: 1474.3 | N10: 1474.3 | O10: 1474.3 | P10: 1474.3 | Q10: 1474.3 | R10: 1972.26 | S10: 1972.26 | T10: 1972.26 | U10: 1972.26 | X10: =SUM(Y10:AJ10) -> 9100.8535 | Y10: 0 | Z10: 0 | AA10: 0 | AB10: 0 | AC10: 9100.8535 | AD10: 0 | AE10: 0 | AF10: 0 | AG10: 0 | AH10: 0 | AL10: =IF(AK10<0,AK10,0) -> 0 | AM10: =IF(AK10>0,AK10,0) -> 0 | AN10: =SUM(AO10:AZ10) -> 2987.8 | AO10: 262.9 | AP10: 262.9 | AQ10: 262.9 | AR10: 262.9 | AS10: 262.9 | AT10: 262.9 | AU10: 352.6 | AV10: 352.6 | AW10: 352.6 | AX10: 352.6 | BA10: =SUM(BB10:BM10) -> 1632.9232 | BB10: 0 | BC10: 0 | BD10: 0 | BE10: 0 | BF10: 1632.9232 | BG10: 0 | BH10: 0 | BI10: 0 | BJ10: 0 | BK10: 0 | BO10: =IF(BN10<0,BN10,0) -> 0 | BP10: =IF(BN10>0,BN10,0) -> 0 | BQ10: =SUM(BR10:CC10) -> 2020.06 | BR10: 192.11 | BS10: 192.11 | BT10: 192.11 | BU10: 192.11 | BV10: 192.11 | BW10: 192.11 | BX10: 216.85 | BY10: 216.85 | BZ10: 216.85 | CA10: 216.85 | CD10: =SUM(CE10:CP10) -> 2161.3983 | CE10: 223.63802 | CF10: 218.65769 | CG10: 218.14426 | CH10: 217.03799 | CI10: 218.03828 | CJ10: 218.04347 | CK10: 212.95844 | CL10: 211.29472 | CM10: 209.76608 | CN10: 213.81931 | CR10: =IF(CQ10<0,CQ10,0) -> 0 | CS10: =IF(CQ10>0,CQ10,0) -> 0 | CT10: =SUM(CU10:DF10) -> 455 | CU10: 43.3 | CV10: 43.3 | CW10: 43.3 | CX10: 43.3 | CY10: 43.3 | CZ10: 43.3 | DA10: 48.8 | DB10: 48.8 | DC10: 48.8 | DD10: 48.8 | DG10: =SUM(DH10:DS10) -> 485.12233 | DH10: 50.19519 | DI10: 49.077364 | DJ10: 48.962125 | DK10: 48.713825 | DL10: 48.938337 | DM10: 48.939503 | DN10: 47.798176 | DO10: 47.424756 | DP10: 47.081657 | DQ10: 47.991398 | DT10: =DG10-CT10 -> 30.122332 | DU10: =IF(DT10<0,DT10,0) -> 0 | DV10: =IF(DT10>0,DT10,0) -> 30.122332 | DW10: =SUM(DX10:EI10) -> 777.38 | DX10: 68.39 | DY10: 68.39 | DZ10: 68.39 | EA10: 68.39 | EB10: 68.39 | EC10: 68.39 | ED10: 91.76 | EE10: 91.76 | EF10: 91.76 | EG10: 91.76 | EK10: =SUM(EL10:EW10) -> 423.24819 | EL10: 0 | EM10: 0 | EN10: 0 | EO10: 0 | EP10: 423.24819 | EQ10: 0 | ER10: 0 | ES10: 0 | ET10: 0 | EU10: 0 | EX10: =EK10-DW10 -> -354.13181 | EY10: =IF(EX10<0,EX10,0) -> -354.13181 | EZ10: =IF(EX10>0,EX10,0) -> 0 | FA10: =SUM(FB10:FM10) -> 7810.04 | FB10: 686.98 | FC10: 686.98 | FD10: 686.98 | FE10: 686.98 | FF10: 686.98 | FG10: 686.98 | FH10: 922.04 | FI10: 922.04 | FJ10: 922.04 | FK10: 922.04 | FN10: =SUM(FO10:FZ10) -> 4413.0435 | FO10: 0 | FP10: 0 | FQ10: 0 | FR10: 0 | FS10: 4413.0435 | FT10: 0 | FU10: 0 | FV10: 0 | FW10: 0 | FX10: 0 | GA10: =FN10-FA10 -> -3396.9965 | GB10: =IF(GA10<0,GA10,0) -> -3396.9965 | GC10: =IF(GA10>0,GA10,0) -> 0 | GD10: =SUM(GE10:GP10) -> 0 | GQ10: =GR10+GS10+GT10+GU10 -> 0 | GR10: 0 | GS10: =VLOOKUP(C10,'[2]Фін.рез.(витрати)'!$C$8:$V$94,20,0) -> 0 | GV10: =GQ10-GD10 -> 0 | GW10: =IF(GV10<0,GV10,0) -> 0 | GX10: =IF(GV10>0,GV10,0) -> 0 | GY10: =SUM(GZ10:HK10) -> 16694.3 | GZ10: 1477.39 | HA10: 1477.39 | HB10: 1477.39 | HC10: 1477.39 | HD10: 1477.39 | HE10: 1477.39 | HF10: 1957.49 | HG10: 1957.49 | HH10: 1957.49 | HI10: 1957.49 | HL10: =SUM(HM10:HX10) -> 28125.023 | HM10: 4043.8361 | HN10: 4370.3047 | HO10: 1860.8157 | HP10: 4389.1321 | HQ10: 1592.1654 | HR10: 5718.301 | HS10: 1463.5973 | HT10: 1455.0217 | HU10: 1635.6112 | HV10: 1596.2374 | HY10: =HL10-GY10 -> 11430.723 | HZ10: =IF(HY10<0,HY10,0) -> 0 | IA10: =IF(HY10>0,HY10,0) -> 11430.723 | IB10: =SUM(IC10:IN10) -> 0 | IC10: 0 | ID10: 0 | IE10: 0 | IF10: 0 | IG10: 0 | IH10: 0 | II10: 0 | IO10: =SUM(IP10:JA10) -> 0 | IP10: 0 | IQ10: 0 | IR10: 0 | IS10: 0 | IT10: 0 | IU10: 0 | IV10: 0 | IW10: 0 | IX10: 0 | IY10: 0 | JB10: =IO10-IB10 -> 0 | JC10: =IF(JB10<0,JB10,0) -> 0 | JD10: =IF(JB10>0,JB10,0) -> 0 | JE10: =SUM(JF10:JQ10) -> 0 | JF10: 0 | JG10: 0 | JH10: 0 | JI10: 0 | JJ10: 0 | JK10: 0 | JL10: 0 | JM10: 0 | JN10: 0 | JO10: 0 | JR10: =SUM(JS10:KD10) -> 0 | JS10: 0 | JT10: 0 | JU10: 0 | JV10: 0 | JW10: 0 | JX10: 0 | JY10: 0 | JZ10: 0 | KA10: 0 | KB10: 0 | KE10: =JR10-JE10 -> 0 | KF10: =IF(KE10<0,KE10,0) -> 0 | KG10: =IF(KE10>0,KE10,0) -> 0 | KH10: =SUM(KI10:KT10) -> 5216.1 | KI10: 458.79 | KJ10: 458.79 | KK10: 458.79 | KL10: 458.79 | KM10: 458.79 | KN10: 458.79 | KO10: 615.84 | KP10: 615.84 | KQ10: 615.84 | KR10: 615.84 | KU10: =SUM(KV10:LG10) -> 7275.7693 | KV10: 625.28024 | KW10: 668.56127 | KX10: 664.34153 | KY10: 631.81472 | KZ10: 659.13882 | LA10: 848.3241 | LB10: 787.31779 | LC10: 781.79061 | LD10: 806.25626 | LE10: 802.94393 | LH10: =KU10-KH10 -> 2059.6693 | LI10: =IF(LH10<0,LH10,0) -> 0 | LJ10: =IF(LH10>0,LH10,0) -> 2059.6693 | LK10: =SUM(LL10:LW10) -> 0 | LX10: =SUM(LY10:MJ10) -> 0 | MJ10: 0 | ML10: =IF(MK10<0,MK10,0) -> 0 | MM10: =IF(MK10>0,MK10,0) -> 0 | MN10: =SUM(MO10:MZ10) -> 71171.98 | MO10: 6793.47 | MP10: 6793.47 | MQ10: 6793.47 | MR10: 6793.47 | MS10: 6793.47 | MT10: 6793.47 | MU10: 7602.79 | MV10: 7602.79 | MW10: 7602.79 | MX10: 7602.79 | NA10: =SUM(NB10:NM10) -> 117933.1 | NB10: 11338.265 | NC10: 0 | ND10: 0 | NE10: 0 | NF10: 69799.91 | NG10: 5181.9023 | NH10: 15486.544 | NI10: 15937.651 | NJ10: 0 | NK10: 188.82579 | NN10: =NA10-MN10 -> 46761.119 | NO10: =IF(NN10<0,NN10,0) -> 0 | NP10: =IF(NN10>0,NN10,0) -> 46761.119 | NQ10: =NV10+OY10+QB10+RE10+SH10+TK10+UN10 -> 23820.44 | NR10: =OI10+PL10+QO10+RR10+SU10+TX10+VA10 -> 42437.28 | NS10: =NR10-NQ10 -> 18616.84 | NT10: =IF(NS10<0,NS10,0) -> 0 | NU10: =IF(NS10>0,NS10,0) -> 18616.84 | NV10: =SUM(NW10:OH10) -> 4818.08 | NW10: 437.82 | NX10: 437.82 | NY10: 437.82 | NZ10: 437.82 | OA10: 437.82 | OB10: 437.82 | OC10: 547.79 | OD10: 547.79 | OE10: 547.79 | OF10: 547.79 | OI10: =SUM(OJ10:OU10) -> 20935.06 | OJ10: 0 | OK10: 0 | OL10: 0 | ON10: 20935.06 | OO10: 0 | OP10: 0 | OQ10: 0 | OR10: 0 | OS10: 0 | OV10: =OI10-NV10 -> 16116.98 | OW10: =IF(OV10<0,OV10,0) -> 0 | OX10: =IF(OV10>0,OV10,0) -> 16116.98 | OY10: =SUM(OZ10:PK10) -> 7128.24 | OZ10: 679.42 | PA10: 679.42 | PB10: 679.42 | PC10: 679.42 | PD10: 679.42 | PE10: 679.42 | PF10: 762.93 | PG10: 762.93 | PH10: 762.93 | PI10: 762.93 | PL10: =SUM(PM10:PX10) -> 8482.53 | PM10: 8482.53 | PN10: 0 | PO10: 0 | PP10: 0 | PQ10: 0 | PR10: 0 | PS10: 0 | PT10: 0 | PU10: 0 | PV10: 0 | PY10: =PL10-OY10 -> 1354.29 | PZ10: =IF(PY10<0,PY10,0) -> 0 | QA10: =IF(PY10>0,PY10,0) -> 1354.29 | QB10: =SUM(QC10:QN10) -> 1279.82 | QC10: 113.41 | QD10: 113.41 | QE10: 113.41 | QF10: 113.41 | QG10: 113.41 | QH10: 113.41 | QI10: 149.84 | QJ10: 149.84 | QK10: 149.84 | QL10: 149.84 | QO10: =SUM(QP10:RA10) -> 0 | QP10: 0 | QQ10: 0 | QR10: 0 | QT10: 0 | QW10: 0 | QY10: 0 | RB10: =QO10-QB10 -> -1279.82 | RC10: =IF(RB10<0,RB10,0) -> -1279.82 | RD10: =IF(RB10>0,RB10,0) -> 0 | RE10: =SUM(RF10:RQ10) -> 6014.04 | RF10: 546.42 | RG10: 546.42 | RH10: 546.42 | RI10: 546.42 | RJ10: 546.42 | RK10: 546.42 | RL10: 683.88 | RM10: 683.88 | RN10: 683.88 | RO10: 683.88 | RR10: =SUM(RS10:SD10) -> 0 | RS10: 0 | RU10: 0 | RV10: 0 | RW10: 0 | RX10: 0 | RZ10: 0 | SA10: 0 | SB10: 0 | SE10: =RR10-RE10 -> -6014.04 | SF10: =IF(SE10<0,SE10,0) -> -6014.04 | SG10: =IF(SE10>0,SE10,0) -> 0 | SH10: =SUM(SI10:ST10) -> 2647.56 | SI10: 251.56 | SJ10: 251.56 | SK10: 251.56 | SL10: 251.56 | SM10: 251.56 | SN10: 251.56 | SO10: 284.55 | SP10: 284.55 | SQ10: 284.55 | SR10: 284.55 | SU10: =SUM(SV10:TG10) -> 0 | SV10: 0 | SW10: 0 | SX10: 0 | SY10: 0 | SZ10: 0 | TC10: 0 | TD10: 0 | TE10: =VLOOKUP(C10,'[2]Фін.рез.(витрати)'!$C$8:$AH$94,32,0) -> 0 | TH10: =SU10-SH10 -> -2647.56 | TI10: =IF(TH10<0,TH10,0) -> -2647.56 | TJ10: =IF(TH10>0,TH10,0) -> 0 | TK10: =SUM(TL10:TW10) -> 1874.32 | TL10: 165.3 | TM10: 165.3 | TN10: 165.3 | TO10: 165.3 | TP10: 165.3 | TQ10: 165.3 | TR10: 220.63 | TS10: 220.63 | TT10: 220.63 | TU10: 220.63 | TX10: =SUM(TY10:UJ10) -> 13019.69 | TY10: 5046.03 | TZ10: 0 | UA10: 0 | UB10: 0 | UC10: 0 | UD10: 6777.28 | UE10: 0 | UF10: 1196.38 | UG10: 0 | UH10: =VLOOKUP(C10,'[2]Фін.рез.(витрати)'!$C$8:$AI$94,33,0) -> 0 | UK10: =TX10-TK10 -> 11145.37 | UL10: =IF(UK10<0,UK10,0) -> 0 | UM10: =IF(UK10>0,UK10,0) -> 11145.37 | UN10: =SUM(UO10:UZ10) -> 58.38 | UO10: 5.15 | UP10: 5.15 | UQ10: 5.15 | UR10: 5.15 | US10: 5.15 | UT10: 5.15 | UU10: 6.87 | UV10: 6.87 | UW10: 6.87 | UX10: 6.87 | VA10: =SUM(VB10:VM10) -> 0 | VN10: =VA10-UN10 -> -58.38 | VO10: =IF(VN10<0,VN10,0) -> -58.38 | VP10: =IF(VN10>0,VN10,0) -> 0 | VQ10: =SUM(VR10:WC10) -> 0 | WD10: =SUM(WE10:WP10) -> 0 | WQ10: =WD10-VQ10 -> 0 | WR10: =IF(WQ10<0,WQ10,0) -> 0 | WS10: =IF(WQ10>0,WQ10,0) -> 0 | WT10: =SUM(WU10:XF10) -> 64162 | WU10: 5592.38 | WV10: 5592.38 | WW10: 5592.38 | WX10: 5592.38 | WY10: 5592.38 | WZ10: 5592.38 | XA10: 7651.93 | XB10: 7651.93 | XC10: 7651.93 | XD10: 7651.93 | XG10: =SUM(XH10:XS10) -> 62861.588 | XH10: 6631.6779 | XI10: 6807.4069 | XK10: 5168.6397 | XL10: 5980.4135 | XM10: 7872.6419 | XN10: 5879.4623 | XO10: 9308.2573 | XP10: 7005.8274 | XQ10: =VLOOKUP(C10,'[2]Фін.рез.(витрати)'!$C$8:$AL$94,36,0) -> 8207.2608 | XT10: =XG10-WT10 -> -1300.4122 | XU10: =IF(XT10<0,XT10,0) -> -1300.4122 | XV10: =IF(XT10>0,XT10,0) -> 0 | XW10: =SUM(XX10:YI10) -> 21838.9 | XX10: 1938.93 | XY10: 1938.93 | XZ10: 1938.93 | YA10: 1938.93 | YB10: 1938.93 | YC10: 1938.93 | YD10: 2551.33 | YE10: 2551.33 | YF10: 2551.33 | YG10: 2551.33 | YJ10: =YK10+YL10+YM10+YN10+YO10+YV10+YP10+YU10+YQ10+YR10+YS10+YT10 -> 20306.034 | YK10: 2734.4174 | YL10: 1740.508 | YM10: 1781.3346 | YN10: 1732.2587 | YO10: 1708.5369 | YP10: 3251.1403 | YQ10: 1635.9621 | YR10: 2114.6766 | YS10: 2046.3189 | YT10: =VLOOKUP(C10,'[2]Фін.рез.(витрати)'!$C$8:$AM$94,37,0) -> 1560.8804 | YW10: =YJ10-XW10 -> -1532.8661 | YX10: =IF(YW10<0,YW10,0) -> -1532.8661 | YY10: =IF(YW10>0,YW10,0) -> 0 | YZ10: =SUM(ZA10:ZL10) -> 7376.32 | ZA10: 698.32 | ZB10: 698.32 | ZC10: 698.32 | ZD10: 698.32 | ZE10: 698.32 | ZF10: 698.32 | ZG10: 796.6 | ZH10: 796.6 | ZI10: 796.6 | ZJ10: 796.6 | ZM10: =SUM(ZN10:ZY10) -> 14076.864 | ZO10: 1583.5694 | ZP10: 10180.439 | ZQ10: 2312.8554 | ZZ10: =ZM10-YZ10 -> 6700.5442 | AAA10: =IF(ZZ10<0,ZZ10,0) -> 0 | AAB10: =IF(ZZ10>0,ZZ10,0) -> 6700.5442 | AAC10: =SUM(AAD10:AAO10) -> 1358.1 | AAD10: 134.71 | AAE10: 134.71 | AAF10: 134.71 | AAG10: 134.71 | AAH10: 134.71 | AAI10: 134.71 | AAJ10: 137.46 | AAK10: 137.46 | AAL10: 137.46 | AAM10: 137.46 | AAP10: =SUM(AAQ10:ABB10) -> 1806.4143 | AAQ10: 186.90813 | AAR10: 182.74576 | AAS10: 182.31665 | AAT10: 181.39208 | AAU10: 182.22808 | AAV10: 182.2325 | AAW10: 177.98254 | AAX10: 176.59207 | AAY10: 175.31449 | AAZ10: =VLOOKUP(C10,'[2]Фін.рез.(витрати)'!$C$8:$AO$94,39,0) -> 178.70203 | ABC10: =AAP10-AAC10 -> 448.31433 | ABD10: =IF(ABC10<0,ABC10,0) -> 0 | ABE10: =IF(ABC10>0,ABC10,0) -> 448.31433 | ABF10: =SUM(ABG10:ABR10) -> 300.56 | ABG10: 29.8 | ABH10: 29.8 | ABI10: 29.8 | ABJ10: 29.8 | ABK10: 29.8 | ABL10: 29.8 | ABM10: 30.44 | ABN10: 30.44 | ABO10: 30.44 | ABP10: 30.44 | ABS10: =SUM(ABT10:ACE10) -> 0 | ABT10: 0 | ACA10: 0 | ACB10: 0 | ACC10: =VLOOKUP(C10,'[2]Фін.рез.(витрати)'!$C$8:$AP$94,40,0) -> 0 | ACF10: =ABS10-ABF10 -> -300.56 | ACG10: =IF(ACF10<0,ACF10,0) -> -300.56 | ACH10: =IF(ACF10>0,ACF10,0) -> 0 | ACI10: =ACN10+ADQ10 -> 7192.82 | ACJ10: =ADA10+AED10 -> 3660.2623 | ACK10: =ACJ10-ACI10 -> -3532.5577 | ACL10: =IF(ACK10<0,ACK10,0) -> -3532.5577 | ACM10: =IF(ACK10>0,ACK10,0) -> 0 | ACN10: =SUM(ACO10:ACZ10) -> 7192.82 | ACO10: 740.59 | ACP10: 740.59 | ACQ10: 740.59 | ACR10: 740.59 | ACS10: 740.59 | ACT10: 740.59 | ACU10: 687.32 | ACV10: 687.32 | ACW10: 687.32 | ACX10: 687.32 | ADA10: =SUM(ADB10:ADM10) -> 3660.2623 | ADB10: 243.00384 | ADC10: 258.07434 | ADD10: 155.29837 | ADE10: 365.94666 | ADF10: 228.74957 | ADG10: 2095.5593 | ADH10: 63.834336 | ADI10: 106.87888 | ADJ10: 66.807266 | ADK10: =VLOOKUP(C10,'[2]Фін.рез.(витрати)'!$C$8:$AR$94,42,0) -> 76.109706 | ADN10: =ADA10-ACN10 -> -3532.5577 | ADO10: =IF(ADN10<0,ADN10,0) -> -3532.5577 | ADP10: =IF(ADN10>0,ADN10,0) -> 0 | ADQ10: =SUM(ADR10:AEC10) -> 0 | ADR10: 0 | ADS10: 0 | ADT10: 0 | ADU10: 0 | ADV10: 0 | ADW10: 0 | ADX10: 0 | ADY10: 0 | ADZ10: 0 | AEA10: 0 | AED10: =SUM(AEE10:AEP10) -> 0 | AEE10: 0 | AEF10: 0 | AEG10: 0 | AEH10: 0 | AEI10: 0 | AEJ10: 0 | AEK10: 0 | AEL10: 0 | AEM10: 0 | AEN10: =VLOOKUP(C10,'[2]Фін.рез.(витрати)'!$C$8:$AS$94,43,0) -> 0 | AEQ10: =AED10-ADQ10 -> 0 | AER10: =IF(AEQ10<0,AEQ10,0) -> 0 | AES10: =IF(AEQ10>0,AEQ10,0) -> 0 | AET10: =SUM(AEU10:AFF10) -> 0 | AFG10: =SUM(AFH10:AFS10) -> 0 | AFT10: =AFG10-AET10 -> 0 | AFU10: =IF(AFT10<0,AFT10,0) -> 0 | AFV10: =IF(AFT10>0,AFT10,0) -> 0 | AFW10: =F10+IB10+JE10+KH10+LK10+MN10+NQ10+VQ10+WT10+XW10+YZ10+AAC10+ABF10+ACI10+AET10 -> 249916.64 | AFX10: =G10+IO10+JR10+KU10+LX10+NA10+NR10+WD10+XG10+YJ10+ZM10+AAP10+ABS10+ACJ10+AFG10 -> 316698.92 | AFY10: =AFX10-AFW10 -> 66782.282 | AFZ10: =IF(AFY10<0,AFY10,0) -> 0 | AGA10: =IF(AFY10>0,AFY10,0) -> 66782.282 | AGB10: =AFW10*1.2 -> 299899.97 | AGC10: =AFX10*1.2 -> 380038.71 | AGD10: =AGC10-AGB10 -> 80138.739 | AGE10: =IF(AGD10<0,AGD10,0) -> 0 | AGF10: =IF(AGD10>0,AGD10,0) -> 80138.739 | AGG10: =AGB10*AGS10 -> 14994.998 | AGH10: =AGC10*AGS10 -> 19001.935 | AGI10: =AGH10-AGG10 -> 4006.9369 | AGJ10: =IF(AGI10<0,AGI10,0) -> 0 | AGK10: =IF(AGI10>0,AGI10,0) -> 4006.9369 | AGL10: =AGB10+AGG10 -> 314894.97 | AGM10: =AGC10+AGH10 -> 399040.64 | AGN10: =AGM10-AGL10 -> 84145.676 | AGO10: =IF(AGN10<0,AGN10,0) -> 0 | AGP10: =IF(AGN10>0,AGN10,0) -> 84145.676 | AGQ10: =AGG9/AGL9 -> 0.047619048 | AGS10: 0.05
A11: 441 | B11: 3 | C11: Олександра Довгача вул. 6 | D11: 3 | E11: 790.63 | F11: =K11+AN11+BQ11+CT11+DW11+FA11+GD11+GY11 -> 12318.8 | G11: =X11+BA11+CD11+DG11+EK11+FN11+GQ11+HL11 -> 10540.735 | H11: =G11-F11 -> -1778.0648 | I11: =IF(H11<0,H11,0) -> -1778.0648 | J11: =IF(H11>0,H11,0) -> 0 | K11: =SUM(L11:W11) -> 3341.36 | L11: 295.3 | M11: 295.3 | N11: 295.3 | O11: 295.3 | P11: 295.3 | Q11: 295.3 | R11: 392.39 | S11: 392.39 | T11: 392.39 | U11: 392.39 | X11: =SUM(Y11:AJ11) -> 3696.5509 | Y11: 1981.1072 | Z11: 0 | AA11: 0 | AB11: 0 | AC11: 0 | AD11: 1715.4437 | AE11: 0 | AF11: 0 | AG11: 0 | AH11: 0 | AL11: =IF(AK11<0,AK11,0) -> 0 | AM11: =IF(AK11>0,AK11,0) -> 0 | AN11: =SUM(AO11:AZ11) -> 367.68 | AO11: 32.34 | AP11: 32.34 | AQ11: 32.34 | AR11: 32.34 | AS11: 32.34 | AT11: 32.34 | AU11: 43.41 | AV11: 43.41 | AW11: 43.41 | AX11: 43.41 | BA11: =SUM(BB11:BM11) -> 432.85954 | BB11: 228.60271 | BC11: 0 | BD11: 0 | BE11: 0 | BF11: 0 | BG11: 204.25683 | BH11: 0 | BI11: 0 | BJ11: 0 | BK11: 0 | BO11: =IF(BN11<0,BN11,0) -> 0 | BP11: =IF(BN11>0,BN11,0) -> 0 | BQ11: =SUM(BR11:CC11) -> 445.6 | BR11: 42.38 | BS11: 42.38 | BT11: 42.38 | BU11: 42.38 | BV11: 42.38 | BW11: 42.38 | BX11: 47.83 | BY11: 47.83 | BZ11: 47.83 | CA11: 47.83 | CD11: =SUM(CE11:CP11) -> 435.74401 | CE11: 45.086058 | CF11: 44.08201 | CG11: 43.9785 | CH11: 43.755474 | CI11: 43.957134 | CJ11: 43.958181 | CK11: 42.933024 | CL11: 42.597613 | CM11: 42.289436 | CN11: 43.106579 | CR11: =IF(CQ11<0,CQ11,0) -> 0 | CS11: =IF(CQ11>0,CQ11,0) -> 0 | CT11: =SUM(CU11:DF11) -> 0 | CU11: 0 | CV11: 0 | CW11: 0 | CX11: 0 | CY11: 0 | CZ11: 0 | DA11: 0 | DB11: 0 | DC11: 0 | DD11: 0 | DG11: =SUM(DH11:DS11) -> 0 | DH11: 0 | DI11: 0 | DJ11: 0 | DK11: 0 | DL11: 0 | DM11: 0 | DN11: 0 | DO11: 0 | DP11: 0 | DQ11: 0 | DT11: =DG11-CT11 -> 0 | DU11: =IF(DT11<0,DT11,0) -> 0 | DV11: =IF(DT11>0,DT11,0) -> 0 | DW11: =SUM(DX11:EI11) -> 0 | DX11: 0 | DY11: 0 | DZ11: 0 | EA11: 0 | EB11: 0 | EC11: 0 | ED11: 0 | EE11: 0 | EF11: 0 | EG11: 0 | EK11: =SUM(EL11:EW11) -> 0 | EL11: 0 | EM11: 0 | EN11: 0 | EO11: 0 | EP11: 0 | EQ11: 0 | ER11: 0 | ES11: 0 | ET11: 0 | EU11: 0 | EX11: =EK11-DW11 -> 0 | EY11: =IF(EX11<0,EX11,0) -> 0 | EZ11: =IF(EX11>0,EX11,0) -> 0 | FA11: =SUM(FB11:FM11) -> 4300.24 | FB11: 378.32 | FC11: 378.32 | FD11: 378.32 | FE11: 378.32 | FF11: 378.32 | FG11: 378.32 | FH11: 507.58 | FI11: 507.58 | FJ11: 507.58 | FK11: 507.58 | FN11: =SUM(FO11:FZ11) -> 2220.3667 | FO11: 0 | FP11: 0 | FQ11: 0 | FR11: 0 | FS11: 0 | FT11: 0 | FU11: 2220.3667 | FV11: 0 | FW11: 0 | FX11: 0 | GA11: =FN11-FA11 -> -2079.8733 | GB11: =IF(GA11<0,GA11,0) -> -2079.8733 | GC11: =IF(GA11>0,GA11,0) -> 0 | GD11: =SUM(GE11:GP11) -> 0 | GQ11: =GR11+GS11+GT11+GU11 -> 0 | GR11: 0 | GS11: =VLOOKUP(C11,'[2]Фін.рез.(витрати)'!$C$8:$V$94,20,0) -> 0 | GV11: =GQ11-GD11 -> 0 | GW11: =IF(GV11<0,GV11,0) -> 0 | GX11: =IF(GV11>0,GV11,0) -> 0 | GY11: =SUM(GZ11:HK11) -> 3863.92 | GZ11: 342.18 | HA11: 342.18 | HB11: 342.18 | HC11: 342.18 | HD11: 342.18 | HE11: 342.18 | HF11: 452.71 | HG11: 452.71 | HH11: 452.71 | HI11: 452.71 | HL11: =SUM(HM11:HX11) -> 3755.2141 | HM11: 493.24849 | HN11: 364.41528 | HO11: 428.10239 | HP11: 322.74011 | HQ11: 366.29625 | HR11: 365.4246 | HS11: 336.71767 | HT11: 334.74474 | HU11: 376.29147 | HV11: 367.23307 | HY11: =HL11-GY11 -> -108.70591 | HZ11: =IF(HY11<0,HY11,0) -> -108.70591 | IA11: =IF(HY11>0,HY11,0) -> 0 | IB11: =SUM(IC11:IN11) -> 0 | IC11: 0 | ID11: 0 | IE11: 0 | IF11: 0 | IG11: 0 | IH11: 0 | II11: 0 | IO11: =SUM(IP11:JA11) -> 0 | IP11: 0 | IQ11: 0 | IR11: 0 | IS11: 0 | IT11: 0 | IU11: 0 | IV11: 0 | IW11: 0 | IX11: 0 | IY11: 0 | JB11: =IO11-IB11 -> 0 | JC11: =IF(JB11<0,JB11,0) -> 0 | JD11: =IF(JB11>0,JB11,0) -> 0 | JE11: =SUM(JF11:JQ11) -> 0 | JF11: 0 | JG11: 0 | JH11: 0 | JI11: 0 | JJ11: 0 | JK11: 0 | JL11: 0 | JM11: 0 | JN11: 0 | JO11: 0 | JR11: =SUM(JS11:KD11) -> 0 | JS11: 0 | JT11: 0 | JU11: 0 | JV11: 0 | JW11: 0 | JX11: 0 | JY11: 0 | JZ11: 0 | KA11: 0 | KB11: 0 | KE11: =JR11-JE11 -> 0 | KF11: =IF(KE11<0,KE11,0) -> 0 | KG11: =IF(KE11>0,KE11,0) -> 0 | KH11: =SUM(KI11:KT11) -> 513.08 | KI11: 45.14 | KJ11: 45.14 | KK11: 45.14 | KL11: 45.14 | KM11: 45.14 | KN11: 45.14 | KO11: 60.56 | KP11: 60.56 | KQ11: 60.56 | KR11: 60.56 | KU11: =SUM(KV11:LG11) -> 715.57046 | KV11: 61.496187 | KW11: 65.752868 | KX11: 65.337858 | KY11: 62.138852 | KZ11: 64.826172 | LA11: 83.432507 | LB11: 77.432548 | LC11: 76.888951 | LD11: 79.295143 | LE11: 78.969376 | LH11: =KU11-KH11 -> 202.49046 | LI11: =IF(LH11<0,LH11,0) -> 0 | LJ11: =IF(LH11>0,LH11,0) -> 202.49046 | LK11: =SUM(LL11:LW11) -> 0 | LX11: =SUM(LY11:MJ11) -> 0 | MJ11: 0 | ML11: =IF(MK11<0,MK11,0) -> 0 | MM11: =IF(MK11>0,MK11,0) -> 0 | MN11: =SUM(MO11:MZ11) -> 7924.3 | MO11: 736.23 | MP11: 736.23 | MQ11: 736.23 | MR11: 736.23 | MS11: 736.23 | MT11: 736.23 | MU11: 876.73 | MV11: 876.73 | MW11: 876.73 | MX11: 876.73 | NA11: =SUM(NB11:NM11) -> 817.3025 | NB11: 0 | NC11: 0 | ND11: 0 | NE11: 0 | NF11: 817.3025 | NG11: 0 | NH11: 0 | NI11: 0 | NJ11: 0 | NK11: 0 | NN11: =NA11-MN11 -> -7106.9975 | NO11: =IF(NN11<0,NN11,0) -> -7106.9975 | NP11: =IF(NN11>0,NN11,0) -> 0 | NQ11: =NV11+OY11+QB11+RE11+SH11+TK11+UN11 -> 3723.1 | NR11: =OI11+PL11+QO11+RR11+SU11+TX11+VA11 -> 21949.96 | NS11: =NR11-NQ11 -> 18226.86 | NT11: =IF(NS11<0,NS11,0) -> 0 | NU11: =IF(NS11>0,NS11,0) -> 18226.86 | NV11: =SUM(NW11:OH11) -> 1355.44 | NW11: 123.02 | NX11: 123.02 | NY11: 123.02 | NZ11: 123.02 | OA11: 123.02 | OB11: 123.02 | OC11: 154.33 | OD11: 154.33 | OE11: 154.33 | OF11: 154.33 | OI11: =SUM(OJ11:OU11) -> 0 | OJ11: 0 | OK11: 0 | OL11: 0 | ON11: 0 | OO11: 0 | OP11: 0 | OQ11: 0 | OR11: 0 | OS11: 0 | OV11: =OI11-NV11 -> -1355.44 | OW11: =IF(OV11<0,OV11,0) -> -1355.44 | OX11: =IF(OV11>0,OV11,0) -> 0 | OY11: =SUM(OZ11:PK11) -> 877.94 | OZ11: 83.65 | PA11: 83.65 | PB11: 83.65 | PC11: 83.65 | PD11: 83.65 | PE11: 83.65 | PF11: 94.01 | PG11: 94.01 | PH11: 94.01 | PI11: 94.01 | PL11: =SUM(PM11:PX11) -> 0 | PM11: 0 | PN11: 0 | PO11: 0 | PP11: 0 | PQ11: 0 | PR11: 0 | PS11: 0 | PT11: 0 | PU11: 0 | PV11: 0 | PY11: =PL11-OY11 -> -877.94 | PZ11: =IF(PY11<0,PY11,0) -> -877.94 | QA11: =IF(PY11>0,PY11,0) -> 0 | QB11: =SUM(QC11:QN11) -> 454.76 | QC11: 40.32 | QD11: 40.32 | QE11: 40.32 | QF11: 40.32 | QG11: 40.32 | QH11: 40.32 | QI11: 53.21 | QJ11: 53.21 | QK11: 53.21 | QL11: 53.21 | QO11: =SUM(QP11:RA11) -> 4781.2 | QP11: 0 | QQ11: 0 | QR11: 0 | QT11: 4781.2 | QW11: 0 | QY11: 0 | RB11: =QO11-QB11 -> 4326.44 | RC11: =IF(RB11<0,RB11,0) -> 0 | RD11: =IF(RB11>0,RB11,0) -> 4326.44 | RE11: =SUM(RF11:RQ11) -> 0 | RF11: 0 | RG11: 0 | RH11: 0 | RI11: 0 | RJ11: 0 | RK11: 0 | RL11: 0 | RM11: 0 | RN11: 0 | RO11: 0 | RR11: =SUM(RS11:SD11) -> 0 | RS11: 0 | RU11: 0 | RV11: 0 | RW11: 0 | RX11: 0 | RZ11: 0 | SA11: 0 | SB11: 0 | SE11: =RR11-RE11 -> 0 | SF11: =IF(SE11<0,SE11,0) -> 0 | SG11: =IF(SE11>0,SE11,0) -> 0 | SH11: =SUM(SI11:ST11) -> 0 | SI11: 0 | SJ11: 0 | SK11: 0 | SL11: 0 | SM11: 0 | SN11: 0 | SO11: 0 | SP11: 0 | SQ11: 0 | SR11: 0 | SU11: =SUM(SV11:TG11) -> 0 | SV11: 0 | SW11: 0 | SX11: 0 | SY11: 0 | SZ11: 0 | TC11: 0 | TD11: 0 | TE11: =VLOOKUP(C11,'[2]Фін.рез.(витрати)'!$C$8:$AH$94,32,0) -> 0 | TH11: =SU11-SH11 -> 0 | TI11: =IF(TH11<0,TH11,0) -> 0 | TJ11: =IF(TH11>0,TH11,0) -> 0 | TK11: =SUM(TL11:TW11) -> 1007.78 | TL11: 88.95 | TM11: 88.95 | TN11: 88.95 | TO11: 88.95 | TP11: 88.95 | TQ11: 88.95 | TR11: 118.52 | TS11: 118.52 | TT11: 118.52 | TU11: 118.52 | TX11: =SUM(TY11:UJ11) -> 17168.76 | TY11: 10193.05 | TZ11: 6480.5 | UA11: 495.21 | UB11: 0 | UC11: 0 | UD11: 0 | UE11: 0 | UF11: 0 | UG11: 0 | UH11: =VLOOKUP(C11,'[2]Фін.рез.(витрати)'!$C$8:$AI$94,33,0) -> 0 | UK11: =TX11-TK11 -> 16160.98 | UL11: =IF(UK11<0,UK11,0) -> 0 | UM11: =IF(UK11>0,UK11,0) -> 16160.98 | UN11: =SUM(UO11:UZ11) -> 27.18 | UO11: 2.37 | UP11: 2.37 | UQ11: 2.37 | UR11: 2.37 | US11: 2.37 | UT11: 2.37 | UU11: 3.24 | UV11: 3.24 | UW11: 3.24 | UX11: 3.24 | VA11: =SUM(VB11:VM11) -> 0 | VN11: =VA11-UN11 -> -27.18 | VO11: =IF(VN11<0,VN11,0) -> -27.18 | VP11: =IF(VN11>0,VN11,0) -> 0 | VQ11: =SUM(VR11:WC11) -> 0 | WD11: =SUM(WE11:WP11) -> 0 | WQ11: =WD11-VQ11 -> 0 | WR11: =IF(WQ11<0,WQ11,0) -> 0 | WS11: =IF(WQ11>0,WQ11,0) -> 0 | WT11: =SUM(WU11:XF11) -> 16110.48 | WU11: 1370 | WV11: 1370 | WW11: 1370 | WX11: 1370 | WY11: 1370 | WZ11: 1370 | XA11: 1972.62 | XB11: 1972.62 | XC11: 1972.62 | XD11: 1972.62 | XG11: =SUM(XH11:XS11) -> 17005.531 | XH11: 1797.552 | XI11: 1839.9582 | XK11: 1415.5235 | XL11: 1639.159 | XM11: 2125.1054 | XN11: 1541.7419 | XO11: 2329.0762 | XP11: 1907.7187 | XQ11: =VLOOKUP(C11,'[2]Фін.рез.(витрати)'!$C$8:$AL$94,36,0) -> 2409.6959 | XT11: =XG11-WT11 -> 895.05078 | XU11: =IF(XT11<0,XT11,0) -> 0 | XV11: =IF(XT11>0,XT11,0) -> 895.05078 | XW11: =SUM(XX11:YI11) -> 5188.3 | XX11: 458.49 | XY11: 458.49 | XZ11: 458.49 | YA11: 458.49 | YB11: 458.49 | YC11: 458.49 | YD11: 609.34 | YE11: 609.34 | YF11: 609.34 | YG11: 609.34 | YJ11: =YK11+YL11+YM11+YN11+YO11+YV11+YP11+YU11+YQ11+YR11+YS11+YT11 -> 4135.9463 | YK11: 464.12292 | YL11: 348.99725 | YM11: 357.18337 | YN11: 347.34293 | YO11: 342.58638 | YP11: 702.48182 | YQ11: 317.66738 | YR11: 424.01198 | YS11: 410.30564 | YT11: =VLOOKUP(C11,'[2]Фін.рез.(витрати)'!$C$8:$AM$94,37,0) -> 421.24666 | YW11: =YJ11-XW11 -> -1052.3537 | YX11: =IF(YW11<0,YW11,0) -> -1052.3537 | YY11: =IF(YW11>0,YW11,0) -> 0 | YZ11: =SUM(ZA11:ZL11) -> 2103.24 | ZA11: 199 | ZB11: 199 | ZC11: 199 | ZD11: 199 | ZE11: 199 | ZF11: 199 | ZG11: 227.31 | ZH11: 227.31 | ZI11: 227.31 | ZJ11: 227.31 | ZM11: =SUM(ZN11:ZY11) -> 3169.7497 | ZO11: 383.88736 | ZP11: 2223.7442 | ZQ11: 562.11808 | ZZ11: =ZM11-YZ11 -> 1066.5097 | AAA11: =IF(ZZ11<0,ZZ11,0) -> 0 | AAB11: =IF(ZZ11>0,ZZ11,0) -> 1066.5097 | AAC11: =SUM(AAD11:AAO11) -> 459.2 | AAD11: 45.54 | AAE11: 45.54 | AAF11: 45.54 | AAG11: 45.54 | AAH11: 45.54 | AAI11: 45.54 | AAJ11: 46.49 | AAK11: 46.49 | AAL11: 46.49 | AAM11: 46.49 | AAP11: =SUM(AAQ11:ABB11) -> 1026.9342 | AAQ11: 106.25599 | AAR11: 103.88971 | AAS11: 103.64577 | AAT11: 103.12015 | AAU11: 103.59541 | AAV11: 103.59793 | AAW11: 101.18186 | AAX11: 100.39138 | AAY11: 99.665089 | AAZ11: =VLOOKUP(C11,'[2]Фін.рез.(витрати)'!$C$8:$AO$94,39,0) -> 101.59088 | ABC11: =AAP11-AAC11 -> 567.73417 | ABD11: =IF(ABC11<0,ABC11,0) -> 0 | ABE11: =IF(ABC11>0,ABC11,0) -> 567.73417 | ABF11: =SUM(ABG11:ABR11) -> 101.74 | ABG11: 10.09 | ABH11: 10.09 | ABI11: 10.09 | ABJ11: 10.09 | ABK11: 10.09 | ABL11: 10.09 | ABM11: 10.3 | ABN11: 10.3 | ABO11: 10.3 | ABP11: 10.3 | ABS11: =SUM(ABT11:ACE11) -> 0 | ABT11: 0 | ACA11: 0 | ACB11: 0 | ACC11: =VLOOKUP(C11,'[2]Фін.рез.(витрати)'!$C$8:$AP$94,40,0) -> 0 | ACF11: =ABS11-ABF11 -> -101.74 | ACG11: =IF(ACF11<0,ACF11,0) -> -101.74 | ACH11: =IF(ACF11>0,ACF11,0) -> 0 | ACI11: =ACN11+ADQ11 -> 8660.7 | ACJ11: =ADA11+AED11 -> 0 | ACK11: =ACJ11-ACI11 -> -8660.7 | ACL11: =IF(ACK11<0,ACK11,0) -> -8660.7 | ACM11: =IF(ACK11>0,ACK11,0) -> 0 | ACN11: =SUM(ACO11:ACZ11) -> 8660.7 | ACO11: 891.59 | ACP11: 891.59 | ACQ11: 891.59 | ACR11: 891.59 | ACS11: 891.59 | ACT11: 891.59 | ACU11: 827.79 | ACV11: 827.79 | ACW11: 827.79 | ACX11: 827.79 | ADA11: =SUM(ADB11:ADM11) -> 0 | ADB11: 0 | ADC11: 0 | ADD11: 0 | ADE11: 0 | ADF11: 0 | ADG11: 0 | ADH11: 0 | ADI11: 0 | ADJ11: 0 | ADK11: =VLOOKUP(C11,'[2]Фін.рез.(витрати)'!$C$8:$AR$94,42,0) -> 0 | ADN11: =ADA11-ACN11 -> -8660.7 | ADO11: =IF(ADN11<0,ADN11,0) -> -8660.7 | ADP11: =IF(ADN11>0,ADN11,0) -> 0 | ADQ11: =SUM(ADR11:AEC11) -> 0 | ADR11: 0 | ADS11: 0 | ADT11: 0 | ADU11: 0 | ADV11: 0 | ADW11: 0 | ADX11: 0 | ADY11: 0 | ADZ11: 0 | AEA11: 0 | AED11: =SUM(AEE11:AEP11) -> 0 | AEE11: 0 | AEF11: 0 | AEG11: 0 | AEH11: 0 | AEI11: 0 | AEJ11: 0 | AEK11: 0 | AEL11: 0 | AEM11: 0 | AEN11: =VLOOKUP(C11,'[2]Фін.рез.(витрати)'!$C$8:$AS$94,43,0) -> 0 | AEQ11: =AED11-ADQ11 -> 0 | AER11: =IF(AEQ11<0,AEQ11,0) -> 0 | AES11: =IF(AEQ11>0,AEQ11,0) -> 0 | AET11: =SUM(AEU11:AFF11) -> 0 | AFG11: =SUM(AFH11:AFS11) -> 0 | AFT11: =AFG11-AET11 -> 0 | AFU11: =IF(AFT11<0,AFT11,0) -> 0 | AFV11: =IF(AFT11>0,AFT11,0) -> 0 | AFW11: =F11+IB11+JE11+KH11+LK11+MN11+NQ11+VQ11+WT11+XW11+YZ11+AAC11+ABF11+ACI11+AET11 -> 57102.94 | AFX11: =G11+IO11+JR11+KU11+LX11+NA11+NR11+WD11+XG11+YJ11+ZM11+AAP11+ABS11+ACJ11+AFG11 -> 59361.729 | AFY11: =AFX11-AFW11 -> 2258.7891 | AFZ11: =IF(AFY11<0,AFY11,0) -> 0 | AGA11: =IF(AFY11>0,AFY11,0) -> 2258.7891 | AGB11: =AFW11*1.2 -> 68523.528 | AGC11: =AFX11*1.2 -> 71234.075 | AGD11: =AGC11-AGB11 -> 2710.5469 | AGE11: =IF(AGD11<0,AGD11,0) -> 0 | AGF11: =IF(AGD11>0,AGD11,0) -> 2710.5469 | AGG11: =AGB11*AGS11 -> 3426.1764 | AGH11: =AGC11*AGS11 -> 3561.7037 | AGI11: =AGH11-AGG11 -> 135.52735 | AGJ11: =IF(AGI11<0,AGI11,0) -> 0 | AGK11: =IF(AGI11>0,AGI11,0) -> 135.52735 | AGL11: =AGB11+AGG11 -> 71949.704 | AGM11: =AGC11+AGH11 -> 74795.779 | AGN11: =AGM11-AGL11 -> 2846.0743 | AGO11: =IF(AGN11<0,AGN11,0) -> 0 | AGP11: =IF(AGN11>0,AGN11,0) -> 2846.0743 | AGQ11: =AGG10/AGL10 -> 0.047619048 | AGS11: 0.05
A12: 442 | B12: 3 | C12: Олександра Довгача вул. 6А | D12: 9 | E12: 4249.4 | F12: =K12+AN12+BQ12+CT12+DW12+FA12+GD12+GY12 -> 54211.58 | G12: =X12+BA12+CD12+DG12+EK12+FN12+GQ12+HL12 -> 60247.452 | H12: =G12-F12 -> 6035.8724 | I12: =IF(H12<0,H12,0) -> 0 | J12: =IF(H12>0,H12,0) -> 6035.8724 | K12: =SUM(L12:W12) -> 20888.82 | L12: 1841.73 | M12: 1841.73 | N12: 1841.73 | O12: 1841.73 | P12: 1841.73 | Q12: 1841.73 | R12: 2459.61 | S12: 2459.61 | T12: 2459.61 | U12: 2459.61 | X12: =SUM(Y12:AJ12) -> 24483.249 | Y12: 12959.158 | Z12: 0 | AA12: 0 | AB12: 0 | AC12: 0 | AD12: 11524.091 | AE12: 0 | AF12: 0 | AG12: 0 | AH12: 0 | AL12: =IF(AK12<0,AK12,0) -> 0 | AM12: =IF(AK12>0,AK12,0) -> 0 | AN12: =SUM(AO12:AZ12) -> 3599.28 | AO12: 316.58 | AP12: 316.58 | AQ12: 316.58 | AR12: 316.58 | AS12: 316.58 | AT12: 316.58 | AU12: 424.95 | AV12: 424.95 | AW12: 424.95 | AX12: 424.95 | BA12: =SUM(BB12:BM12) -> 4289.4115 | BB12: 2265.3988 | BC12: 0 | BD12: 0 | BE12: 0 | BF12: 0 | BG12: 2024.0127 | BH12: 0 | BI12: 0 | BJ12: 0 | BK12: 0 | BO12: =IF(BN12<0,BN12,0) -> 0 | BP12: =IF(BN12>0,BN12,0) -> 0 | BQ12: =SUM(BR12:CC12) -> 2220.8 | BR12: 211.2 | BS12: 211.2 | BT12: 211.2 | BU12: 211.2 | BV12: 211.2 | BW12: 211.2 | BX12: 238.4 | BY12: 238.4 | BZ12: 238.4 | CA12: 238.4 | CD12: =SUM(CE12:CP12) -> 2376.7957 | CE12: 245.92501 | CF12: 240.44836 | CG12: 239.88376 | CH12: 238.66725 | CI12: 239.76722 | CJ12: 239.77293 | CK12: 234.18114 | CL12: 232.35162 | CM12: 230.67064 | CN12: 235.12781 | CR12: =IF(CQ12<0,CQ12,0) -> 0 | CS12: =IF(CQ12>0,CQ12,0) -> 0 | CT12: =SUM(CU12:DF12) -> 535.42 | CU12: 50.99 | CV12: 50.99 | CW12: 50.99 | CX12: 50.99 | CY12: 50.99 | CZ12: 50.99 | DA12: 57.37 | DB12: 57.37 | DC12: 57.37 | DD12: 57.37 | DG12: =SUM(DH12:DS12) -> 572.18115 | DH12: 59.203091 | DI12: 57.884663 | DJ12: 57.748743 | DK12: 57.455885 | DL12: 57.720687 | DM12: 57.722062 | DN12: 56.375914 | DO12: 55.935482 | DP12: 55.530811 | DQ12: 56.603812 | DT12: =DG12-CT12 -> 36.76115 | DU12: =IF(DT12<0,DT12,0) -> 0 | DV12: =IF(DT12>0,DT12,0) -> 36.76115 | DW12: =SUM(DX12:EI12) -> 854.1 | DX12: 75.21 | DY12: 75.21 | DZ12: 75.21 | EA12: 75.21 | EB12: 75.21 | EC12: 75.21 | ED12: 100.71 | EE12: 100.71 | EF12: 100.71 | EG12: 100.71 | EK12: =SUM(EL12:EW12) -> 1013.6517 | EL12: 535.35536 | EM12: 0 | EN12: 0 | EO12: 0 | EP12: 0 | EQ12: 478.29638 | ER12: 0 | ES12: 0 | ET12: 0 | EU12: 0 | EX12: =EK12-DW12 -> 159.55175 | EY12: =IF(EX12<0,EX12,0) -> 0 | EZ12: =IF(EX12>0,EX12,0) -> 159.55175 | FA12: =SUM(FB12:FM12) -> 5464 | FB12: 480.62 | FC12: 480.62 | FD12: 480.62 | FE12: 480.62 | FF12: 480.62 | FG12: 480.62 | FH12: 645.07 | FI12: 645.07 | FJ12: 645.07 | FK12: 645.07 | FN12: =SUM(FO12:FZ12) -> 7328.5351 | FO12: 3478.24 | FP12: 0 | FQ12: 0 | FR12: 0 | FS12: 0 | FT12: 0 | FU12: 3850.2951 | FV12: 0 | FW12: 0 | FX12: 0 | GA12: =FN12-FA12 -> 1864.5351 | GB12: =IF(GA12<0,GA12,0) -> 0 | GC12: =IF(GA12>0,GA12,0) -> 1864.5351 | GD12: =SUM(GE12:GP12) -> 0 | GQ12: =GR12+GS12+GT12+GU12 -> 0 | GR12: 0 | GS12: =VLOOKUP(C12,'[2]Фін.рез.(витрати)'!$C$8:$V$94,20,0) -> 0 | GV12: =GQ12-GD12 -> 0 | GW12: =IF(GV12<0,GV12,0) -> 0 | GX12: =IF(GV12>0,GV12,0) -> 0 | GY12: =SUM(GZ12:HK12) -> 20649.16 | GZ12: 1827.28 | HA12: 1827.28 | HB12: 1827.28 | HC12: 1827.28 | HD12: 1827.28 | HE12: 1827.28 | HF12: 2421.37 | HG12: 2421.37 | HH12: 2421.37 | HI12: 2421.37 | HL12: =SUM(HM12:HX12) -> 20183.629 | HM12: 2651.1257 | HN12: 1958.6693 | HO12: 2300.9766 | HP12: 1734.6725 | HQ12: 1968.7792 | HR12: 1964.0943 | HS12: 1809.7994 | HT12: 1799.1953 | HU12: 2022.5018 | HV12: 1973.8145 | HY12: =HL12-GY12 -> -465.53141 | HZ12: =IF(HY12<0,HY12,0) -> -465.53141 | IA12: =IF(HY12>0,HY12,0) -> 0 | IB12: =SUM(IC12:IN12) -> 56473.6 | IC12: 5647.36 | ID12: 5647.36 | IE12: 5647.36 | IF12: 5647.36 | IG12: 5647.36 | IH12: 5647.36 | II12: 5647.36 | IJ12: 5647.36 | IK12: 5647.36 | IL12: 5647.36 | IO12: =SUM(IP12:JA12) -> 88553.932 | IP12: 6503.4122 | IQ12: 8727.4745 | IR12: 9599.8084 | IS12: 9848.5921 | IT12: 8557.3279 | IU12: 9071.7751 | IV12: 9609.4951 | IW12: 9739.6152 | IX12: 8188.8161 | IY12: 8707.6158 | JB12: =IO12-IB12 -> 32080.332 | JC12: =IF(JB12<0,JB12,0) -> 0 | JD12: =IF(JB12>0,JB12,0) -> 32080.332 | JE12: =SUM(JF12:JQ12) -> 0 | JF12: 0 | JG12: 0 | JH12: 0 | JI12: 0 | JJ12: 0 | JK12: 0 | JL12: 0 | JM12: 0 | JN12: 0 | JO12: 0 | JR12: =SUM(JS12:KD12) -> 1070.4978 | JS12: 132.01194 | JT12: 178.5777 | JU12: 192.38985 | JV12: 198.20593 | JW12: 180.67752 | JX12: 188.63487 | JY12: 0 | JZ12: 0 | KA12: 0 | KB12: 0 | KE12: =JR12-JE12 -> 1070.4978 | KF12: =IF(KE12<0,KE12,0) -> 0 | KG12: =IF(KE12>0,KE12,0) -> 1070.4978 | KH12: =SUM(KI12:KT12) -> 5004.22 | KI12: 440.25 | KJ12: 440.25 | KK12: 440.25 | KL12: 440.25 | KM12: 440.25 | KN12: 440.25 | KO12: 590.68 | KP12: 590.68 | KQ12: 590.68 | KR12: 590.68 | KU12: =SUM(KV12:LG12) -> 6980.7956 | KV12: 599.93018 | KW12: 641.45652 | KX12: 637.40785 | KY12: 606.19974 | KZ12: 632.41607 | LA12: 813.93141 | LB12: 755.39841 | LC12: 750.09532 | LD12: 773.56908 | LE12: 770.39104 | LH12: =KU12-KH12 -> 1976.5756 | LI12: =IF(LH12<0,LH12,0) -> 0 | LJ12: =IF(LH12>0,LH12,0) -> 1976.5756 | LK12: =SUM(LL12:LW12) -> 0 | LX12: =SUM(LY12:MJ12) -> 0 | MJ12: 0 | ML12: =IF(MK12<0,MK12,0) -> 0 | MM12: =IF(MK12>0,MK12,0) -> 0 | MN12: =SUM(MO12:MZ12) -> 46387.54 | MO12: 4662.55 | MP12: 4662.55 | MQ12: 4662.55 | MR12: 4662.55 | MS12: 4662.55 | MT12: 4662.55 | MU12: 4603.06 | MV12: 4603.06 | MW12: 4603.06 | MX12: 4603.06 | NA12: =SUM(NB12:NM12) -> 168018.78 | NB12: 5027.2456 | NC12: 5607.4742 | ND12: 5425.2142 | NE12: 0 | NF12: 105772.62 | NG12: 27081.495 | NH12: 11500.516 | NI12: 7193.4228 | NJ12: 0 | NK12: 410.79913 | NN12: =NA12-MN12 -> 121631.24 | NO12: =IF(NN12<0,NN12,0) -> 0 | NP12: =IF(NN12>0,NN12,0) -> 121631.24 | NQ12: =NV12+OY12+QB12+RE12+SH12+TK12+UN12 -> 27461.1 | NR12: =OI12+PL12+QO12+RR12+SU12+TX12+VA12 -> 19742.58 | NS12: =NR12-NQ12 -> -7718.52 | NT12: =IF(NS12<0,NS12,0) -> -7718.52 | NU12: =IF(NS12>0,NS12,0) -> 0 | NV12: =SUM(NW12:OH12) -> 6089.54 | NW12: 553.71 | NX12: 553.71 | NY12: 553.71 | NZ12: 553.71 | OA12: 553.71 | OB12: 553.71 | OC12: 691.82 | OD12: 691.82 | OE12: 691.82 | OF12: 691.82 | OI12: =SUM(OJ12:OU12) -> 5189.91 | OJ12: 0 | OK12: 0 | OL12: 0 | ON12: 0 | OO12: 0 | OP12: 0 | OQ12: 0 | OR12: 5189.91 | OS12: 0 | OV12: =OI12-NV12 -> -899.63 | OW12: =IF(OV12<0,OV12,0) -> -899.63 | OX12: =IF(OV12>0,OV12,0) -> 0 | OY12: =SUM(OZ12:PK12) -> 8722.48 | OZ12: 831.62 | PA12: 831.62 | PB12: 831.62 | PC12: 831.62 | PD12: 831.62 | PE12: 831.62 | PF12: 933.19 | PG12: 933.19 | PH12: 933.19 | PI12: 933.19 | PL12: =SUM(PM12:PX12) -> 14552.67 | PM12: 0 | PN12: 0 | PO12: 0 | PP12: 0 | PQ12: 0 | PR12: 0 | PS12: 0 | PT12: 6713.27 | PU12: 5784.1 | PV12: 2055.3 | PY12: =PL12-OY12 -> 5830.19 | PZ12: =IF(PY12<0,PY12,0) -> 0 | QA12: =IF(PY12>0,PY12,0) -> 5830.19 | QB12: =SUM(QC12:QN12) -> 1478.8 | QC12: 130.88 | QD12: 130.88 | QE12: 130.88 | QF12: 130.88 | QG12: 130.88 | QH12: 130.88 | QI12: 173.38 | QJ12: 173.38 | QK12: 173.38 | QL12: 173.38 | QO12: =SUM(QP12:RA12) -> 0 | QP12: 0 | QQ12: 0 | QR12: 0 | QT12: 0 | QW12: 0 | QY12: 0 | RB12: =QO12-QB12 -> -1478.8 | RC12: =IF(RB12<0,RB12,0) -> -1478.8 | RD12: =IF(RB12>0,RB12,0) -> 0 | RE12: =SUM(RF12:RQ12) -> 7225.02 | RF12: 656.55 | RG12: 656.55 | RH12: 656.55 | RI12: 656.55 | RJ12: 656.55 | RK12: 656.55 | RL12: 821.43 | RM12: 821.43 | RN12: 821.43 | RO12: 821.43 | RR12: =SUM(RS12:SD12) -> 0 | RS12: 0 | RU12: 0 | RV12: 0 | RW12: 0 | RX12: 0 | RZ12: 0 | SA12: 0 | SB12: 0 | SE12: =RR12-RE12 -> -7225.02 | SF12: =IF(SE12<0,SE12,0) -> -7225.02 | SG12: =IF(SE12>0,SE12,0) -> 0 | SH12: =SUM(SI12:ST12) -> 2913.46 | SI12: 277.07 | SJ12: 277.07 | SK12: 277.07 | SL12: 277.07 | SM12: 277.07 | SN12: 277.07 | SO12: 312.76 | SP12: 312.76 | SQ12: 312.76 | SR12: 312.76 | SU12: =SUM(SV12:TG12) -> 0 | SV12: 0 | SW12: 0 | SX12: 0 | SY12: 0 | SZ12: 0 | TC12: 0 | TD12: 0 | TE12: =VLOOKUP(C12,'[2]Фін.рез.(витрати)'!$C$8:$AH$94,32,0) -> 0 | TH12: =SU12-SH12 -> -2913.46 | TI12: =IF(TH12<0,TH12,0) -> -2913.46 | TJ12: =IF(TH12>0,TH12,0) -> 0 | TK12: =SUM(TL12:TW12) -> 1007.1 | TL12: 88.81 | TM12: 88.81 | TN12: 88.81 | TO12: 88.81 | TP12: 88.81 | TQ12: 88.81 | TR12: 118.56 | TS12: 118.56 | TT12: 118.56 | TU12: 118.56 | TX12: =SUM(TY12:UJ12) -> 0 | TY12: 0 | TZ12: 0 | UA12: 0 | UB12: 0 | UC12: 0 | UD12: 0 | UE12: 0 | UF12: 0 | UG12: 0 | UH12: =VLOOKUP(C12,'[2]Фін.рез.(витрати)'!$C$8:$AI$94,33,0) -> 0 | UK12: =TX12-TK12 -> -1007.1 | UL12: =IF(UK12<0,UK12,0) -> -1007.1 | UM12: =IF(UK12>0,UK12,0) -> 0 | UN12: =SUM(UO12:UZ12) -> 24.7 | UO12: 2.13 | UP12: 2.13 | UQ12: 2.13 | UR12: 2.13 | US12: 2.13 | UT12: 2.13 | UU12: 2.98 | UV12: 2.98 | UW12: 2.98 | UX12: 2.98 | VA12: =SUM(VB12:VM12) -> 0 | VN12: =VA12-UN12 -> -24.7 | VO12: =IF(VN12<0,VN12,0) -> -24.7 | VP12: =IF(VN12>0,VN12,0) -> 0 | VQ12: =SUM(VR12:WC12) -> 0 | WD12: =SUM(WE12:WP12) -> 0 | WQ12: =WD12-VQ12 -> 0 | WR12: =IF(WQ12<0,WQ12,0) -> 0 | WS12: =IF(WQ12>0,WQ12,0) -> 0 | WT12: =SUM(WU12:XF12) -> 91802.78 | WU12: 7878.57 | WV12: 7878.57 | WW12: 7878.57 | WX12: 7878.57 | WY12: 7878.57 | WZ12: 7878.57 | XA12: 11132.84 | XB12: 11132.84 | XC12: 11132.84 | XD12: 11132.84 | XG12: =SUM(XH12:XS12) -> 74344.007 | XH12: 7787.8334 | XI12: 8528.1585 | XK12: 6782.6027 | XL12: 6937.2923 | XM12: 9051.8689 | XN12: 7749.6353 | XO12: 9315.807 | XP12: 8374.6175 | XQ12: =VLOOKUP(C12,'[2]Фін.рез.(витрати)'!$C$8:$AL$94,36,0) -> 9816.1916 | XT12: =XG12-WT12 -> -17458.773 | XU12: =IF(XT12<0,XT12,0) -> -17458.773 | XV12: =IF(XT12>0,XT12,0) -> 0 | XW12: =SUM(XX12:YI12) -> 53185 | XX12: 4699.94 | XY12: 4699.94 | XZ12: 4699.94 | YA12: 4699.94 | YB12: 4699.94 | YC12: 4699.94 | YD12: 6246.34 | YE12: 6246.34 | YF12: 6246.34 | YG12: 6246.34 | YJ12: =YK12+YL12+YM12+YN12+YO12+YV12+YP12+YU12+YQ12+YR12+YS12+YT12 -> 36482.298 | YK12: 4169.6614 | YL12: 3135.4189 | YM12: 3208.9354 | YN12: 3120.5289 | YO12: 3077.796 | YP12: 5037.4185 | YQ12: 3452.2295 | YR12: 3809.4315 | YS12: 3686.2903 | YT12: =VLOOKUP(C12,'[2]Фін.рез.(витрати)'!$C$8:$AM$94,37,0) -> 3784.5873 | YW12: =YJ12-XW12 -> -16702.702 | YX12: =IF(YW12<0,YW12,0) -> -16702.702 | YY12: =IF(YW12>0,YW12,0) -> 0 | YZ12: =SUM(ZA12:ZL12) -> 3441.24 | ZA12: 325.94 | ZB12: 325.94 | ZC12: 325.94 | ZD12: 325.94 | ZE12: 325.94 | ZF12: 325.94 | ZG12: 371.4 | ZH12: 371.4 | ZI12: 371.4 | ZJ12: 371.4 | ZM12: =SUM(ZN12:ZY12) -> 10048.545 | ZO12: 1238.2464 | ZP12: 7943.4208 | ZQ12: 866.87744 | ZZ12: =ZM12-YZ12 -> 6607.3046 | AAA12: =IF(ZZ12<0,ZZ12,0) -> 0 | AAB12: =IF(ZZ12>0,ZZ12,0) -> 6607.3046 | AAC12: =SUM(AAD12:AAO12) -> 1357.3 | AAD12: 134.71 | AAE12: 134.71 | AAF12: 134.71 | AAG12: 134.71 | AAH12: 134.71 | AAI12: 134.71 | AAJ12: 137.26 | AAK12: 137.26 | AAL12: 137.26 | AAM12: 137.26 | AAP12: =SUM(AAQ12:ABB12) -> 1781.6689 | AAQ12: 184.34774 | AAR12: 180.2424 | AAS12: 179.81916 | AAT12: 178.90726 | AAU12: 179.7318 | AAV12: 179.73616 | AAW12: 175.54442 | AAX12: 174.173 | AAY12: 172.91292 | AAZ12: =VLOOKUP(C12,'[2]Фін.рез.(витрати)'!$C$8:$AO$94,39,0) -> 176.25406 | ABC12: =AAP12-AAC12 -> 424.36892 | ABD12: =IF(ABC12<0,ABC12,0) -> 0 | ABE12: =IF(ABC12>0,ABC12,0) -> 424.36892 | ABF12: =SUM(ABG12:ABR12) -> 295.92 | ABG12: 29.34 | ABH12: 29.34 | ABI12: 29.34 | ABJ12: 29.34 | ABK12: 29.34 | ABL12: 29.34 | ABM12: 29.97 | ABN12: 29.97 | ABO12: 29.97 | ABP12: 29.97 | ABS12: =SUM(ABT12:ACE12) -> 0 | ABT12: 0 | ACA12: 0 | ACB12: 0 | ACC12: =VLOOKUP(C12,'[2]Фін.рез.(витрати)'!$C$8:$AP$94,40,0) -> 0 | ACF12: =ABS12-ABF12 -> -295.92 | ACG12: =IF(ACF12<0,ACF12,0) -> -295.92 | ACH12: =IF(ACF12>0,ACF12,0) -> 0 | ACI12: =ACN12+ADQ12 -> 25855.3 | ACJ12: =ADA12+AED12 -> 29590.874 | ACK12: =ACJ12-ACI12 -> 3735.574 | ACL12: =IF(ACK12<0,ACK12,0) -> 0 | ACM12: =IF(ACK12>0,ACK12,0) -> 3735.574 | ACN12: =SUM(ACO12:ACZ12) -> 12654.94 | ACO12: 1302.89 | ACP12: 1302.89 | ACQ12: 1302.89 | ACR12: 1302.89 | ACS12: 1302.89 | ACT12: 1302.89 | ACU12: 1209.4 | ACV12: 1209.4 | ACW12: 1209.4 | ACX12: 1209.4 | ADA12: =SUM(ADB12:ADM12) -> 15762.561 | ADB12: 1642.3708 | ADC12: 1187.9612 | ADD12: 1103.4358 | ADE12: 975.85776 | ADF12: 1617.5862 | ADG12: 2001.6064 | ADH12: 1496.1173 | ADI12: 2002.9895 | ADJ12: 2008.1478 | ADK12: =VLOOKUP(C12,'[2]Фін.рез.(витрати)'!$C$8:$AR$94,42,0) -> 1726.4886 | ADN12: =ADA12-ACN12 -> 3107.6213 | ADO12: =IF(ADN12<0,ADN12,0) -> 0 | ADP12: =IF(ADN12>0,ADN12,0) -> 3107.6213 | ADQ12: =SUM(ADR12:AEC12) -> 13200.36 | ADR12: 1358.94 | ADS12: 1358.94 | ADT12: 1358.94 | ADU12: 1358.94 | ADV12: 1358.94 | ADW12: 1358.94 | ADX12: 1261.68 | ADY12: 1261.68 | ADZ12: 1261.68 | AEA12: 1261.68 | AED12: =SUM(AEE12:AEP12) -> 13828.313 | AEE12: 2815.4928 | AEF12: 1945.7986 | AEG12: 1377.2513 | AEH12: 1305.2098 | AEI12: 1017.1186 | AEJ12: 1580.8606 | AEK12: 893.6807 | AEL12: 898.57432 | AEM12: 1064.9864 | AEN12: =VLOOKUP(C12,'[2]Фін.рез.(витрати)'!$C$8:$AS$94,43,0) -> 929.33957 | AEQ12: =AED12-ADQ12 -> 627.95264 | AER12: =IF(AEQ12<0,AEQ12,0) -> 0 | AES12: =IF(AEQ12>0,AEQ12,0) -> 627.95264 | AET12: =SUM(AEU12:AFF12) -> 0 | AFG12: =SUM(AFH12:AFS12) -> 0 | AFT12: =AFG12-AET12 -> 0 | AFU12: =IF(AFT12<0,AFT12,0) -> 0 | AFV12: =IF(AFT12>0,AFT12,0) -> 0 | AFW12: =F12+IB12+JE12+KH12+LK12+MN12+NQ12+VQ12+WT12+XW12+YZ12+AAC12+ABF12+ACI12+AET12 -> 365475.58 | AFX12: =G12+IO12+JR12+KU12+LX12+NA12+NR12+WD12+XG12+YJ12+ZM12+AAP12+ABS12+ACJ12+AFG12 -> 496861.44 | AFY12: =AFX12-AFW12 -> 131385.86 | AFZ12: =IF(AFY12<0,AFY12,0) -> 0 | AGA12: =IF(AFY12>0,AFY12,0) -> 131385.86 | AGB12: =AFW12*1.2 -> 438570.7 | AGC12: =AFX12*1.2 -> 596233.72 | AGD12: =AGC12-AGB12 -> 157663.03 | AGE12: =IF(AGD12<0,AGD12,0) -> 0 | AGF12: =IF(AGD12>0,AGD12,0) -> 157663.03 | AGG12: =AGB12*AGS12 -> 21928.535 | AGH12: =AGC12*AGS12 -> 29811.686 | AGI12: =AGH12-AGG12 -> 7883.1513 | AGJ12: =IF(AGI12<0,AGI12,0) -> 0 | AGK12: =IF(AGI12>0,AGI12,0) -> 7883.1513 | AGL12: =AGB12+AGG12 -> 460499.23 | AGM12: =AGC12+AGH12 -> 626045.41 | AGN12: =AGM12-AGL12 -> 165546.18 | AGO12: =IF(AGN12<0,AGN12,0) -> 0 | AGP12: =IF(AGN12>0,AGN12,0) -> 165546.18 | AGQ12: =AGG11/AGL11 -> 0.047619048 | AGS12: 0.05
A13: 443 | B13: 3 | C13: Олександра Довгача вул. 7 | D13: 5 | E13: 2914.53 | F13: =K13+AN13+BQ13+CT13+DW13+FA13+GD13+GY13 -> 40610.94 | G13: =X13+BA13+CD13+DG13+EK13+FN13+GQ13+HL13 -> 45982.723 | H13: =G13-F13 -> 5371.7834 | I13: =IF(H13<0,H13,0) -> 0 | J13: =IF(H13>0,H13,0) -> 5371.7834 | K13: =SUM(L13:W13) -> 14608.7 | L13: 1286.97 | M13: 1286.97 | N13: 1286.97 | O13: 1286.97 | P13: 1286.97 | Q13: 1286.97 | R13: 1721.72 | S13: 1721.72 | T13: 1721.72 | U13: 1721.72 | X13: =SUM(Y13:AJ13) -> 17859.68 | Y13: 0 | Z13: 0 | AA13: 7607.656 | AB13: 0 | AC13: 0 | AD13: 0 | AE13: 10252.024 | AF13: 0 | AG13: 0 | AH13: 0 | AL13: =IF(AK13<0,AK13,0) -> 0 | AM13: =IF(AK13>0,AK13,0) -> 0 | AN13: =SUM(AO13:AZ13) -> 2777.24 | AO13: 244.32 | AP13: 244.32 | AQ13: 244.32 | AR13: 244.32 | AS13: 244.32 | AT13: 244.32 | AU13: 327.83 | AV13: 327.83 | AW13: 327.83 | AX13: 327.83 | BA13: =SUM(BB13:BM13) -> 3396.3523 | BB13: 0 | BC13: 0 | BD13: 1446.7461 | BE13: 0 | BF13: 0 | BG13: 0 | BH13: 1949.6062 | BI13: 0 | BJ13: 0 | BK13: 0 | BO13: =IF(BN13<0,BN13,0) -> 0 | BP13: =IF(BN13>0,BN13,0) -> 0 | BQ13: =SUM(BR13:CC13) -> 1651.14 | BR13: 157.03 | BS13: 157.03 | BT13: 157.03 | BU13: 157.03 | BV13: 157.03 | BW13: 157.03 | BX13: 177.24 | BY13: 177.24 | BZ13: 177.24 | CA13: 177.24 | CD13: =SUM(CE13:CP13) -> 1614.6374 | CE13: 167.06514 | CF13: 163.34467 | CG13: 162.96112 | CH13: 162.1347 | CI13: 162.88195 | CJ13: 162.88583 | CK13: 159.08713 | CL13: 157.84428 | CM13: 156.70234 | CN13: 159.73024 | CR13: =IF(CQ13<0,CQ13,0) -> 0 | CS13: =IF(CQ13>0,CQ13,0) -> 0 | CT13: =SUM(CU13:DF13) -> 398.78 | CU13: 38.07 | CV13: 38.07 | CW13: 38.07 | CX13: 38.07 | CY13: 38.07 | CZ13: 38.07 | DA13: 42.59 | DB13: 42.59 | DC13: 42.59 | DD13: 42.59 | DG13: =SUM(DH13:DS13) -> 395.36401 | DH13: 40.907974 | DI13: 39.996971 | DJ13: 39.903053 | DK13: 39.700695 | DL13: 39.883667 | DM13: 39.884617 | DN13: 38.95446 | DO13: 38.650132 | DP13: 38.370513 | DQ13: 39.111932 | DT13: =DG13-CT13 -> -3.4159853 | DU13: =IF(DT13<0,DT13,0) -> -3.4159853 | DV13: =IF(DT13>0,DT13,0) -> 0 | DW13: =SUM(DX13:EI13) -> 388.42 | DX13: 34.27 | DY13: 34.27 | DZ13: 34.27 | EA13: 34.27 | EB13: 34.27 | EC13: 34.27 | ED13: 45.7 | EE13: 45.7 | EF13: 45.7 | EG13: 45.7 | EK13: =SUM(EL13:EW13) -> 473.71042 | EL13: 0 | EM13: 0 | EN13: 201.78204 | EO13: 0 | EP13: 0 | EQ13: 0 | ER13: 271.92838 | ES13: 0 | ET13: 0 | EU13: 0 | EX13: =EK13-DW13 -> 85.290418 | EY13: =IF(EX13<0,EX13,0) -> 0 | EZ13: =IF(EX13>0,EX13,0) -> 85.290418 | FA13: =SUM(FB13:FM13) -> 6609.72 | FB13: 581.52 | FC13: 581.52 | FD13: 581.52 | FE13: 581.52 | FF13: 581.52 | FG13: 581.52 | FH13: 780.15 | FI13: 780.15 | FJ13: 780.15 | FK13: 780.15 | FN13: =SUM(FO13:FZ13) -> 8328.4112 | FO13: 0 | FP13: 3825.7975 | FQ13: 0 | FR13: 0 | FS13: 0 | FT13: 0 | FU13: 0 | FV13: 4502.6137 | FW13: 0 | FX13: 0 | GA13: =FN13-FA13 -> 1718.6912 | GB13: =IF(GA13<0,GA13,0) -> 0 | GC13: =IF(GA13>0,GA13,0) -> 1718.6912 | GD13: =SUM(GE13:GP13) -> 0 | GQ13: =GR13+GS13+GT13+GU13 -> 0 | GR13: 0 | GS13: =VLOOKUP(C13,'[2]Фін.рез.(витрати)'!$C$8:$V$94,20,0) -> 0 | GV13: =GQ13-GD13 -> 0 | GW13: =IF(GV13<0,GV13,0) -> 0 | GX13: =IF(GV13>0,GV13,0) -> 0 | GY13: =SUM(GZ13:HK13) -> 14176.94 | GZ13: 1253.87 | HA13: 1253.87 | HB13: 1253.87 | HC13: 1253.87 | HD13: 1253.87 | HE13: 1253.87 | HF13: 1663.43 | HG13: 1663.43 | HH13: 1663.43 | HI13: 1663.43 | HL13: =SUM(HM13:HX13) -> 13914.568 | HM13: 1827.6827 | HN13: 1350.3042 | HO13: 1586.2904 | HP13: 1195.8811 | HQ13: 1357.274 | HR13: 1354.0441 | HS13: 1247.6735 | HT13: 1240.363 | HU13: 1394.3102 | HV13: 1360.7452 | HY13: =HL13-GY13 -> -262.37162 | HZ13: =IF(HY13<0,HY13,0) -> -262.37162 | IA13: =IF(HY13>0,HY13,0) -> 0 | IB13: =SUM(IC13:IN13) -> 0 | IC13: 0 | ID13: 0 | IE13: 0 | IF13: 0 | IG13: 0 | IH13: 0 | II13: 0 | IO13: =SUM(IP13:JA13) -> 0 | IP13: 0 | IQ13: 0 | IR13: 0 | IS13: 0 | IT13: 0 | IU13: 0 | IV13: 0 | IW13: 0 | IX13: 0 | IY13: 0 | JB13: =IO13-IB13 -> 0 | JC13: =IF(JB13<0,JB13,0) -> 0 | JD13: =IF(JB13>0,JB13,0) -> 0 | JE13: =SUM(JF13:JQ13) -> 0 | JF13: 0 | JG13: 0 | JH13: 0 | JI13: 0 | JJ13: 0 | JK13: 0 | JL13: 0 | JM13: 0 | JN13: 0 | JO13: 0 | JR13: =SUM(JS13:KD13) -> 0 | JS13: 0 | JT13: 0 | JU13: 0 | JV13: 0 | JW13: 0 | JX13: 0 | JY13: 0 | JZ13: 0 | KA13: 0 | KB13: 0 | KE13: =JR13-JE13 -> 0 | KF13: =IF(KE13<0,KE13,0) -> 0 | KG13: =IF(KE13>0,KE13,0) -> 0 | KH13: =SUM(KI13:KT13) -> 3530.8 | KI13: 310.54 | KJ13: 310.54 | KK13: 310.54 | KL13: 310.54 | KM13: 310.54 | KN13: 310.54 | KO13: 416.89 | KP13: 416.89 | KQ13: 416.89 | KR13: 416.89 | KU13: =SUM(KV13:LG13) -> 4924.1327 | KV13: 423.18039 | KW13: 452.47235 | KX13: 449.61649 | KY13: 427.60283 | KZ13: 446.09538 | LA13: 574.13317 | LB13: 532.845 | LC13: 529.10429 | LD13: 545.66228 | LE13: 543.42054 | LH13: =KU13-KH13 -> 1393.3327 | LI13: =IF(LH13<0,LH13,0) -> 0 | LJ13: =IF(LH13>0,LH13,0) -> 1393.3327 | LK13: =SUM(LL13:LW13) -> 0 | LX13: =SUM(LY13:MJ13) -> 0 | MJ13: 0 | ML13: =IF(MK13<0,MK13,0) -> 0 | MM13: =IF(MK13>0,MK13,0) -> 0 | MN13: =SUM(MO13:MZ13) -> 50261.4 | MO13: 4788.14 | MP13: 4788.14 | MQ13: 4788.14 | MR13: 4788.14 | MS13: 4788.14 | MT13: 4788.14 | MU13: 5383.14 | MV13: 5383.14 | MW13: 5383.14 | MX13: 5383.14 | NA13: =SUM(NB13:NM13) -> 15530.613 | NB13: 0 | NC13: 0 | ND13: 1649.0416 | NE13: 0 | NF13: 0 | NG13: 0 | NH13: 364.44657 | NI13: 7006.851 | NJ13: 6283.7949 | NK13: 226.47907 | NN13: =NA13-MN13 -> -34730.787 | NO13: =IF(NN13<0,NN13,0) -> -34730.787 | NP13: =IF(NN13>0,NN13,0) -> 0 | NQ13: =NV13+OY13+QB13+RE13+SH13+TK13+UN13 -> 21764.06 | NR13: =OI13+PL13+QO13+RR13+SU13+TX13+VA13 -> 13047.03 | NS13: =NR13-NQ13 -> -8717.03 | NT13: =IF(NS13<0,NS13,0) -> -8717.03 | NU13: =IF(NS13>0,NS13,0) -> 0 | NV13: =SUM(NW13:OH13) -> 3969.62 | NW13: 360.63 | NX13: 360.63 | NY13: 360.63 | NZ13: 360.63 | OA13: 360.63 | OB13: 360.63 | OC13: 451.46 | OD13: 451.46 | OE13: 451.46 | OF13: 451.46 | OI13: =SUM(OJ13:OU13) -> 7501.56 | OJ13: 0 | OK13: 0 | OL13: 0 | ON13: 5230.97 | OO13: 0 | OP13: 0 | OQ13: 2270.59 | OR13: 0 | OS13: 0 | OV13: =OI13-NV13 -> 3531.94 | OW13: =IF(OV13<0,OV13,0) -> 0 | OX13: =IF(OV13>0,OV13,0) -> 3531.94 | OY13: =SUM(OZ13:PK13) -> 6626.72 | OZ13: 631.62 | PA13: 631.62 | PB13: 631.62 | PC13: 631.62 | PD13: 631.62 | PE13: 631.62 | PF13: 709.25 | PG13: 709.25 | PH13: 709.25 | PI13: 709.25 | PL13: =SUM(PM13:PX13) -> 0 | PM13: 0 | PN13: 0 | PO13: 0 | PP13: 0 | PQ13: 0 | PR13: 0 | PS13: 0 | PT13: 0 | PU13: 0 | PV13: 0 | PY13: =PL13-OY13 -> -6626.72 | PZ13: =IF(PY13<0,PY13,0) -> -6626.72 | QA13: =IF(PY13>0,PY13,0) -> 0 | QB13: =SUM(QC13:QN13) -> 1004.28 | QC13: 89.06 | QD13: 89.06 | QE13: 89.06 | QF13: 89.06 | QG13: 89.06 | QH13: 89.06 | QI13: 117.48 | QJ13: 117.48 | QK13: 117.48 | QL13: 117.48 | QO13: =SUM(QP13:RA13) -> 0 | QP13: 0 | QQ13: 0 | QR13: 0 | QT13: 0 | QW13: 0 | QY13: 0 | RB13: =QO13-QB13 -> -1004.28 | RC13: =IF(RB13<0,RB13,0) -> -1004.28 | RD13: =IF(RB13>0,RB13,0) -> 0 | RE13: =SUM(RF13:RQ13) -> 6735.14 | RF13: 611.99 | RG13: 611.99 | RH13: 611.99 | RI13: 611.99 | RJ13: 611.99 | RK13: 611.99 | RL13: 765.8 | RM13: 765.8 | RN13: 765.8 | RO13: 765.8 | RR13: =SUM(RS13:SD13) -> 0 | RS13: 0 | RU13: 0 | RV13: 0 | RW13: 0 | RX13: 0 | RZ13: 0 | SA13: 0 | SB13: 0 | SE13: =RR13-RE13 -> -6735.14 | SF13: =IF(SE13<0,SE13,0) -> -6735.14 | SG13: =IF(SE13>0,SE13,0) -> 0 | SH13: =SUM(SI13:ST13) -> 1325.4 | SI13: 125.98 | SJ13: 125.98 | SK13: 125.98 | SL13: 125.98 | SM13: 125.98 | SN13: 125.98 | SO13: 142.38 | SP13: 142.38 | SQ13: 142.38 | SR13: 142.38 | SU13: =SUM(SV13:TG13) -> 5545.47 | SV13: 0 | SW13: 0 | SX13: 0 | SY13: 0 | SZ13: 0 | TC13: 0 | TD13: 0 | TE13: =VLOOKUP(C13,'[2]Фін.рез.(витрати)'!$C$8:$AH$94,32,0) -> 5545.47 | TH13: =SU13-SH13 -> 4220.07 | TI13: =IF(TH13<0,TH13,0) -> 0 | TJ13: =IF(TH13>0,TH13,0) -> 4220.07 | TK13: =SUM(TL13:TW13) -> 2102.9 | TL13: 185.45 | TM13: 185.45 | TN13: 185.45 | TO13: 185.45 | TP13: 185.45 | TQ13: 185.45 | TR13: 247.55 | TS13: 247.55 | TT13: 247.55 | TU13: 247.55 | TX13: =SUM(TY13:UJ13) -> 0 | TY13: 0 | TZ13: 0 | UA13: 0 | UB13: 0 | UC13: 0 | UD13: 0 | UE13: 0 | UF13: 0 | UG13: 0 | UH13: =VLOOKUP(C13,'[2]Фін.рез.(витрати)'!$C$8:$AI$94,33,0) -> 0 | UK13: =TX13-TK13 -> -2102.9 | UL13: =IF(UK13<0,UK13,0) -> -2102.9 | UM13: =IF(UK13>0,UK13,0) -> 0 | UN13: =SUM(UO13:UZ13) -> 0 | UO13: 0 | UP13: 0 | UQ13: 0 | UR13: 0 | US13: 0 | UT13: 0 | UU13: 0 | UV13: 0 | UW13: 0 | UX13: 0 | VA13: =SUM(VB13:VM13) -> 0 | VN13: =VA13-UN13 -> 0 | VO13: =IF(VN13<0,VN13,0) -> 0 | VP13: =IF(VN13>0,VN13,0) -> 0 | VQ13: =SUM(VR13:WC13) -> 0 | WD13: =SUM(WE13:WP13) -> 0 | WQ13: =WD13-VQ13 -> 0 | WR13: =IF(WQ13<0,WQ13,0) -> 0 | WS13: =IF(WQ13>0,WQ13,0) -> 0 | WT13: =SUM(WU13:XF13) -> 45363.12 | WU13: 3869.42 | WV13: 3869.42 | WW13: 3869.42 | WX13: 3869.42 | WY13: 3869.42 | WZ13: 3869.42 | XA13: 5536.65 | XB13: 5536.65 | XC13: 5536.65 | XD13: 5536.65 | XG13: =SUM(XH13:XS13) -> 48669.103 | XH13: 4733.5544 | XI13: 5290.1601 | XK13: 3928.8546 | XL13: 4744.304 | XM13: 5537.6795 | XN13: 7719.3291 | XO13: 6288.9358 | XP13: 5493.4987 | XQ13: =VLOOKUP(C13,'[2]Фін.рез.(витрати)'!$C$8:$AL$94,36,0) -> 4932.7866 | XT13: =XG13-WT13 -> 3305.9827 | XU13: =IF(XT13<0,XT13,0) -> 0 | XV13: =IF(XT13>0,XT13,0) -> 3305.9827 | XW13: =SUM(XX13:YI13) -> 16132.7 | XX13: 1432.45 | XY13: 1432.45 | XZ13: 1432.45 | YA13: 1432.45 | YB13: 1432.45 | YC13: 1432.45 | YD13: 1884.5 | YE13: 1884.5 | YF13: 1884.5 | YG13: 1884.5 | YJ13: =YK13+YL13+YM13+YN13+YO13+YV13+YP13+YU13+YQ13+YR13+YS13+YT13 -> 14881.074 | YK13: 1660.6529 | YL13: 1340.5088 | YM13: 1371.9445 | YN13: 1334.1473 | YO13: 1901.0519 | YP13: 1485.6661 | YQ13: 1646.49 | YR13: 1628.6743 | YS13: 1576.0268 | YT13: =VLOOKUP(C13,'[2]Фін.рез.(витрати)'!$C$8:$AM$94,37,0) -> 935.91167 | YW13: =YJ13-XW13 -> -1251.6257 | YX13: =IF(YW13<0,YW13,0) -> -1251.6257 | YY13: =IF(YW13>0,YW13,0) -> 0 | YZ13: =SUM(ZA13:ZL13) -> 6724.66 | ZA13: 636.61 | ZB13: 636.61 | ZC13: 636.61 | ZD13: 636.61 | ZE13: 636.61 | ZF13: 636.61 | ZG13: 726.25 | ZH13: 726.25 | ZI13: 726.25 | ZJ13: 726.25 | ZM13: =SUM(ZN13:ZY13) -> 12084.689 | ZO13: 1386.2384 | ZP13: 8307.3041 | ZQ13: 2391.1468 | ZZ13: =ZM13-YZ13 -> 5360.0293 | AAA13: =IF(ZZ13<0,ZZ13,0) -> 0 | AAB13: =IF(ZZ13>0,ZZ13,0) -> 5360.0293 | AAC13: =SUM(AAD13:AAO13) -> 1461.86 | AAD13: 145.01 | AAE13: 145.01 | AAF13: 145.01 | AAG13: 145.01 | AAH13: 145.01 | AAI13: 145.01 | AAJ13: 147.95 | AAK13: 147.95 | AAL13: 147.95 | AAM13: 147.95 | AAP13: =SUM(AAQ13:ABB13) -> 1732.1781 | AAQ13: 179.22697 | AAR13: 175.23566 | AAS13: 174.82419 | AAT13: 173.93761 | AAU13: 174.73925 | AAV13: 174.74349 | AAW13: 170.66819 | AAX13: 169.33486 | AAY13: 168.10979 | AAZ13: =VLOOKUP(C13,'[2]Фін.рез.(витрати)'!$C$8:$AO$94,39,0) -> 171.35811 | ABC13: =AAP13-AAC13 -> 270.31812 | ABD13: =IF(ABC13<0,ABC13,0) -> 0 | ABE13: =IF(ABC13>0,ABC13,0) -> 270.31812 | ABF13: =SUM(ABG13:ABR13) -> 323.66 | ABG13: 32.09 | ABH13: 32.09 | ABI13: 32.09 | ABJ13: 32.09 | ABK13: 32.09 | ABL13: 32.09 | ABM13: 32.78 | ABN13: 32.78 | ABO13: 32.78 | ABP13: 32.78 | ABS13: =SUM(ABT13:ACE13) -> 0 | ABT13: 0 | ACA13: 0 | ACB13: 0 | ACC13: =VLOOKUP(C13,'[2]Фін.рез.(витрати)'!$C$8:$AP$94,40,0) -> 0 | ACF13: =ABS13-ABF13 -> -323.66 | ACG13: =IF(ACF13<0,ACF13,0) -> -323.66 | ACH13: =IF(ACF13>0,ACF13,0) -> 0 | ACI13: =ACN13+ADQ13 -> 16914.04 | ACJ13: =ADA13+AED13 -> 6788.9123 | ACK13: =ACJ13-ACI13 -> -10125.128 | ACL13: =IF(ACK13<0,ACK13,0) -> -10125.128 | ACM13: =IF(ACK13>0,ACK13,0) -> 0 | ACN13: =SUM(ACO13:ACZ13) -> 16914.04 | ACO13: 1741.26 | ACP13: 1741.26 | ACQ13: 1741.26 | ACR13: 1741.26 | ACS13: 1741.26 | ACT13: 1741.26 | ACU13: 1616.62 | ACV13: 1616.62 | ACW13: 1616.62 | ACX13: 1616.62 | ADA13: =SUM(ADB13:ADM13) -> 6788.9123 | ADB13: 775.09846 | ADC13: 610.36629 | ADD13: 821.44664 | ADE13: 483.86281 | ADF13: 910.91345 | ADG13: 702.60469 | ADH13: 530.62292 | ADI13: 791.69544 | ADJ13: 589.47588 | ADK13: =VLOOKUP(C13,'[2]Фін.рез.(витрати)'!$C$8:$AR$94,42,0) -> 572.82568 | ADN13: =ADA13-ACN13 -> -10125.128 | ADO13: =IF(ADN13<0,ADN13,0) -> -10125.128 | ADP13: =IF(ADN13>0,ADN13,0) -> 0 | ADQ13: =SUM(ADR13:AEC13) -> 0 | ADR13: 0 | ADS13: 0 | ADT13: 0 | ADU13: 0 | ADV13: 0 | ADW13: 0 | ADX13: 0 | ADY13: 0 | ADZ13: 0 | AEA13: 0 | AED13: =SUM(AEE13:AEP13) -> 0 | AEE13: 0 | AEF13: 0 | AEG13: 0 | AEH13: 0 | AEI13: 0 | AEJ13: 0 | AEK13: 0 | AEL13: 0 | AEM13: 0 | AEN13: =VLOOKUP(C13,'[2]Фін.рез.(витрати)'!$C$8:$AS$94,43,0) -> 0 | AEQ13: =AED13-ADQ13 -> 0 | AER13: =IF(AEQ13<0,AEQ13,0) -> 0 | AES13: =IF(AEQ13>0,AEQ13,0) -> 0 | AET13: =SUM(AEU13:AFF13) -> 0 | AFG13: =SUM(AFH13:AFS13) -> 0 | AFT13: =AFG13-AET13 -> 0 | AFU13: =IF(AFT13<0,AFT13,0) -> 0 | AFV13: =IF(AFT13>0,AFT13,0) -> 0 | AFW13: =F13+IB13+JE13+KH13+LK13+MN13+NQ13+VQ13+WT13+XW13+YZ13+AAC13+ABF13+ACI13+AET13 -> 203087.24 | AFX13: =G13+IO13+JR13+KU13+LX13+NA13+NR13+WD13+XG13+YJ13+ZM13+AAP13+ABS13+ACJ13+AFG13 -> 163640.46 | AFY13: =AFX13-AFW13 -> -39446.784 | AFZ13: =IF(AFY13<0,AFY13,0) -> -39446.784 | AGA13: =IF(AFY13>0,AFY13,0) -> 0 | AGB13: =AFW13*1.2 -> 243704.69 | AGC13: =AFX13*1.2 -> 196368.55 | AGD13: =AGC13-AGB13 -> -47336.141 | AGE13: =IF(AGD13<0,AGD13,0) -> -47336.141 | AGF13: =IF(AGD13>0,AGD13,0) -> 0 | AGG13: =AGB13*AGS13 -> 12185.234 | AGH13: =AGC13*AGS13 -> 9818.4274 | AGI13: =AGH13-AGG13 -> -2366.807 | AGJ13: =IF(AGI13<0,AGI13,0) -> -2366.807 | AGK13: =IF(AGI13>0,AGI13,0) -> 0 | AGL13: =AGB13+AGG13 -> 255889.92 | AGM13: =AGC13+AGH13 -> 206186.97 | AGN13: =AGM13-AGL13 -> -49702.948 | AGO13: =IF(AGN13<0,AGN13,0) -> -49702.948 | AGP13: =IF(AGN13>0,AGN13,0) -> 0 | AGQ13: =AGG12/AGL12 -> 0.047619048 | AGS13: 0.05
A14: 444 | B14: 3 | C14: Олександра Довгача вул. 7А | D14: 9 | E14: 4260.4 | F14: =K14+AN14+BQ14+CT14+DW14+FA14+GD14+GY14 -> 56956.56 | G14: =X14+BA14+CD14+DG14+EK14+FN14+GQ14+HL14 -> 64852.476 | H14: =G14-F14 -> 7895.9157 | I14: =IF(H14<0,H14,0) -> 0 | J14: =IF(H14>0,H14,0) -> 7895.9157 | K14: =SUM(L14:W14) -> 21910.28 | L14: 1931.24 | M14: 1931.24 | N14: 1931.24 | O14: 1931.24 | P14: 1931.24 | Q14: 1931.24 | R14: 2580.71 | S14: 2580.71 | T14: 2580.71 | U14: 2580.71 | X14: =SUM(Y14:AJ14) -> 26964.945 | Y14: 0 | Z14: 0 | AA14: 12349.571 | AB14: 0 | AC14: 0 | AD14: 0 | AE14: 0 | AF14: 0 | AG14: 14615.374 | AH14: 0 | AL14: =IF(AK14<0,AK14,0) -> 0 | AM14: =IF(AK14>0,AK14,0) -> 0 | AN14: =SUM(AO14:AZ14) -> 3490.82 | AO14: 307.17 | AP14: 307.17 | AQ14: 307.17 | AR14: 307.17 | AS14: 307.17 | AT14: 307.17 | AU14: 411.95 | AV14: 411.95 | AW14: 411.95 | AX14: 411.95 | BA14: =SUM(BB14:BM14) -> 4336.0139 | BB14: 0 | BC14: 0 | BD14: 1985.8284 | BE14: 0 | BF14: 0 | BG14: 0 | BH14: 0 | BI14: 0 | BJ14: 2350.1855 | BK14: 0 | BO14: =IF(BN14<0,BN14,0) -> 0 | BP14: =IF(BN14>0,BN14,0) -> 0 | BQ14: =SUM(BR14:CC14) -> 2925.1 | BR14: 278.21 | BS14: 278.21 | BT14: 278.21 | BU14: 278.21 | BV14: 278.21 | BW14: 278.21 | BX14: 313.96 | BY14: 313.96 | BZ14: 313.96 | CA14: 313.96 | CD14: =SUM(CE14:CP14) -> 3130.4057 | CE14: 323.90038 | CF14: 316.68725 | CG14: 315.94363 | CH14: 314.3414 | CI14: 315.79014 | CJ14: 315.79766 | CK14: 308.43288 | CL14: 306.02327 | CM14: 303.80932 | CN14: 309.67971 | CR14: =IF(CQ14<0,CQ14,0) -> 0 | CS14: =IF(CQ14>0,CQ14,0) -> 0 | CT14: =SUM(CU14:DF14) -> 505.34 | CU14: 48.15 | CV14: 48.15 | CW14: 48.15 | CX14: 48.15 | CY14: 48.15 | CZ14: 48.15 | DA14: 54.11 | DB14: 54.11 | DC14: 54.11 | DD14: 54.11 | DG14: =SUM(DH14:DS14) -> 540.687 | DH14: 55.944419 | DI14: 54.69856 | DJ14: 54.570122 | DK14: 54.293383 | DL14: 54.543609 | DM14: 54.544909 | DN14: 53.272856 | DO14: 52.856666 | DP14: 52.47427 | DQ14: 53.48821 | DT14: =DG14-CT14 -> 35.347004 | DU14: =IF(DT14<0,DT14,0) -> 0 | DV14: =IF(DT14>0,DT14,0) -> 35.347004 | DW14: =SUM(DX14:EI14) -> 426.02 | DX14: 37.49 | DY14: 37.49 | DZ14: 37.49 | EA14: 37.49 | EB14: 37.49 | EC14: 37.49 | ED14: 50.27 | EE14: 50.27 | EF14: 50.27 | EG14: 50.27 | EK14: =SUM(EL14:EW14) -> 529.22509 | EL14: 0 | EM14: 0 | EN14: 242.37869 | EO14: 0 | EP14: 0 | EQ14: 0 | ER14: 0 | ES14: 0 | ET14: 286.8464 | EU14: 0 | EX14: =EK14-DW14 -> 103.20509 | EY14: =IF(EX14<0,EX14,0) -> 0 | EZ14: =IF(EX14>0,EX14,0) -> 103.20509 | FA14: =SUM(FB14:FM14) -> 6993.52 | FB14: 615.2 | FC14: 615.2 | FD14: 615.2 | FE14: 615.2 | FF14: 615.2 | FG14: 615.2 | FH14: 825.58 | FI14: 825.58 | FJ14: 825.58 | FK14: 825.58 | FN14: =SUM(FO14:FZ14) -> 8727.6198 | FO14: 0 | FP14: 0 | FQ14: 4035.7433 | FR14: 0 | FS14: 0 | FT14: 0 | FU14: 0 | FV14: 0 | FW14: 4691.8765 | FX14: 0 | GA14: =FN14-FA14 -> 1734.0998 | GB14: =IF(GA14<0,GA14,0) -> 0 | GC14: =IF(GA14>0,GA14,0) -> 1734.0998 | GD14: =SUM(GE14:GP14) -> 0 | GQ14: =GR14+GS14+GT14+GU14 -> 0 | GR14: 0 | GS14: =VLOOKUP(C14,'[2]Фін.рез.(витрати)'!$C$8:$V$94,20,0) -> 0 | GV14: =GQ14-GD14 -> 0 | GW14: =IF(GV14<0,GV14,0) -> 0 | GX14: =IF(GV14>0,GV14,0) -> 0 | GY14: =SUM(GZ14:HK14) -> 20705.48 | GZ14: 1832.4 | HA14: 1832.4 | HB14: 1832.4 | HC14: 1832.4 | HD14: 1832.4 | HE14: 1832.4 | HF14: 2427.77 | HG14: 2427.77 | HH14: 2427.77 | HI14: 2427.77 | HL14: =SUM(HM14:HX14) -> 20623.579 | HM14: 2657.9258 | HN14: 1963.6933 | HO14: 2306.8786 | HP14: 2127.3015 | HQ14: 1973.8292 | HR14: 1969.1322 | HS14: 1814.4416 | HT14: 1803.8102 | HU14: 2027.6895 | HV14: 1978.8773 | HY14: =HL14-GY14 -> -81.900636 | HZ14: =IF(HY14<0,HY14,0) -> -81.900636 | IA14: =IF(HY14>0,HY14,0) -> 0 | IB14: =SUM(IC14:IN14) -> 26053.77 | IC14: 2823.82 | ID14: 2185.44 | IE14: 2641.27 | IF14: 2015.3 | IG14: 2823.82 | IH14: 2540.78 | II14: 2823.82 | IJ14: 2551.88 | IK14: 2823.82 | IL14: 2823.82 | IO14: =SUM(IP14:JA14) -> 40648.626 | IP14: 3251.8673 | IQ14: 3377.3961 | IR14: 4489.8299 | IS14: 3514.5391 | IT14: 4278.8761 | IU14: 4081.4442 | IV14: 4804.9858 | IW14: 4401.0527 | IX14: 4094.6111 | IY14: 4354.0238 | JB14: =IO14-IB14 -> 14594.856 | JC14: =IF(JB14<0,JB14,0) -> 0 | JD14: =IF(JB14>0,JB14,0) -> 14594.856 | JE14: =SUM(JF14:JQ14) -> 0 | JF14: 0 | JG14: 0 | JH14: 0 | JI14: 0 | JJ14: 0 | JK14: 0 | JL14: 0 | JM14: 0 | JN14: 0 | JO14: 0 | JR14: =SUM(JS14:KD14) -> 0 | JS14: 0 | JT14: 0 | JU14: 0 | JV14: 0 | JW14: 0 | JX14: 0 | JY14: 0 | JZ14: 0 | KA14: 0 | KB14: 0 | KE14: =JR14-JE14 -> 0 | KF14: =IF(KE14<0,KE14,0) -> 0 | KG14: =IF(KE14>0,KE14,0) -> 0 | KH14: =SUM(KI14:KT14) -> 7508.26 | KI14: 660.37 | KJ14: 660.37 | KK14: 660.37 | KL14: 660.37 | KM14: 660.37 | KN14: 660.37 | KO14: 886.51 | KP14: 886.51 | KQ14: 886.51 | KR14: 886.51 | KU14: =SUM(KV14:LG14) -> 10471.193 | KV14: 899.89526 | KW14: 962.18477 | KX14: 956.11178 | KY14: 909.29961 | KZ14: 948.6241 | LA14: 1220.8971 | LB14: 1133.0976 | LC14: 1125.143 | LD14: 1160.3536 | LE14: 1155.5866 | LH14: =KU14-KH14 -> 2962.9334 | LI14: =IF(LH14<0,LH14,0) -> 0 | LJ14: =IF(LH14>0,LH14,0) -> 2962.9334 | LK14: =SUM(LL14:LW14) -> 0 | LX14: =SUM(LY14:MJ14) -> 0 | MJ14: 0 | ML14: =IF(MK14<0,MK14,0) -> 0 | MM14: =IF(MK14>0,MK14,0) -> 0 | MN14: =SUM(MO14:MZ14) -> 101615.8 | MO14: 9598.26 | MP14: 9598.26 | MQ14: 9598.26 | MR14: 9598.26 | MS14: 9598.26 | MT14: 9598.26 | MU14: 11006.56 | MV14: 11006.56 | MW14: 11006.56 | MX14: 11006.56 | NA14: =SUM(NB14:NM14) -> 120266.31 | NB14: 6583.2833 | NC14: 5607.4742 | ND14: 88457.295 | NE14: 9493.2744 | NF14: 0 | NG14: 0 | NH14: 7326.5648 | NI14: 0 | NJ14: 1651.2669 | NK14: 1147.1511 | NN14: =NA14-MN14 -> 18650.51 | NO14: =IF(NN14<0,NN14,0) -> 0 | NP14: =IF(NN14>0,NN14,0) -> 18650.51 | NQ14: =NV14+OY14+QB14+RE14+SH14+TK14+UN14 -> 25858.62 | NR14: =OI14+PL14+QO14+RR14+SU14+TX14+VA14 -> 30538.52 | NS14: =NR14-NQ14 -> 4679.9 | NT14: =IF(NS14<0,NS14,0) -> 0 | NU14: =IF(NS14>0,NS14,0) -> 4679.9 | NV14: =SUM(NW14:OH14) -> 5934.46 | NW14: 539.79 | NX14: 539.79 | NY14: 539.79 | NZ14: 539.79 | OA14: 539.79 | OB14: 539.79 | OC14: 673.93 | OD14: 673.93 | OE14: 673.93 | OF14: 673.93 | OI14: =SUM(OJ14:OU14) -> 4400.49 | OJ14: 0 | OK14: 0 | OL14: 4400.49 | ON14: 0 | OO14: 0 | OP14: 0 | OQ14: 0 | OR14: 0 | OS14: 0 | OV14: =OI14-NV14 -> -1533.97 | OW14: =IF(OV14<0,OV14,0) -> -1533.97 | OX14: =IF(OV14>0,OV14,0) -> 0 | OY14: =SUM(OZ14:PK14) -> 8398.62 | OZ14: 800.53 | PA14: 800.53 | PB14: 800.53 | PC14: 800.53 | PD14: 800.53 | PE14: 800.53 | PF14: 898.86 | PG14: 898.86 | PH14: 898.86 | PI14: 898.86 | PL14: =SUM(PM14:PX14) -> 4321.59 | PM14: 0 | PN14: 0 | PO14: 4321.59 | PP14: 0 | PQ14: 0 | PR14: 0 | PS14: 0 | PT14: 0 | PU14: 0 | PV14: 0 | PY14: =PL14-OY14 -> -4077.03 | PZ14: =IF(PY14<0,PY14,0) -> -4077.03 | QA14: =IF(PY14>0,PY14,0) -> 0 | QB14: =SUM(QC14:QN14) -> 1641.88 | QC14: 145.28 | QD14: 145.28 | QE14: 145.28 | QF14: 145.28 | QG14: 145.28 | QH14: 145.28 | QI14: 192.55 | QJ14: 192.55 | QK14: 192.55 | QL14: 192.55 | QO14: =SUM(QP14:RA14) -> 0 | QP14: 0 | QQ14: 0 | QR14: 0 | QT14: 0 | QW14: 0 | QY14: 0 | RB14: =QO14-QB14 -> -1641.88 | RC14: =IF(RB14<0,RB14,0) -> -1641.88 | RD14: =IF(RB14>0,RB14,0) -> 0 | RE14: =SUM(RF14:RQ14) -> 6311.1 | RF14: 574.73 | RG14: 574.73 | RH14: 574.73 | RI14: 574.73 | RJ14: 574.73 | RK14: 574.73 | RL14: 715.68 | RM14: 715.68 | RN14: 715.68 | RO14: 715.68 | RR14: =SUM(RS14:SD14) -> 0 | RS14: 0 | RU14: 0 | RV14: 0 | RW14: 0 | RX14: 0 | RZ14: 0 | SA14: 0 | SB14: 0 | SE14: =RR14-RE14 -> -6311.1 | SF14: =IF(SE14<0,SE14,0) -> -6311.1 | SG14: =IF(SE14>0,SE14,0) -> 0 | SH14: =SUM(SI14:ST14) -> 1456.12 | SI14: 138.46 | SJ14: 138.46 | SK14: 138.46 | SL14: 138.46 | SM14: 138.46 | SN14: 138.46 | SO14: 156.34 | SP14: 156.34 | SQ14: 156.34 | SR14: 156.34 | SU14: =SUM(SV14:TG14) -> 0 | SV14: 0 | SW14: 0 | SX14: 0 | SY14: 0 | SZ14: 0 | TC14: 0 | TD14: 0 | TE14: =VLOOKUP(C14,'[2]Фін.рез.(витрати)'!$C$8:$AH$94,32,0) -> 0 | TH14: =SU14-SH14 -> -1456.12 | TI14: =IF(TH14<0,TH14,0) -> -1456.12 | TJ14: =IF(TH14>0,TH14,0) -> 0 | TK14: =SUM(TL14:TW14) -> 2009.1 | TL14: 177.23 | TM14: 177.23 | TN14: 177.23 | TO14: 177.23 | TP14: 177.23 | TQ14: 177.23 | TR14: 236.43 | TS14: 236.43 | TT14: 236.43 | TU14: 236.43 | TX14: =SUM(TY14:UJ14) -> 21816.44 | TY14: 8834.93 | TZ14: 0 | UA14: 7521.64 | UB14: 0 | UC14: 0 | UD14: 0 | UE14: 0 | UF14: 2601.35 | UG14: 2858.52 | UH14: =VLOOKUP(C14,'[2]Фін.рез.(витрати)'!$C$8:$AI$94,33,0) -> 0 | UK14: =TX14-TK14 -> 19807.34 | UL14: =IF(UK14<0,UK14,0) -> 0 | UM14: =IF(UK14>0,UK14,0) -> 19807.34 | UN14: =SUM(UO14:UZ14) -> 107.34 | UO14: 9.37 | UP14: 9.37 | UQ14: 9.37 | UR14: 9.37 | US14: 9.37 | UT14: 9.37 | UU14: 12.78 | UV14: 12.78 | UW14: 12.78 | UX14: 12.78 | VA14: =SUM(VB14:VM14) -> 0 | VN14: =VA14-UN14 -> -107.34 | VO14: =IF(VN14<0,VN14,0) -> -107.34 | VP14: =IF(VN14>0,VN14,0) -> 0 | VQ14: =SUM(VR14:WC14) -> 0 | WD14: =SUM(WE14:WP14) -> 0 | WQ14: =WD14-VQ14 -> 0 | WR14: =IF(WQ14<0,WQ14,0) -> 0 | WS14: =IF(WQ14>0,WQ14,0) -> 0 | WT14: =SUM(WU14:XF14) -> 81310.34 | WU14: 6911.23 | WV14: 6911.23 | WW14: 6911.23 | WX14: 6911.23 | WY14: 6911.23 | WZ14: 6911.23 | XA14: 9960.74 | XB14: 9960.74 | XC14: 9960.74 | XD14: 9960.74 | XG14: =SUM(XH14:XS14) -> 70192.563 | XH14: 7391.6566 | XI14: 8014.6408 | XK14: 6432.923 | XL14: 6590.844 | XM14: 8590.8146 | XN14: 8207.107 | XO14: 8753.4602 | XP14: 6717.5388 | XQ14: =VLOOKUP(C14,'[2]Фін.рез.(витрати)'!$C$8:$AL$94,36,0) -> 9493.5781 | XT14: =XG14-WT14 -> -11117.777 | XU14: =IF(XT14<0,XT14,0) -> -11117.777 | XV14: =IF(XT14>0,XT14,0) -> 0 | XW14: =SUM(XX14:YI14) -> 29927 | XX14: 2644.86 | XY14: 2644.86 | XZ14: 2644.86 | YA14: 2644.86 | YB14: 2644.86 | YC14: 2644.86 | YD14: 3514.46 | YE14: 3514.46 | YF14: 3514.46 | YG14: 3514.46 | YJ14: =YK14+YL14+YM14+YN14+YO14+YV14+YP14+YU14+YQ14+YR14+YS14+YT14 -> 28105.656 | YK14: 3251.7606 | YL14: 2445.1922 | YM14: 2502.5232 | YN14: 2433.5785 | YO14: 2985.4273 | YP14: 3131.2438 | YQ14: 3003.3316 | YR14: 2970.8343 | YS14: 2430.3051 | YT14: =VLOOKUP(C14,'[2]Фін.рез.(витрати)'!$C$8:$AM$94,37,0) -> 2951.4591 | YW14: =YJ14-XW14 -> -1821.3442 | YX14: =IF(YW14<0,YW14,0) -> -1821.3442 | YY14: =IF(YW14>0,YW14,0) -> 0 | YZ14: =SUM(ZA14:ZL14) -> 2961.72 | ZA14: 280.34 | ZB14: 280.34 | ZC14: 280.34 | ZD14: 280.34 | ZE14: 280.34 | ZF14: 280.34 | ZG14: 319.92 | ZH14: 319.92 | ZI14: 319.92 | ZJ14: 319.92 | ZM14: =SUM(ZN14:ZY14) -> 10567.936 | ZO14: 1108.2581 | ZP14: 8366.4446 | ZQ14: 1093.2328 | ZZ14: =ZM14-YZ14 -> 7606.2156 | AAA14: =IF(ZZ14<0,ZZ14,0) -> 0 | AAB14: =IF(ZZ14>0,ZZ14,0) -> 7606.2156 | AAC14: =SUM(AAD14:AAO14) -> 1362.48 | AAD14: 135.06 | AAE14: 135.06 | AAF14: 135.06 | AAG14: 135.06 | AAH14: 135.06 | AAI14: 135.06 | AAJ14: 138.03 | AAK14: 138.03 | AAL14: 138.03 | AAM14: 138.03 | AAP14: =SUM(AAQ14:ABB14) -> 1803.9398 | AAQ14: 186.65209 | AAR14: 182.49543 | AAS14: 182.0669 | AAT14: 181.1436 | AAU14: 181.97845 | AAV14: 181.98287 | AAW14: 177.73873 | AAX14: 176.35016 | AAY14: 175.07434 | AAZ14: =VLOOKUP(C14,'[2]Фін.рез.(витрати)'!$C$8:$AO$94,39,0) -> 178.45723 | ABC14: =AAP14-AAC14 -> 441.45979 | ABD14: =IF(ABC14<0,ABC14,0) -> 0 | ABE14: =IF(ABC14>0,ABC14,0) -> 441.45979 | ABF14: =SUM(ABG14:ABR14) -> 300.62 | ABG14: 29.81 | ABH14: 29.81 | ABI14: 29.81 | ABJ14: 29.81 | ABK14: 29.81 | ABL14: 29.81 | ABM14: 30.44 | ABN14: 30.44 | ABO14: 30.44 | ABP14: 30.44 | ABS14: =SUM(ABT14:ACE14) -> 0 | ABT14: 0 | ACA14: 0 | ACB14: 0 | ACC14: =VLOOKUP(C14,'[2]Фін.рез.(витрати)'!$C$8:$AP$94,40,0) -> 0 | ACF14: =ABS14-ABF14 -> -300.62 | ACG14: =IF(ACF14<0,ACF14,0) -> -300.62 | ACH14: =IF(ACF14>0,ACF14,0) -> 0 | ACI14: =ACN14+ADQ14 -> 24822.8 | ACJ14: =ADA14+AED14 -> 17370.373 | ACK14: =ACJ14-ACI14 -> -7452.4271 | ACL14: =IF(ACK14<0,ACK14,0) -> -7452.4271 | ACM14: =IF(ACK14>0,ACK14,0) -> 0 | ACN14: =SUM(ACO14:ACZ14) -> 15300.26 | ACO14: 1575.07 | ACP14: 1575.07 | ACQ14: 1575.07 | ACR14: 1575.07 | ACS14: 1575.07 | ACT14: 1575.07 | ACU14: 1462.46 | ACV14: 1462.46 | ACW14: 1462.46 | ACX14: 1462.46 | ADA14: =SUM(ADB14:ADM14) -> 7900.7948 | ADB14: 1118.6556 | ADC14: 942.17616 | ADD14: 772.40505 | ADE14: 483.86281 | ADF14: 1180.5112 | ADG14: 445.2553 | ADH14: 738.08451 | ADI14: 661.06569 | ADJ14: 801.6872 | ADK14: =VLOOKUP(C14,'[2]Фін.рез.(витрати)'!$C$8:$AR$94,42,0) -> 757.09129 | ADN14: =ADA14-ACN14 -> -7399.4652 | ADO14: =IF(ADN14<0,ADN14,0) -> -7399.4652 | ADP14: =IF(ADN14>0,ADN14,0) -> 0 | ADQ14: =SUM(ADR14:AEC14) -> 9522.54 | ADR14: 980.27 | ADS14: 980.27 | ADT14: 980.27 | ADU14: 980.27 | ADV14: 980.27 | ADW14: 980.27 | ADX14: 910.23 | ADY14: 910.23 | ADZ14: 910.23 | AEA14: 910.23 | AED14: =SUM(AEE14:AEP14) -> 9469.5781 | AEE14: 1428.695 | AEF14: 1118.3221 | AEG14: 674.32187 | AEH14: 630.24147 | AEI14: 1327.5644 | AEJ14: 784.30291 | AEK14: 766.01203 | AEL14: 839.19717 | AEM14: 923.51221 | AEN14: =VLOOKUP(C14,'[2]Фін.рез.(витрати)'!$C$8:$AS$94,43,0) -> 977.40886 | AEQ14: =AED14-ADQ14 -> -52.961902 | AER14: =IF(AEQ14<0,AEQ14,0) -> -52.961902 | AES14: =IF(AEQ14>0,AEQ14,0) -> 0 | AET14: =SUM(AEU14:AFF14) -> 0 | AFG14: =SUM(AFH14:AFS14) -> 0 | AFT14: =AFG14-AET14 -> 0 | AFU14: =IF(AFT14<0,AFT14,0) -> 0 | AFV14: =IF(AFT14>0,AFT14,0) -> 0 | AFW14: =F14+IB14+JE14+KH14+LK14+MN14+NQ14+VQ14+WT14+XW14+YZ14+AAC14+ABF14+ACI14+AET14 -> 358677.97 | AFX14: =G14+IO14+JR14+KU14+LX14+NA14+NR14+WD14+XG14+YJ14+ZM14+AAP14+ABS14+ACJ14+AFG14 -> 394817.59 | AFY14: =AFX14-AFW14 -> 36139.622 | AFZ14: =IF(AFY14<0,AFY14,0) -> 0 | AGA14: =IF(AFY14>0,AFY14,0) -> 36139.622 | AGB14: =AFW14*1.2 -> 430413.56 | AGC14: =AFX14*1.2 -> 473781.11 | AGD14: =AGC14-AGB14 -> 43367.547 | AGE14: =IF(AGD14<0,AGD14,0) -> 0 | AGF14: =IF(AGD14>0,AGD14,0) -> 43367.547 | AGG14: =AGB14*AGS14 -> 21520.678 | AGH14: =AGC14*AGS14 -> 23689.056 | AGI14: =AGH14-AGG14 -> 2168.3773 | AGJ14: =IF(AGI14<0,AGI14,0) -> 0 | AGK14: =IF(AGI14>0,AGI14,0) -> 2168.3773 | AGL14: =AGB14+AGG14 -> 451934.24 | AGM14: =AGC14+AGH14 -> 497470.17 | AGN14: =AGM14-AGL14 -> 45535.924 | AGO14: =IF(AGN14<0,AGN14,0) -> 0 | AGP14: =IF(AGN14>0,AGN14,0) -> 45535.924 | AGQ14: =AGG13/AGL13 -> 0.047619048 | AGS14: 0.05
A15: 445 | B15: 3 | C15: Олександра Довгача вул. 9 | D15: 5 | E15: 3306.5 | F15: =K15+AN15+BQ15+CT15+DW15+FA15+GD15+GY15 -> 56621.82 | G15: =X15+BA15+CD15+DG15+EK15+FN15+GQ15+HL15 -> 66569.765 | H15: =G15-F15 -> 9947.9448 | I15: =IF(H15<0,H15,0) -> 0 | J15: =IF(H15>0,H15,0) -> 9947.9448 | K15: =SUM(L15:W15) -> 23401.9 | L15: 2062.89 | M15: 2062.89 | N15: 2062.89 | O15: 2062.89 | P15: 2062.89 | Q15: 2062.89 | R15: 2756.14 | S15: 2756.14 | T15: 2756.14 | U15: 2756.14 | X15: =SUM(Y15:AJ15) -> 29539.453 | Y15: 0 | Z15: 0 | AA15: 0 | AB15: 13307.311 | AC15: 0 | AD15: 0 | AE15: 0 | AF15: 0 | AG15: 0 | AH15: 16232.142 | AL15: =IF(AK15<0,AK15,0) -> 0 | AM15: =IF(AK15>0,AK15,0) -> 0 | AN15: =SUM(AO15:AZ15) -> 4289.86 | AO15: 377.39 | AP15: 377.39 | AQ15: 377.39 | AR15: 377.39 | AS15: 377.39 | AT15: 377.39 | AU15: 506.38 | AV15: 506.38 | AW15: 506.38 | AX15: 506.38 | BA15: =SUM(BB15:BM15) -> 5435.8493 | BB15: 0 | BC15: 0 | BD15: 0 | BE15: 2448.8104 | BF15: 0 | BG15: 0 | BH15: 0 | BI15: 0 | BJ15: 0 | BK15: 2987.0389 | BO15: =IF(BN15<0,BN15,0) -> 0 | BP15: =IF(BN15>0,BN15,0) -> 0 | BQ15: =SUM(BR15:CC15) -> 1999.72 | BR15: 190.18 | BS15: 190.18 | BT15: 190.18 | BU15: 190.18 | BV15: 190.18 | BW15: 190.18 | BX15: 214.66 | BY15: 214.66 | BZ15: 214.66 | CA15: 214.66 | CD15: =SUM(CE15:CP15) -> 2140.5896 | CE15: 221.48497 | CF15: 216.55259 | CG15: 216.0441 | CH15: 214.94848 | CI15: 215.93914 | CJ15: 215.94428 | CK15: 210.9082 | CL15: 209.2605 | CM15: 207.74658 | CN15: 211.76079 | CR15: =IF(CQ15<0,CQ15,0) -> 0 | CS15: =IF(CQ15>0,CQ15,0) -> 0 | CT15: =SUM(CU15:DF15) -> 424.66 | CU15: 40.35 | CV15: 40.35 | CW15: 40.35 | CX15: 40.35 | CY15: 40.35 | CZ15: 40.35 | DA15: 45.64 | DB15: 45.64 | DC15: 45.64 | DD15: 45.64 | DG15: =SUM(DH15:DS15) -> 453.62819 | DH15: 46.936518 | DI15: 45.891261 | DJ15: 45.783503 | DK15: 45.551323 | DL15: 45.76126 | DM15: 45.76235 | DN15: 44.695118 | DO15: 44.34594 | DP15: 44.025115 | DQ15: 44.875796 | DT15: =DG15-CT15 -> 28.968185 | DU15: =IF(DT15<0,DT15,0) -> 0 | DV15: =IF(DT15>0,DT15,0) -> 28.968185 | DW15: =SUM(DX15:EI15) -> 621.14 | DX15: 54.57 | DY15: 54.57 | DZ15: 54.57 | EA15: 54.57 | EB15: 54.57 | EC15: 54.57 | ED15: 73.43 | EE15: 73.43 | EF15: 73.43 | EG15: 73.43 | EK15: =SUM(EL15:EW15) -> 786.76704 | EL15: 0 | EM15: 0 | EN15: 0 | EO15: 354.42786 | EP15: 0 | EQ15: 0 | ER15: 0 | ES15: 0 | ET15: 0 | EU15: 432.33917 | EX15: =EK15-DW15 -> 165.62704 | EY15: =IF(EX15<0,EX15,0) -> 0 | EZ15: =IF(EX15>0,EX15,0) -> 165.62704 | FA15: =SUM(FB15:FM15) -> 9812.72 | FB15: 863.26 | FC15: 863.26 | FD15: 863.26 | FE15: 863.26 | FF15: 863.26 | FG15: 863.26 | FH15: 1158.29 | FI15: 1158.29 | FJ15: 1158.29 | FK15: 1158.29 | FN15: =SUM(FO15:FZ15) -> 12504.017 | FO15: 0 | FP15: 0 | FQ15: 0 | FR15: 5701.9038 | FS15: 0 | FT15: 0 | FU15: 0 | FV15: 0 | FW15: 0 | FX15: 6802.1133 | GA15: =FN15-FA15 -> 2691.2972 | GB15: =IF(GA15<0,GA15,0) -> 0 | GC15: =IF(GA15>0,GA15,0) -> 2691.2972 | GD15: =SUM(GE15:GP15) -> 0 | GQ15: =GR15+GS15+GT15+GU15 -> 0 | GR15: 0 | GS15: =VLOOKUP(C15,'[2]Фін.рез.(витрати)'!$C$8:$V$94,20,0) -> 0 | GV15: =GQ15-GD15 -> 0 | GW15: =IF(GV15<0,GV15,0) -> 0 | GX15: =IF(GV15>0,GV15,0) -> 0 | GY15: =SUM(GZ15:HK15) -> 16071.82 | GZ15: 1422.23 | HA15: 1422.23 | HB15: 1422.23 | HC15: 1422.23 | HD15: 1422.23 | HE15: 1422.23 | HF15: 1884.61 | HG15: 1884.61 | HH15: 1884.61 | HI15: 1884.61 | HL15: =SUM(HM15:HX15) -> 15709.46 | HM15: 2063.4423 | HN15: 1524.485 | HO15: 1790.9119 | HP15: 1350.1422 | HQ15: 1532.3538 | HR15: 1528.7073 | HS15: 1408.6155 | HT15: 1400.362 | HU15: 1574.1675 | HV15: 1536.2728 | HY15: =HL15-GY15 -> -362.35969 | HZ15: =IF(HY15<0,HY15,0) -> -362.35969 | IA15: =IF(HY15>0,HY15,0) -> 0 | IB15: =SUM(IC15:IN15) -> 0 | IC15: 0 | ID15: 0 | IE15: 0 | IF15: 0 | IG15: 0 | IH15: 0 | II15: 0 | IO15: =SUM(IP15:JA15) -> 0 | IP15: 0 | IQ15: 0 | IR15: 0 | IS15: 0 | IT15: 0 | IU15: 0 | IV15: 0 | IW15: 0 | IX15: 0 | IY15: 0 | JB15: =IO15-IB15 -> 0 | JC15: =IF(JB15<0,JB15,0) -> 0 | JD15: =IF(JB15>0,JB15,0) -> 0 | JE15: =SUM(JF15:JQ15) -> 0 | JF15: 0 | JG15: 0 | JH15: 0 | JI15: 0 | JJ15: 0 | JK15: 0 | JL15: 0 | JM15: 0 | JN15: 0 | JO15: 0 | JR15: =SUM(JS15:KD15) -> 0 | JS15: 0 | JT15: 0 | JU15: 0 | JV15: 0 | JW15: 0 | JX15: 0 | JY15: 0 | JZ15: 0 | KA15: 0 | KB15: 0 | KE15: =JR15-JE15 -> 0 | KF15: =IF(KE15<0,KE15,0) -> 0 | KG15: =IF(KE15>0,KE15,0) -> 0 | KH15: =SUM(KI15:KT15) -> 7887.7 | KI15: 693.91 | KJ15: 693.91 | KK15: 693.91 | KL15: 693.91 | KM15: 693.91 | KN15: 693.91 | KO15: 931.06 | KP15: 931.06 | KQ15: 931.06 | KR15: 931.06 | KU15: =SUM(KV15:LG15) -> 10999.256 | KV15: 945.27697 | KW15: 1010.7077 | KX15: 1004.3285 | KY15: 955.15558 | KZ15: 996.46319 | LA15: 1282.4669 | LB15: 1190.2397 | LC15: 1181.8839 | LD15: 1218.8702 | LE15: 1213.8628 | LH15: =KU15-KH15 -> 3111.5555 | LI15: =IF(LH15<0,LH15,0) -> 0 | LJ15: =IF(LH15>0,LH15,0) -> 3111.5555 | LK15: =SUM(LL15:LW15) -> 0 | LX15: =SUM(LY15:MJ15) -> 0 | MJ15: 0 | ML15: =IF(MK15<0,MK15,0) -> 0 | MM15: =IF(MK15>0,MK15,0) -> 0 | MN15: =SUM(MO15:MZ15) -> 35936.62 | MO15: 3490.07 | MP15: 3490.07 | MQ15: 3490.07 | MR15: 3490.07 | MS15: 3490.07 | MT15: 3490.07 | MU15: 3749.05 | MV15: 3749.05 | MW15: 3749.05 | MX15: 3749.05 | NA15: =SUM(NB15:NM15) -> 3988.0638 | NB15: 0 | NC15: 0 | ND15: 2086.5064 | NE15: 0 | NF15: 0 | NG15: 0 | NH15: 0 | NI15: 0 | NJ15: 0 | NK15: 1901.5574 | NN15: =NA15-MN15 -> -31948.556 | NO15: =IF(NN15<0,NN15,0) -> -31948.556 | NP15: =IF(NN15>0,NN15,0) -> 0 | NQ15: =NV15+OY15+QB15+RE15+SH15+TK15+UN15 -> 26054.48 | NR15: =OI15+PL15+QO15+RR15+SU15+TX15+VA15 -> 56952.38 | NS15: =NR15-NQ15 -> 30897.9 | NT15: =IF(NS15<0,NS15,0) -> 0 | NU15: =IF(NS15>0,NS15,0) -> 30897.9 | NV15: =SUM(NW15:OH15) -> 6022.94 | NW15: 547.39 | NX15: 547.39 | NY15: 547.39 | NZ15: 547.39 | OA15: 547.39 | OB15: 547.39 | OC15: 684.65 | OD15: 684.65 | OE15: 684.65 | OF15: 684.65 | OI15: =SUM(OJ15:OU15) -> 7433.04 | OJ15: 0 | OK15: 0 | OL15: 0 | ON15: 5962.88 | OO15: 0 | OP15: 0 | OQ15: 0 | OR15: 0 | OS15: 1470.16 | OV15: =OI15-NV15 -> 1410.1 | OW15: =IF(OV15<0,OV15,0) -> 0 | OX15: =IF(OV15>0,OV15,0) -> 1410.1 | OY15: =SUM(OZ15:PK15) -> 10237.34 | OZ15: 975.71 | PA15: 975.71 | PB15: 975.71 | PC15: 975.71 | PD15: 975.71 | PE15: 975.71 | PF15: 1095.77 | PG15: 1095.77 | PH15: 1095.77 | PI15: 1095.77 | PL15: =SUM(PM15:PX15) -> 27811.66 | PM15: 0 | PN15: 0 | PO15: 4665.09 | PP15: 0 | PQ15: 8461.34 | PR15: 0 | PS15: 9583.66 | PT15: 0 | PU15: 5101.57 | PV15: 0 | PY15: =PL15-OY15 -> 17574.32 | PZ15: =IF(PY15<0,PY15,0) -> 0 | QA15: =IF(PY15>0,PY15,0) -> 17574.32 | QB15: =SUM(QC15:QN15) -> 1273.42 | QC15: 112.79 | QD15: 112.79 | QE15: 112.79 | QF15: 112.79 | QG15: 112.79 | QH15: 112.79 | QI15: 149.17 | QJ15: 149.17 | QK15: 149.17 | QL15: 149.17 | QO15: =SUM(QP15:RA15) -> 0 | QP15: 0 | QQ15: 0 | QR15: 0 | QT15: 0 | QW15: 0 | QY15: 0 | RB15: =QO15-QB15 -> -1273.42 | RC15: =IF(RB15<0,RB15,0) -> -1273.42 | RD15: =IF(RB15>0,RB15,0) -> 0 | RE15: =SUM(RF15:RQ15) -> 5325.74 | RF15: 484.55 | RG15: 484.55 | RH15: 484.55 | RI15: 484.55 | RJ15: 484.55 | RK15: 484.55 | RL15: 604.61 | RM15: 604.61 | RN15: 604.61 | RO15: 604.61 | RR15: =SUM(RS15:SD15) -> 0 | RS15: 0 | RU15: 0 | RV15: 0 | RW15: 0 | RX15: 0 | RZ15: 0 | SA15: 0 | SB15: 0 | SE15: =RR15-RE15 -> -5325.74 | SF15: =IF(SE15<0,SE15,0) -> -5325.74 | SG15: =IF(SE15>0,SE15,0) -> 0 | SH15: =SUM(SI15:ST15) -> 0 | SI15: 0 | SJ15: 0 | SK15: 0 | SL15: 0 | SM15: 0 | SN15: 0 | SO15: 0 | SP15: 0 | SQ15: 0 | SR15: 0 | SU15: =SUM(SV15:TG15) -> 0 | SV15: 0 | SW15: 0 | SX15: 0 | SY15: 0 | SZ15: 0 | TC15: 0 | TD15: 0 | TE15: =VLOOKUP(C15,'[2]Фін.рез.(витрати)'!$C$8:$AH$94,32,0) -> 0 | TH15: =SU15-SH15 -> 0 | TI15: =IF(TH15<0,TH15,0) -> 0 | TJ15: =IF(TH15>0,TH15,0) -> 0 | TK15: =SUM(TL15:TW15) -> 3153.36 | TL15: 278.16 | TM15: 278.16 | TN15: 278.16 | TO15: 278.16 | TP15: 278.16 | TQ15: 278.16 | TR15: 371.1 | TS15: 371.1 | TT15: 371.1 | TU15: 371.1 | TX15: =SUM(TY15:UJ15) -> 21707.68 | TY15: 0 | TZ15: 14154.07 | UA15: 0 | UB15: 0 | UC15: 7553.61 | UD15: 0 | UE15: 0 | UF15: 0 | UG15: 0 | UH15: =VLOOKUP(C15,'[2]Фін.рез.(витрати)'!$C$8:$AI$94,33,0) -> 0 | UK15: =TX15-TK15 -> 18554.32 | UL15: =IF(UK15<0,UK15,0) -> 0 | UM15: =IF(UK15>0,UK15,0) -> 18554.32 | UN15: =SUM(UO15:UZ15) -> 41.68 | UO15: 3.64 | UP15: 3.64 | UQ15: 3.64 | UR15: 3.64 | US15: 3.64 | UT15: 3.64 | UU15: 4.96 | UV15: 4.96 | UW15: 4.96 | UX15: 4.96 | VA15: =SUM(VB15:VM15) -> 0 | VN15: =VA15-UN15 -> -41.68 | VO15: =IF(VN15<0,VN15,0) -> -41.68 | VP15: =IF(VN15>0,VN15,0) -> 0 | VQ15: =SUM(VR15:WC15) -> 0 | WD15: =SUM(WE15:WP15) -> 0 | WQ15: =WD15-VQ15 -> 0 | WR15: =IF(WQ15<0,WQ15,0) -> 0 | WS15: =IF(WQ15>0,WQ15,0) -> 0 | WT15: =SUM(WU15:XF15) -> 56548.98 | WU15: 4828.29 | WV15: 4828.29 | WW15: 4828.29 | WX15: 4828.29 | WY15: 4828.29 | WZ15: 4828.29 | XA15: 6894.81 | XB15: 6894.81 | XC15: 6894.81 | XD15: 6894.81 | XG15: =SUM(XH15:XS15) -> 63663.594 | XH15: 6747.4293 | XI15: 6917.634 | XK15: 5286.3469 | XL15: 6093.133 | XM15: 7999.0828 | XN15: 5805.7296 | XO15: 7931.4092 | XP15: 7135.4392 | XQ15: =VLOOKUP(C15,'[2]Фін.рез.(витрати)'!$C$8:$AL$94,36,0) -> 9747.3905 | XT15: =XG15-WT15 -> 7114.6144 | XU15: =IF(XT15<0,XT15,0) -> 0 | XV15: =IF(XT15>0,XT15,0) -> 7114.6144 | XW15: =SUM(XX15:YI15) -> 17915.44 | XX15: 1590.58 | XY15: 1590.58 | XZ15: 1590.58 | YA15: 1590.58 | YB15: 1590.58 | YC15: 1590.58 | YD15: 2092.99 | YE15: 2092.99 | YF15: 2092.99 | YG15: 2092.99 | YJ15: =YK15+YL15+YM15+YN15+YO15+YV15+YP15+YU15+YQ15+YR15+YS15+YT15 -> 19233.573 | YK15: 2640.1457 | YL15: 1590.7087 | YM15: 1628.0096 | YN15: 1583.1578 | YO15: 1561.4779 | YP15: 3059.301 | YQ15: 1447.8855 | YR15: 1932.6549 | YS15: 1870.1812 | YT15: =VLOOKUP(C15,'[2]Фін.рез.(витрати)'!$C$8:$AM$94,37,0) -> 1920.0506 | YW15: =YJ15-XW15 -> 1318.1328 | YX15: =IF(YW15<0,YW15,0) -> 0 | YY15: =IF(YW15>0,YW15,0) -> 1318.1328 | YZ15: =SUM(ZA15:ZL15) -> 7102.5 | ZA15: 672.41 | ZB15: 672.41 | ZC15: 672.41 | ZD15: 672.41 | ZE15: 672.41 | ZF15: 672.41 | ZG15: 767.01 | ZH15: 767.01 | ZI15: 767.01 | ZJ15: 767.01 | ZM15: =SUM(ZN15:ZY15) -> 13206.813 | ZO15: 1548.82 | ZP15: 9391.7315 | ZQ15: 2266.2616 | ZZ15: =ZM15-YZ15 -> 6104.3131 | AAA15: =IF(ZZ15<0,ZZ15,0) -> 0 | AAB15: =IF(ZZ15>0,ZZ15,0) -> 6104.3131 | AAC15: =SUM(AAD15:AAO15) -> 1430.82 | AAD15: 141.89 | AAE15: 141.89 | AAF15: 141.89 | AAG15: 141.89 | AAH15: 141.89 | AAI15: 141.89 | AAJ15: 144.87 | AAK15: 144.87 | AAL15: 144.87 | AAM15: 144.87 | AAP15: =SUM(AAQ15:ABB15) -> 2053.8683 | AAQ15: 212.51198 | AAR15: 207.77943 | AAS15: 207.29154 | AAT15: 206.24031 | AAU15: 207.19083 | AAV15: 207.19585 | AAW15: 202.36371 | AAX15: 200.78276 | AAY15: 199.33018 | AAZ15: =VLOOKUP(C15,'[2]Фін.рез.(витрати)'!$C$8:$AO$94,39,0) -> 203.18176 | ABC15: =AAP15-AAC15 -> 623.04834 | ABD15: =IF(ABC15<0,ABC15,0) -> 0 | ABE15: =IF(ABC15>0,ABC15,0) -> 623.04834 | ABF15: =SUM(ABG15:ABR15) -> 316.78 | ABG15: 31.41 | ABH15: 31.41 | ABI15: 31.41 | ABJ15: 31.41 | ABK15: 31.41 | ABL15: 31.41 | ABM15: 32.08 | ABN15: 32.08 | ABO15: 32.08 | ABP15: 32.08 | ABS15: =SUM(ABT15:ACE15) -> 0 | ABT15: 0 | ACA15: 0 | ACB15: 0 | ACC15: =VLOOKUP(C15,'[2]Фін.рез.(витрати)'!$C$8:$AP$94,40,0) -> 0 | ACF15: =ABS15-ABF15 -> -316.78 | ACG15: =IF(ACF15<0,ACF15,0) -> -316.78 | ACH15: =IF(ACF15>0,ACF15,0) -> 0 | ACI15: =ACN15+ADQ15 -> 16954.94 | ACJ15: =ADA15+AED15 -> 11316.004 | ACK15: =ACJ15-ACI15 -> -5638.9364 | ACL15: =IF(ACK15<0,ACK15,0) -> -5638.9364 | ACM15: =IF(ACK15>0,ACK15,0) -> 0 | ACN15: =SUM(ACO15:ACZ15) -> 16954.94 | ACO15: 1745.37 | ACP15: 1745.37 | ACQ15: 1745.37 | ACR15: 1745.37 | ACS15: 1745.37 | ACT15: 1745.37 | ACU15: 1620.68 | ACV15: 1620.68 | ACW15: 1620.68 | ACX15: 1620.68 | ADA15: =SUM(ADB15:ADM15) -> 11316.004 | ADB15: 1164.7425 | ADC15: 933.98332 | ADD15: 2251.8264 | ADE15: 1203.5579 | ADF15: 1241.7834 | ADG15: 1017.1428 | ADH15: 758.03274 | ADI15: 930.24214 | ADJ15: 825.26623 | ADK15: =VLOOKUP(C15,'[2]Фін.рез.(витрати)'!$C$8:$AR$94,42,0) -> 989.42618 | ADN15: =ADA15-ACN15 -> -5638.9364 | ADO15: =IF(ADN15<0,ADN15,0) -> -5638.9364 | ADP15: =IF(ADN15>0,ADN15,0) -> 0 | ADQ15: =SUM(ADR15:AEC15) -> 0 | ADR15: 0 | ADS15: 0 | ADT15: 0 | ADU15: 0 | ADV15: 0 | ADW15: 0 | ADX15: 0 | ADY15: 0 | ADZ15: 0 | AEA15: 0 | AED15: =SUM(AEE15:AEP15) -> 0 | AEE15: 0 | AEF15: 0 | AEG15: 0 | AEH15: 0 | AEI15: 0 | AEJ15: 0 | AEK15: 0 | AEL15: 0 | AEM15: 0 | AEN15: =VLOOKUP(C15,'[2]Фін.рез.(витрати)'!$C$8:$AS$94,43,0) -> 0 | AEQ15: =AED15-ADQ15 -> 0 | AER15: =IF(AEQ15<0,AEQ15,0) -> 0 | AES15: =IF(AEQ15>0,AEQ15,0) -> 0 | AET15: =SUM(AEU15:AFF15) -> 0 | AFG15: =SUM(AFH15:AFS15) -> 0 | AFT15: =AFG15-AET15 -> 0 | AFU15: =IF(AFT15<0,AFT15,0) -> 0 | AFV15: =IF(AFT15>0,AFT15,0) -> 0 | AFW15: =F15+IB15+JE15+KH15+LK15+MN15+NQ15+VQ15+WT15+XW15+YZ15+AAC15+ABF15+ACI15+AET15 -> 226770.08 | AFX15: =G15+IO15+JR15+KU15+LX15+NA15+NR15+WD15+XG15+YJ15+ZM15+AAP15+ABS15+ACJ15+AFG15 -> 247983.32 | AFY15: =AFX15-AFW15 -> 21213.236 | AFZ15: =IF(AFY15<0,AFY15,0) -> 0 | AGA15: =IF(AFY15>0,AFY15,0) -> 21213.236 | AGB15: =AFW15*1.2 -> 272124.1 | AGC15: =AFX15*1.2 -> 297579.98 | AGD15: =AGC15-AGB15 -> 25455.884 | AGE15: =IF(AGD15<0,AGD15,0) -> 0 | AGF15: =IF(AGD15>0,AGD15,0) -> 25455.884 | AGG15: =AGB15*AGS15 -> 13606.205 | AGH15: =AGC15*AGS15 -> 14878.999 | AGI15: =AGH15-AGG15 -> 1272.7942 | AGJ15: =IF(AGI15<0,AGI15,0) -> 0 | AGK15: =IF(AGI15>0,AGI15,0) -> 1272.7942 | AGL15: =AGB15+AGG15 -> 285730.3 | AGM15: =AGC15+AGH15 -> 312458.98 | AGN15: =AGM15-AGL15 -> 26728.678 | AGO15: =IF(AGN15<0,AGN15,0) -> 0 | AGP15: =IF(AGN15>0,AGN15,0) -> 26728.678 | AGQ15: =AGG14/AGL14 -> 0.047619048 | AGS15: 0.05
A16: 446 | B16: 3 | C16: Олександра Довгача вул. 10 | D16: 9 | E16: 7468.47 | F16: =K16+AN16+BQ16+CT16+DW16+FA16+GD16+GY16 -> 76708 | G16: =X16+BA16+CD16+DG16+EK16+FN16+GQ16+HL16 -> 79170.627 | H16: =G16-F16 -> 2462.6266 | I16: =IF(H16<0,H16,0) -> 0 | J16: =IF(H16>0,H16,0) -> 2462.6266 | K16: =SUM(L16:W16) -> 48024.74 | L16: 4233.19 | M16: 4233.19 | N16: 4233.19 | O16: 4233.19 | P16: 4233.19 | Q16: 4233.19 | R16: 5656.4 | S16: 5656.4 | T16: 5656.4 | U16: 5656.4 | X16: =SUM(Y16:AJ16) -> 25987.982 | Y16: 0 | Z16: 0 | AA16: 0 | AB16: 0 | AC16: 25987.982 | AD16: 0 | AE16: 0 | AF16: 0 | AG16: 0 | AH16: 0 | AL16: =IF(AK16<0,AK16,0) -> 0 | AM16: =IF(AK16>0,AK16,0) -> 0 | AN16: =SUM(AO16:AZ16) -> 8363.58 | AO16: 735.65 | AP16: 735.65 | AQ16: 735.65 | AR16: 735.65 | AS16: 735.65 | AT16: 735.65 | AU16: 987.42 | AV16: 987.42 | AW16: 987.42 | AX16: 987.42 | BA16: =SUM(BB16:BM16) -> 4590.4287 | BB16: 0 | BC16: 0 | BD16: 0 | BE16: 0 | BF16: 4590.4287 | BG16: 0 | BH16: 0 | BI16: 0 | BJ16: 0 | BK16: 0 | BO16: =IF(BN16<0,BN16,0) -> 0 | BP16: =IF(BN16>0,BN16,0) -> 0 | BQ16: =SUM(BR16:CC16) -> 1287.6 | BR16: 122.48 | BS16: 122.48 | BT16: 122.48 | BU16: 122.48 | BV16: 122.48 | BW16: 122.48 | BX16: 138.18 | BY16: 138.18 | BZ16: 138.18 | CA16: 138.18 | CD16: =SUM(CE16:CP16) -> 1375.6193 | CE16: 142.33415 | CF16: 139.16443 | CG16: 138.83765 | CH16: 138.13357 | CI16: 138.7702 | CJ16: 138.7735 | CK16: 135.53714 | CL16: 134.47827 | CM16: 133.50537 | CN16: 136.08504 | CR16: =IF(CQ16<0,CQ16,0) -> 0 | CS16: =IF(CQ16>0,CQ16,0) -> 0 | CT16: =SUM(CU16:DF16) -> 878.34 | CU16: 83.65 | CV16: 83.65 | CW16: 83.65 | CX16: 83.65 | CY16: 83.65 | CZ16: 83.65 | DA16: 94.11 | DB16: 94.11 | DC16: 94.11 | DD16: 94.11 | DG16: =SUM(DH16:DS16) -> 938.07564 | DH16: 97.061879 | DI16: 94.900352 | DJ16: 94.677515 | DK16: 94.197381 | DL16: 94.631517 | DM16: 94.633772 | DN16: 92.426799 | DO16: 91.704722 | DP16: 91.041275 | DQ16: 92.800431 | DT16: =DG16-CT16 -> 59.735642 | DU16: =IF(DT16<0,DT16,0) -> 0 | DV16: =IF(DT16>0,DT16,0) -> 59.735642 | DW16: =SUM(DX16:EI16) -> 1707.34 | DX16: 150.11 | DY16: 150.11 | DZ16: 150.11 | EA16: 150.11 | EB16: 150.11 | EC16: 150.11 | ED16: 201.67 | EE16: 201.67 | EF16: 201.67 | EG16: 201.67 | EK16: =SUM(EL16:EW16) -> 934.881 | EL16: 0 | EM16: 0 | EN16: 0 | EO16: 0 | EP16: 934.881 | EQ16: 0 | ER16: 0 | ES16: 0 | ET16: 0 | EU16: 0 | EX16: =EK16-DW16 -> -772.459 | EY16: =IF(EX16<0,EX16,0) -> -772.459 | EZ16: =IF(EX16>0,EX16,0) -> 0 | FA16: =SUM(FB16:FM16) -> 13962.28 | FB16: 1228.58 | FC16: 1228.58 | FD16: 1228.58 | FE16: 1228.58 | FF16: 1228.58 | FG16: 1228.58 | FH16: 1647.7 | FI16: 1647.7 | FJ16: 1647.7 | FK16: 1647.7 | FN16: =SUM(FO16:FZ16) -> 7886.6243 | FO16: 0 | FP16: 0 | FQ16: 0 | FR16: 0 | FS16: 7886.6243 | FT16: 0 | FU16: 0 | FV16: 0 | FW16: 0 | FX16: 0 | GA16: =FN16-FA16 -> -6075.6557 | GB16: =IF(GA16<0,GA16,0) -> -6075.6557 | GC16: =IF(GA16>0,GA16,0) -> 0 | GD16: =SUM(GE16:GP16) -> 0 | GQ16: =GR16+GS16+GT16+GU16 -> 0 | GR16: 0 | GS16: =VLOOKUP(C16,'[2]Фін.рез.(витрати)'!$C$8:$V$94,20,0) -> 0 | GV16: =GQ16-GD16 -> 0 | GW16: =IF(GV16<0,GV16,0) -> 0 | GX16: =IF(GV16>0,GV16,0) -> 0 | GY16: =SUM(GZ16:HK16) -> 2484.12 | GZ16: 220.32 | HA16: 220.32 | HB16: 220.32 | HC16: 220.32 | HD16: 220.32 | HE16: 220.32 | HF16: 290.55 | HG16: 290.55 | HH16: 290.55 | HI16: 290.55 | HL16: =SUM(HM16:HX16) -> 37457.016 | HM16: 4659.3994 | HN16: 3442.3954 | HO16: 4044.0063 | HP16: 3825.0762 | HQ16: 3460.1637 | HR16: 4659.5089 | HS16: 3180.7539 | HT16: 3162.117 | HU16: 3554.582 | HV16: 3469.0132 | HY16: =HL16-GY16 -> 34972.896 | HZ16: =IF(HY16<0,HY16,0) -> 0 | IA16: =IF(HY16>0,HY16,0) -> 34972.896 | IB16: =SUM(IC16:IN16) -> 111514.98 | IC16: 11294.86 | ID16: 10931.92 | IE16: 11107.65 | IF16: 10689.97 | IG16: 11294.86 | IH16: 11294.86 | II16: 11294.86 | IJ16: 11016.28 | IK16: 11294.86 | IL16: 11294.86 | IO16: =SUM(IP16:JA16) -> 174695.6 | IP16: 13006.986 | IQ16: 16894.275 | IR16: 18881.621 | IS16: 18642.544 | IT16: 17114.868 | IU16: 18143.775 | IV16: 19219.228 | IW16: 18999.024 | IX16: 16377.835 | IY16: 17415.448 | JB16: =IO16-IB16 -> 63180.623 | JC16: =IF(JB16<0,JB16,0) -> 0 | JD16: =IF(JB16>0,JB16,0) -> 63180.623 | JE16: =SUM(JF16:JQ16) -> 0 | JF16: 0 | JG16: 0 | JH16: 0 | JI16: 0 | JJ16: 0 | JK16: 0 | JL16: 0 | JM16: 0 | JN16: 0 | JO16: 0 | JR16: =SUM(JS16:KD16) -> 0 | JS16: 0 | JT16: 0 | JU16: 0 | JV16: 0 | JW16: 0 | JX16: 0 | JY16: 0 | JZ16: 0 | KA16: 0 | KB16: 0 | KE16: =JR16-JE16 -> 0 | KF16: =IF(KE16<0,KE16,0) -> 0 | KG16: =IF(KE16>0,KE16,0) -> 0 | KH16: =SUM(KI16:KT16) -> 10070.98 | KI16: 885.77 | KJ16: 885.77 | KK16: 885.77 | KL16: 885.77 | KM16: 885.77 | KN16: 885.77 | KO16: 1189.09 | KP16: 1189.09 | KQ16: 1189.09 | KR16: 1189.09 | KU16: =SUM(KV16:LG16) -> 14047.563 | KV16: 1207.2488 | KW16: 1290.8129 | KX16: 1282.6657 | KY16: 1219.8652 | KZ16: 1272.6207 | LA16: 1637.8868 | LB16: 1520.1 | LC16: 1509.4285 | LD16: 1556.6651 | LE16: 1550.2699 | LH16: =KU16-KH16 -> 3976.5835 | LI16: =IF(LH16<0,LH16,0) -> 0 | LJ16: =IF(LH16>0,LH16,0) -> 3976.5835 | LK16: =SUM(LL16:LW16) -> 0 | LX16: =SUM(LY16:MJ16) -> 0 | MJ16: 0 | ML16: =IF(MK16<0,MK16,0) -> 0 | MM16: =IF(MK16>0,MK16,0) -> 0 | MN16: =SUM(MO16:MZ16) -> 194486.68 | MO16: 18601.96 | MP16: 18601.96 | MQ16: 18601.96 | MR16: 18601.96 | MS16: 18601.96 | MT16: 18601.96 | MU16: 20718.73 | MV16: 20718.73 | MW16: 20718.73 | MX16: 20718.73 | NA16: =SUM(NB16:NM16) -> 381423.46 | NB16: 38524.932 | NC16: 110599.73 | ND16: 503.0415 | NE16: 12626.488 | NF16: 3082.2851 | NG16: 103103.64 | NH16: 23321.709 | NI16: 45918.465 | NJ16: 39386.872 | NK16: 4356.3003 | NN16: =NA16-MN16 -> 186936.78 | NO16: =IF(NN16<0,NN16,0) -> 0 | NP16: =IF(NN16>0,NN16,0) -> 186936.78 | NQ16: =NV16+OY16+QB16+RE16+SH16+TK16+UN16 -> 58116.46 | NR16: =OI16+PL16+QO16+RR16+SU16+TX16+VA16 -> 59415.37 | NS16: =NR16-NQ16 -> 1298.91 | NT16: =IF(NS16<0,NS16,0) -> 0 | NU16: =IF(NS16>0,NS16,0) -> 1298.91 | NV16: =SUM(NW16:OH16) -> 13679.92 | NW16: 1244.26 | NX16: 1244.26 | NY16: 1244.26 | NZ16: 1244.26 | OA16: 1244.26 | OB16: 1244.26 | OC16: 1553.59 | OD16: 1553.59 | OE16: 1553.59 | OF16: 1553.59 | OI16: =SUM(OJ16:OU16) -> 13126.98 | OJ16: 0 | OK16: 0 | OL16: 4605.86 | ON16: 6342.34 | OO16: 2178.78 | OP16: 0 | OQ16: 0 | OR16: 0 | OS16: 0 | OV16: =OI16-NV16 -> -552.94 | OW16: =IF(OV16<0,OV16,0) -> -552.94 | OX16: =IF(OV16>0,OV16,0) -> 0 | OY16: =SUM(OZ16:PK16) -> 19850.66 | OZ16: 1891.79 | PA16: 1891.79 | PB16: 1891.79 | PC16: 1891.79 | PD16: 1891.79 | PE16: 1891.79 | PF16: 2124.98 | PG16: 2124.98 | PH16: 2124.98 | PI16: 2124.98 | PL16: =SUM(PM16:PX16) -> 12794.85 | PM16: 0 | PN16: 0 | PO16: 0 | PP16: 0 | PQ16: 0 | PR16: 3889.42 | PS16: 3004.74 | PT16: 5900.69 | PU16: 0 | PV16: 0 | PY16: =PL16-OY16 -> -7055.81 | PZ16: =IF(PY16<0,PY16,0) -> -7055.81 | QA16: =IF(PY16>0,PY16,0) -> 0 | QB16: =SUM(QC16:QN16) -> 2690.3 | QC16: 238.25 | QD16: 238.25 | QE16: 238.25 | QF16: 238.25 | QG16: 238.25 | QH16: 238.25 | QI16: 315.2 | QJ16: 315.2 | QK16: 315.2 | QL16: 315.2 | QO16: =SUM(QP16:RA16) -> 14656.12 | QP16: 0 | QQ16: 0 | QR16: 0 | QT16: 0 | QW16: 14656.12 | QY16: 0 | RB16: =QO16-QB16 -> 11965.82 | RC16: =IF(RB16<0,RB16,0) -> 0 | RD16: =IF(RB16>0,RB16,0) -> 11965.82 | RE16: =SUM(RF16:RQ16) -> 12726.88 | RF16: 1154.64 | RG16: 1154.64 | RH16: 1154.64 | RI16: 1154.64 | RJ16: 1154.64 | RK16: 1154.64 | RL16: 1449.76 | RM16: 1449.76 | RN16: 1449.76 | RO16: 1449.76 | RR16: =SUM(RS16:SD16) -> 2554.21 | RS16: 0 | RU16: 0 | RV16: 0 | RW16: 0 | RX16: 2554.21 | RZ16: 0 | SA16: 0 | SB16: 0 | SE16: =RR16-RE16 -> -10172.67 | SF16: =IF(SE16<0,SE16,0) -> -10172.67 | SG16: =IF(SE16>0,SE16,0) -> 0 | SH16: =SUM(SI16:ST16) -> 5824.16 | SI16: 553.42 | SJ16: 553.42 | SK16: 553.42 | SL16: 553.42 | SM16: 553.42 | SN16: 553.42 | SO16: 625.91 | SP16: 625.91 | SQ16: 625.91 | SR16: 625.91 | SU16: =SUM(SV16:TG16) -> 6469.57 | SV16: 0 | SW16: 0 | SX16: 0 | SY16: 0 | SZ16: 0 | TC16: 0 | TD16: 6469.57 | TE16: =VLOOKUP(C16,'[2]Фін.рез.(витрати)'!$C$8:$AH$94,32,0) -> 0 | TH16: =SU16-SH16 -> 645.41 | TI16: =IF(TH16<0,TH16,0) -> 0 | TJ16: =IF(TH16>0,TH16,0) -> 645.41 | TK16: =SUM(TL16:TW16) -> 3268.38 | TL16: 288.29 | TM16: 288.29 | TN16: 288.29 | TO16: 288.29 | TP16: 288.29 | TQ16: 288.29 | TR16: 384.66 | TS16: 384.66 | TT16: 384.66 | TU16: 384.66 | TX16: =SUM(TY16:UJ16) -> 9813.64 | TY16: 0 | TZ16: 0 | UA16: 0 | UB16: 0 | UC16: 5426.09 | UD16: 0 | UE16: 0 | UF16: 231.72 | UG16: 4155.83 | UH16: =VLOOKUP(C16,'[2]Фін.рез.(витрати)'!$C$8:$AI$94,33,0) -> 0 | UK16: =TX16-TK16 -> 6545.26 | UL16: =IF(UK16<0,UK16,0) -> 0 | UM16: =IF(UK16>0,UK16,0) -> 6545.26 | UN16: =SUM(UO16:UZ16) -> 76.16 | UO16: 6.72 | UP16: 6.72 | UQ16: 6.72 | UR16: 6.72 | US16: 6.72 | UT16: 6.72 | UU16: 8.96 | UV16: 8.96 | UW16: 8.96 | UX16: 8.96 | VA16: =SUM(VB16:VM16) -> 0 | VN16: =VA16-UN16 -> -76.16 | VO16: =IF(VN16<0,VN16,0) -> -76.16 | VP16: =IF(VN16>0,VN16,0) -> 0 | VQ16: =SUM(VR16:WC16) -> 0 | WD16: =SUM(WE16:WP16) -> 0 | WQ16: =WD16-VQ16 -> 0 | WR16: =IF(WQ16<0,WQ16,0) -> 0 | WS16: =IF(WQ16>0,WQ16,0) -> 0 | WT16: =SUM(WU16:XF16) -> 67499.18 | WU16: 5703.75 | WV16: 5703.75 | WW16: 5703.75 | WX16: 5703.75 | WY16: 5703.75 | WZ16: 5703.75 | XA16: 8319.17 | XB16: 8319.17 | XC16: 8319.17 | XD16: 8319.17 | XG16: =SUM(XH16:XS16) -> 116753.62 | XH16: 12242.725 | XI16: 13923.156 | XK16: 10657.475 | XL16: 10912.502 | XM16: 14229.151 | XN16: 13593.487 | XO16: 11909.851 | XP16: 15834.096 | XQ16: =VLOOKUP(C16,'[2]Фін.рез.(витрати)'!$C$8:$AL$94,36,0) -> 13451.173 | XT16: =XG16-WT16 -> 49254.437 | XU16: =IF(XT16<0,XT16,0) -> 0 | XV16: =IF(XT16>0,XT16,0) -> 49254.437 | XW16: =SUM(XX16:YI16) -> 47978.38 | XX16: 4257.83 | XY16: 4257.83 | XZ16: 4257.83 | YA16: 4257.83 | YB16: 4257.83 | YC16: 4257.83 | YD16: 5607.85 | YE16: 5607.85 | YF16: 5607.85 | YG16: 5607.85 | YJ16: =YK16+YL16+YM16+YN16+YO16+YV16+YP16+YU16+YQ16+YR16+YS16+YT16 -> 95272.174 | YK16: 11149.803 | YL16: 8384.1717 | YM16: 8580.7416 | YN16: 8344.3413 | YO16: 8230.073 | YP16: 11758.837 | YQ16: 10297.918 | YR16: 8549.0236 | YS16: 9857.208 | YT16: =VLOOKUP(C16,'[2]Фін.рез.(витрати)'!$C$8:$AM$94,37,0) -> 10120.056 | YW16: =YJ16-XW16 -> 47293.794 | YX16: =IF(YW16<0,YW16,0) -> 0 | YY16: =IF(YW16>0,YW16,0) -> 47293.794 | YZ16: =SUM(ZA16:ZL16) -> 497.48 | ZA16: 47.06 | ZB16: 47.06 | ZC16: 47.06 | ZD16: 47.06 | ZE16: 47.06 | ZF16: 47.06 | ZG16: 53.78 | ZH16: 53.78 | ZI16: 53.78 | ZJ16: 53.78 | ZM16: =SUM(ZN16:ZY16) -> 18232.087 | ZO16: 2378.3516 | ZP16: 14524.631 | ZQ16: 1329.1041 | ZZ16: =ZM16-YZ16 -> 17734.607 | AAA16: =IF(ZZ16<0,ZZ16,0) -> 0 | AAB16: =IF(ZZ16>0,ZZ16,0) -> 17734.607 | AAC16: =SUM(AAD16:AAO16) -> 2042 | AAD16: 202.4 | AAE16: 202.4 | AAF16: 202.4 | AAG16: 202.4 | AAH16: 202.4 | AAI16: 202.4 | AAJ16: 206.9 | AAK16: 206.9 | AAL16: 206.9 | AAM16: 206.9 | AAP16: =SUM(AAQ16:ABB16) -> 2395.3549 | AAQ16: 247.8453 | AAR16: 242.32589 | AAS16: 241.75688 | AAT16: 240.53087 | AAU16: 241.63942 | AAV16: 241.64529 | AAW16: 236.00973 | AAX16: 234.16592 | AAY16: 232.47182 | AAZ16: =VLOOKUP(C16,'[2]Фін.рез.(витрати)'!$C$8:$AO$94,39,0) -> 236.96379 | ABC16: =AAP16-AAC16 -> 353.35489 | ABD16: =IF(ABC16<0,ABC16,0) -> 0 | ABE16: =IF(ABC16>0,ABC16,0) -> 353.35489 | ABF16: =SUM(ABG16:ABR16) -> 447.16 | ABG16: 44.34 | ABH16: 44.34 | ABI16: 44.34 | ABJ16: 44.34 | ABK16: 44.34 | ABL16: 44.34 | ABM16: 45.28 | ABN16: 45.28 | ABO16: 45.28 | ABP16: 45.28 | ABS16: =SUM(ABT16:ACE16) -> 0 | ABT16: 0 | ACA16: 0 | ACB16: 0 | ACC16: =VLOOKUP(C16,'[2]Фін.рез.(витрати)'!$C$8:$AP$94,40,0) -> 0 | ACF16: =ABS16-ABF16 -> -447.16 | ACG16: =IF(ACF16<0,ACF16,0) -> -447.16 | ACH16: =IF(ACF16>0,ACF16,0) -> 0 | ACI16: =ACN16+ADQ16 -> 64365.88 | ACJ16: =ADA16+AED16 -> 34648.438 | ACK16: =ACJ16-ACI16 -> -29717.442 | ACL16: =IF(ACK16<0,ACK16,0) -> -29717.442 | ACM16: =IF(ACK16>0,ACK16,0) -> 0 | ACN16: =SUM(ACO16:ACZ16) -> 8690.72 | ACO16: 894.74 | ACP16: 894.74 | ACQ16: 894.74 | ACR16: 894.74 | ACS16: 894.74 | ACT16: 894.74 | ACU16: 830.57 | ACV16: 830.57 | ACW16: 830.57 | ACX16: 830.57 | ADA16: =SUM(ADB16:ADM16) -> 11607.318 | ADB16: 1022.292 | ADC16: 647.23406 | ADD16: 666.14827 | ADE16: 491.99495 | ADF16: 1041.6275 | ADG16: 2026.1159 | ADH16: 1308.6039 | ADI16: 1496.3044 | ADJ16: 1512.9881 | ADK16: =VLOOKUP(C16,'[2]Фін.рез.(витрати)'!$C$8:$AR$94,42,0) -> 1394.0094 | ADN16: =ADA16-ACN16 -> 2916.5984 | ADO16: =IF(ADN16<0,ADN16,0) -> 0 | ADP16: =IF(ADN16>0,ADN16,0) -> 2916.5984 | ADQ16: =SUM(ADR16:AEC16) -> 55675.16 | ADR16: 5731.62 | ADS16: 5731.62 | ADT16: 5731.62 | ADU16: 5731.62 | ADV16: 5731.62 | ADW16: 5731.62 | ADX16: 5321.36 | ADY16: 5321.36 | ADZ16: 5321.36 | AEA16: 5321.36 | AED16: =SUM(AEE16:AEP16) -> 23041.12 | AEE16: 2283.3982 | AEF16: 1773.749 | AEG16: 1757.3237 | AEH16: 1203.5579 | AEI16: 2316.0894 | AEJ16: 2871.6924 | AEK16: 2130.471 | AEL16: 2818.4358 | AEM16: 3010.2568 | AEN16: =VLOOKUP(C16,'[2]Фін.рез.(витрати)'!$C$8:$AS$94,43,0) -> 2876.1457 | AEQ16: =AED16-ADQ16 -> -32634.04 | AER16: =IF(AEQ16<0,AEQ16,0) -> -32634.04 | AES16: =IF(AEQ16>0,AEQ16,0) -> 0 | AET16: =SUM(AEU16:AFF16) -> 0 | AFG16: =SUM(AFH16:AFS16) -> 0 | AFT16: =AFG16-AET16 -> 0 | AFU16: =IF(AFT16<0,AFT16,0) -> 0 | AFV16: =IF(AFT16>0,AFT16,0) -> 0 | AFW16: =F16+IB16+JE16+KH16+LK16+MN16+NQ16+VQ16+WT16+XW16+YZ16+AAC16+ABF16+ACI16+AET16 -> 633727.18 | AFX16: =G16+IO16+JR16+KU16+LX16+NA16+NR16+WD16+XG16+YJ16+ZM16+AAP16+ABS16+ACJ16+AFG16 -> 976054.29 | AFY16: =AFX16-AFW16 -> 342327.11 | AFZ16: =IF(AFY16<0,AFY16,0) -> 0 | AGA16: =IF(AFY16>0,AFY16,0) -> 342327.11 | AGB16: =AFW16*1.2 -> 760472.62 | AGC16: =AFX16*1.2 -> 1171265.2 | AGD16: =AGC16-AGB16 -> 410792.54 | AGE16: =IF(AGD16<0,AGD16,0) -> 0 | AGF16: =IF(AGD16>0,AGD16,0) -> 410792.54 | AGG16: =AGB16*AGS16 -> 38023.631 | AGH16: =AGC16*AGS16 -> 58563.258 | AGI16: =AGH16-AGG16 -> 20539.627 | AGJ16: =IF(AGI16<0,AGI16,0) -> 0 | AGK16: =IF(AGI16>0,AGI16,0) -> 20539.627 | AGL16: =AGB16+AGG16 -> 798496.25 | AGM16: =AGC16+AGH16 -> 1229828.4 | AGN16: =AGM16-AGL16 -> 431332.16 | AGO16: =IF(AGN16<0,AGN16,0) -> 0 | AGP16: =IF(AGN16>0,AGN16,0) -> 431332.16 | AGQ16: =AGG15/AGL15 -> 0.047619048 | AGS16: 0.05
A17: 447 | B17: 3 | C17: Олександра Довгача вул. 11 | D17: 5 | E17: 3211.2 | F17: =K17+AN17+BQ17+CT17+DW17+FA17+GD17+GY17 -> 44986.54 | G17: =X17+BA17+CD17+DG17+EK17+FN17+GQ17+HL17 -> 50644.722 | H17: =G17-F17 -> 5658.1819 | I17: =IF(H17<0,H17,0) -> 0 | J17: =IF(H17>0,H17,0) -> 5658.1819 | K17: =SUM(L17:W17) -> 16279.42 | L17: 1435.55 | M17: 1435.55 | N17: 1435.55 | O17: 1435.55 | P17: 1435.55 | Q17: 1435.55 | R17: 1916.53 | S17: 1916.53 | T17: 1916.53 | U17: 1916.53 | X17: =SUM(Y17:AJ17) -> 19461.021 | Y17: 0 | Z17: 0 | AA17: 8289.7827 | AB17: 0 | AC17: 0 | AD17: 0 | AE17: 11171.239 | AF17: 0 | AG17: 0 | AH17: 0 | AL17: =IF(AK17<0,AK17,0) -> 0 | AM17: =IF(AK17>0,AK17,0) -> 0 | AN17: =SUM(AO17:AZ17) -> 3327.64 | AO17: 292.82 | AP17: 292.82 | AQ17: 292.82 | AR17: 292.82 | AS17: 292.82 | AT17: 292.82 | AU17: 392.68 | AV17: 392.68 | AW17: 392.68 | AX17: 392.68 | BA17: =SUM(BB17:BM17) -> 4056.8357 | BB17: 0 | BC17: 0 | BD17: 1728.0789 | BE17: 0 | BF17: 0 | BG17: 0 | BH17: 2328.7567 | BI17: 0 | BJ17: 0 | BK17: 0 | BO17: =IF(BN17<0,BN17,0) -> 0 | BP17: =IF(BN17>0,BN17,0) -> 0 | BQ17: =SUM(BR17:CC17) -> 1928.44 | BR17: 183.34 | BS17: 183.34 | BT17: 183.34 | BU17: 183.34 | BV17: 183.34 | BW17: 183.34 | BX17: 207.1 | BY17: 207.1 | BZ17: 207.1 | CA17: 207.1 | CD17: =SUM(CE17:CP17) -> 2063.6539 | CE17: 213.5245 | CF17: 208.7694 | CG17: 208.27918 | CH17: 207.22294 | CI17: 208.17799 | CJ17: 208.18295 | CK17: 203.32788 | CL17: 201.73939 | CM17: 200.27989 | CN17: 204.14982 | CR17: =IF(CQ17<0,CQ17,0) -> 0 | CS17: =IF(CQ17>0,CQ17,0) -> 0 | CT17: =SUM(CU17:DF17) -> 391.74 | CU17: 37.25 | CV17: 37.25 | CW17: 37.25 | CX17: 37.25 | CY17: 37.25 | CZ17: 37.25 | DA17: 42.06 | DB17: 42.06 | DC17: 42.06 | DD17: 42.06 | DG17: =SUM(DH17:DS17) -> 420.10942 | DH17: 43.46836 | DI17: 42.500338 | DJ17: 42.400542 | DK17: 42.185518 | DL17: 42.379942 | DM17: 42.380952 | DN17: 41.392577 | DO17: 41.069201 | DP17: 40.772082 | DQ17: 41.559905 | DT17: =DG17-CT17 -> 28.369415 | DU17: =IF(DT17<0,DT17,0) -> 0 | DV17: =IF(DT17>0,DT17,0) -> 28.369415 | DW17: =SUM(DX17:EI17) -> 0 | DX17: 0 | DY17: 0 | DZ17: 0 | EA17: 0 | EB17: 0 | EC17: 0 | ED17: 0 | EE17: 0 | EF17: 0 | EG17: 0 | EK17: =SUM(EL17:EW17) -> 0 | EL17: 0 | EM17: 0 | EN17: 0 | EO17: 0 | EP17: 0 | EQ17: 0 | ER17: 0 | ES17: 0 | ET17: 0 | EU17: 0 | EX17: =EK17-DW17 -> 0 | EY17: =IF(EX17<0,EX17,0) -> 0 | EZ17: =IF(EX17>0,EX17,0) -> 0 | FA17: =SUM(FB17:FM17) -> 7457.42 | FB17: 655.97 | FC17: 655.97 | FD17: 655.97 | FE17: 655.97 | FF17: 655.97 | FG17: 655.97 | FH17: 880.4 | FI17: 880.4 | FJ17: 880.4 | FK17: 880.4 | FN17: =SUM(FO17:FZ17) -> 9392.9321 | FO17: 0 | FP17: 4312.1972 | FQ17: 0 | FR17: 0 | FS17: 0 | FT17: 0 | FU17: 0 | FV17: 5080.7349 | FW17: 0 | FX17: 0 | GA17: =FN17-FA17 -> 1935.5121 | GB17: =IF(GA17<0,GA17,0) -> 0 | GC17: =IF(GA17>0,GA17,0) -> 1935.5121 | GD17: =SUM(GE17:GP17) -> 0 | GQ17: =GR17+GS17+GT17+GU17 -> 0 | GR17: 0 | GS17: =VLOOKUP(C17,'[2]Фін.рез.(витрати)'!$C$8:$V$94,20,0) -> 0 | GV17: =GQ17-GD17 -> 0 | GW17: =IF(GV17<0,GV17,0) -> 0 | GX17: =IF(GV17>0,GV17,0) -> 0 | GY17: =SUM(GZ17:HK17) -> 15601.88 | GZ17: 1380.64 | HA17: 1380.64 | HB17: 1380.64 | HC17: 1380.64 | HD17: 1380.64 | HE17: 1380.64 | HF17: 1829.51 | HG17: 1829.51 | HH17: 1829.51 | HI17: 1829.51 | HL17: =SUM(HM17:HX17) -> 15250.169 | HM17: 2003.1143 | HN17: 1479.9142 | HO17: 1738.5517 | HP17: 1310.6687 | HQ17: 1487.553 | HR17: 1484.0131 | HS17: 1367.4324 | HT17: 1359.4202 | HU17: 1528.1442 | HV17: 1491.3575 | HY17: =HL17-GY17 -> -351.71064 | HZ17: =IF(HY17<0,HY17,0) -> -351.71064 | IA17: =IF(HY17>0,HY17,0) -> 0 | IB17: =SUM(IC17:IN17) -> 0 | IC17: 0 | ID17: 0 | IE17: 0 | IF17: 0 | IG17: 0 | IH17: 0 | II17: 0 | IO17: =SUM(IP17:JA17) -> 0 | IP17: 0 | IQ17: 0 | IR17: 0 | IS17: 0 | IT17: 0 | IU17: 0 | IV17: 0 | IW17: 0 | IX17: 0 | IY17: 0 | JB17: =IO17-IB17 -> 0 | JC17: =IF(JB17<0,JB17,0) -> 0 | JD17: =IF(JB17>0,JB17,0) -> 0 | JE17: =SUM(JF17:JQ17) -> 0 | JF17: 0 | JG17: 0 | JH17: 0 | JI17: 0 | JJ17: 0 | JK17: 0 | JL17: 0 | JM17: 0 | JN17: 0 | JO17: 0 | JR17: =SUM(JS17:KD17) -> 0 | JS17: 0 | JT17: 0 | JU17: 0 | JV17: 0 | JW17: 0 | JX17: 0 | JY17: 0 | JZ17: 0 | KA17: 0 | KB17: 0 | KE17: =JR17-JE17 -> 0 | KF17: =IF(KE17<0,KE17,0) -> 0 | KG17: =IF(KE17>0,KE17,0) -> 0 | KH17: =SUM(KI17:KT17) -> 4558.7 | KI17: 401.03 | KJ17: 401.03 | KK17: 401.03 | KL17: 401.03 | KM17: 401.03 | KN17: 401.03 | KO17: 538.13 | KP17: 538.13 | KQ17: 538.13 | KR17: 538.13 | KU17: =SUM(KV17:LG17) -> 6358.2382 | KV17: 546.42754 | KW17: 584.2505 | KX17: 580.5629 | KY17: 552.13798 | KZ17: 576.01629 | LA17: 741.34384 | LB17: 688.03089 | LC17: 683.20074 | LD17: 704.58108 | LE17: 701.68646 | LH17: =KU17-KH17 -> 1799.5382 | LI17: =IF(LH17<0,LH17,0) -> 0 | LJ17: =IF(LH17>0,LH17,0) -> 1799.5382 | LK17: =SUM(LL17:LW17) -> 0 | LX17: =SUM(LY17:MJ17) -> 0 | MJ17: 0 | ML17: =IF(MK17<0,MK17,0) -> 0 | MM17: =IF(MK17>0,MK17,0) -> 0 | MN17: =SUM(MO17:MZ17) -> 45010.94 | MO17: 4563.51 | MP17: 4563.51 | MQ17: 4563.51 | MR17: 4563.51 | MS17: 4563.51 | MT17: 4563.51 | MU17: 4407.47 | MV17: 4407.47 | MW17: 4407.47 | MX17: 4407.47 | NA17: =SUM(NB17:NM17) -> 120421.22 | NB17: 2989.9423 | NC17: 21293.491 | ND17: 0 | NE17: 90252.999 | NF17: -2977.8644 | NG17: 5229.9339 | NH17: 0 | NI17: 0 | NJ17: 311.27999 | NK17: 3321.4387 | NN17: =NA17-MN17 -> 75410.281 | NO17: =IF(NN17<0,NN17,0) -> 0 | NP17: =IF(NN17>0,NN17,0) -> 75410.281 | NQ17: =NV17+OY17+QB17+RE17+SH17+TK17+UN17 -> 20387.32 | NR17: =OI17+PL17+QO17+RR17+SU17+TX17+VA17 -> 62369.62 | NS17: =NR17-NQ17 -> 41982.3 | NT17: =IF(NS17<0,NS17,0) -> 0 | NU17: =IF(NS17>0,NS17,0) -> 41982.3 | NV17: =SUM(NW17:OH17) -> 4694.84 | NW17: 426.72 | NX17: 426.72 | NY17: 426.72 | NZ17: 426.72 | OA17: 426.72 | OB17: 426.72 | OC17: 533.63 | OD17: 533.63 | OE17: 533.63 | OF17: 533.63 | OI17: =SUM(OJ17:OU17) -> 14798.95 | OJ17: 0 | OK17: 14798.95 | OL17: 0 | ON17: 0 | OO17: 0 | OP17: 0 | OQ17: 0 | OR17: 0 | OS17: 0 | OV17: =OI17-NV17 -> 10104.11 | OW17: =IF(OV17<0,OV17,0) -> 0 | OX17: =IF(OV17>0,OV17,0) -> 10104.11 | OY17: =SUM(OZ17:PK17) -> 7940.34 | OZ17: 756.79 | PA17: 756.79 | PB17: 756.79 | PC17: 756.79 | PD17: 756.79 | PE17: 756.79 | PF17: 849.9 | PG17: 849.9 | PH17: 849.9 | PI17: 849.9 | PL17: =SUM(PM17:PX17) -> 36759.27 | PM17: 4521.92 | PN17: 15707.69 | PO17: 0 | PP17: 0 | PQ17: 5983.97 | PR17: 0 | PS17: 0 | PT17: 0 | PU17: 6289.87 | PV17: 4255.82 | PY17: =PL17-OY17 -> 28818.93 | PZ17: =IF(PY17<0,PY17,0) -> 0 | QA17: =IF(PY17>0,PY17,0) -> 28818.93 | QB17: =SUM(QC17:QN17) -> 1039.66 | QC17: 92.15 | QD17: 92.15 | QE17: 92.15 | QF17: 92.15 | QG17: 92.15 | QH17: 92.15 | QI17: 121.69 | QJ17: 121.69 | QK17: 121.69 | QL17: 121.69 | QO17: =SUM(QP17:RA17) -> 0 | QP17: 0 | QQ17: 0 | QR17: 0 | QT17: 0 | QW17: 0 | QY17: 0 | RB17: =QO17-QB17 -> -1039.66 | RC17: =IF(RB17<0,RB17,0) -> -1039.66 | RD17: =IF(RB17>0,RB17,0) -> 0 | RE17: =SUM(RF17:RQ17) -> 4878.46 | RF17: 444.05 | RG17: 444.05 | RH17: 444.05 | RI17: 444.05 | RJ17: 444.05 | RK17: 444.05 | RL17: 553.54 | RM17: 553.54 | RN17: 553.54 | RO17: 553.54 | RR17: =SUM(RS17:SD17) -> 0 | RS17: 0 | RU17: 0 | RV17: 0 | RW17: 0 | RX17: 0 | RZ17: 0 | SA17: 0 | SB17: 0 | SE17: =RR17-RE17 -> -4878.46 | SF17: =IF(SE17<0,SE17,0) -> -4878.46 | SG17: =IF(SE17>0,SE17,0) -> 0 | SH17: =SUM(SI17:ST17) -> 0 | SI17: 0 | SJ17: 0 | SK17: 0 | SL17: 0 | SM17: 0 | SN17: 0 | SO17: 0 | SP17: 0 | SQ17: 0 | SR17: 0 | SU17: =SUM(SV17:TG17) -> 0 | SV17: 0 | SW17: 0 | SX17: 0 | SY17: 0 | SZ17: 0 | TC17: 0 | TD17: 0 | TE17: =VLOOKUP(C17,'[2]Фін.рез.(витрати)'!$C$8:$AH$94,32,0) -> 0 | TH17: =SU17-SH17 -> 0 | TI17: =IF(TH17<0,TH17,0) -> 0 | TJ17: =IF(TH17>0,TH17,0) -> 0 | TK17: =SUM(TL17:TW17) -> 1776.22 | TL17: 156.69 | TM17: 156.69 | TN17: 156.69 | TO17: 156.69 | TP17: 156.69 | TQ17: 156.69 | TR17: 209.02 | TS17: 209.02 | TT17: 209.02 | TU17: 209.02 | TX17: =SUM(TY17:UJ17) -> 10811.4 | TY17: 0 | TZ17: 6368.17 | UA17: 0 | UB17: 0 | UC17: 4443.23 | UD17: 0 | UE17: 0 | UF17: 0 | UG17: 0 | UH17: =VLOOKUP(C17,'[2]Фін.рез.(витрати)'!$C$8:$AI$94,33,0) -> 0 | UK17: =TX17-TK17 -> 9035.18 | UL17: =IF(UK17<0,UK17,0) -> 0 | UM17: =IF(UK17>0,UK17,0) -> 9035.18 | UN17: =SUM(UO17:UZ17) -> 57.8 | UO17: 5.14 | UP17: 5.14 | UQ17: 5.14 | UR17: 5.14 | US17: 5.14 | UT17: 5.14 | UU17: 6.74 | UV17: 6.74 | UW17: 6.74 | UX17: 6.74 | VA17: =SUM(VB17:VM17) -> 0 | VN17: =VA17-UN17 -> -57.8 | VO17: =IF(VN17<0,VN17,0) -> -57.8 | VP17: =IF(VN17>0,VN17,0) -> 0 | VQ17: =SUM(VR17:WC17) -> 0 | WD17: =SUM(WE17:WP17) -> 0 | WQ17: =WD17-VQ17 -> 0 | WR17: =IF(WQ17<0,WQ17,0) -> 0 | WS17: =IF(WQ17>0,WQ17,0) -> 0 | WT17: =SUM(WU17:XF17) -> 62212.44 | WU17: 5310.66 | WV17: 5310.66 | WW17: 5310.66 | WX17: 5310.66 | WY17: 5310.66 | WZ17: 5310.66 | XA17: 7587.12 | XB17: 7587.12 | XC17: 7587.12 | XD17: 7587.12 | XG17: =SUM(XH17:XS17) -> 58741.85 | XH17: 6308.5652 | XI17: 6470.5195 | XK17: 4921.8367 | XL17: 5699.5735 | XM17: 7484.333 | XN17: 5589.403 | XO17: 7901.5949 | XP17: 6667.1877 | XQ17: =VLOOKUP(C17,'[2]Фін.рез.(витрати)'!$C$8:$AL$94,36,0) -> 7698.8366 | XT17: =XG17-WT17 -> -3470.5899 | XU17: =IF(XT17<0,XT17,0) -> -3470.5899 | XV17: =IF(XT17>0,XT17,0) -> 0 | XW17: =SUM(XX17:YI17) -> 20664.7 | XX17: 1834.65 | XY17: 1834.65 | XZ17: 1834.65 | YA17: 1834.65 | YB17: 1834.65 | YC17: 1834.65 | YD17: 2414.2 | YE17: 2414.2 | YF17: 2414.2 | YG17: 2414.2 | YJ17: =YK17+YL17+YM17+YN17+YO17+YV17+YP17+YU17+YQ17+YR17+YS17+YT17 -> 18105.613 | YK17: 2518.1576 | YL17: 1577.8822 | YM17: 1614.8807 | YN17: 1570.3906 | YO17: 2134.0601 | YP17: 2020.5964 | YQ17: 1483.1053 | YR17: 1917.0692 | YS17: 1854.4168 | YT17: =VLOOKUP(C17,'[2]Фін.рез.(витрати)'!$C$8:$AM$94,37,0) -> 1415.0544 | YW17: =YJ17-XW17 -> -2559.0868 | YX17: =IF(YW17<0,YW17,0) -> -2559.0868 | YY17: =IF(YW17>0,YW17,0) -> 0 | YZ17: =SUM(ZA17:ZL17) -> 7040.64 | ZA17: 666.56 | ZB17: 666.56 | ZC17: 666.56 | ZD17: 666.56 | ZE17: 666.56 | ZF17: 666.56 | ZG17: 760.32 | ZH17: 760.32 | ZI17: 760.32 | ZJ17: 760.32 | ZM17: =SUM(ZN17:ZY17) -> 12077.056 | ZO17: 1481.2952 | ZP17: 8428.5391 | ZQ17: 2167.2216 | ZZ17: =ZM17-YZ17 -> 5036.4158 | AAA17: =IF(ZZ17<0,ZZ17,0) -> 0 | AAB17: =IF(ZZ17>0,ZZ17,0) -> 5036.4158 | AAC17: =SUM(AAD17:AAO17) -> 1211.08 | AAD17: 120.08 | AAE17: 120.08 | AAF17: 120.08 | AAG17: 120.08 | AAH17: 120.08 | AAI17: 120.08 | AAJ17: 122.65 | AAK17: 122.65 | AAL17: 122.65 | AAM17: 122.65 | AAP17: =SUM(AAQ17:ABB17) -> 1749.4999 | AAQ17: 181.01924 | AAR17: 176.98802 | AAS17: 176.57243 | AAT17: 175.67699 | AAU17: 176.48664 | AAV17: 176.49093 | AAW17: 172.37487 | AAX17: 171.02821 | AAY17: 169.79089 | AAZ17: =VLOOKUP(C17,'[2]Фін.рез.(витрати)'!$C$8:$AO$94,39,0) -> 173.07169 | ABC17: =AAP17-AAC17 -> 538.4199 | ABD17: =IF(ABC17<0,ABC17,0) -> 0 | ABE17: =IF(ABC17>0,ABC17,0) -> 538.4199 | ABF17: =SUM(ABG17:ABR17) -> 268.18 | ABG17: 26.59 | ABH17: 26.59 | ABI17: 26.59 | ABJ17: 26.59 | ABK17: 26.59 | ABL17: 26.59 | ABM17: 27.16 | ABN17: 27.16 | ABO17: 27.16 | ABP17: 27.16 | ABS17: =SUM(ABT17:ACE17) -> 3298.731 | ABT17: 0 | ACA17: 3298.731 | ACB17: 0 | ACC17: =VLOOKUP(C17,'[2]Фін.рез.(витрати)'!$C$8:$AP$94,40,0) -> 0 | ACF17: =ABS17-ABF17 -> 3030.551 | ACG17: =IF(ACF17<0,ACF17,0) -> 0 | ACH17: =IF(ACF17>0,ACF17,0) -> 3030.551 | ACI17: =ACN17+ADQ17 -> 1075.62 | ACJ17: =ADA17+AED17 -> 1588.0177 | ACK17: =ACJ17-ACI17 -> 512.39772 | ACL17: =IF(ACK17<0,ACK17,0) -> 0 | ACM17: =IF(ACK17>0,ACK17,0) -> 512.39772 | ACN17: =SUM(ACO17:ACZ17) -> 1075.62 | ACO17: 110.77 | ACP17: 110.77 | ACQ17: 110.77 | ACR17: 110.77 | ACS17: 110.77 | ACT17: 110.77 | ACU17: 102.75 | ACV17: 102.75 | ACW17: 102.75 | ACX17: 102.75 | ADA17: =SUM(ADB17:ADM17) -> 1588.0177 | ADB17: 180.15802 | ADC17: 139.27821 | ADD17: 388.24592 | ADE17: 199.23763 | ADF17: 241.00401 | ADG17: 110.2926 | ADH17: 59.84469 | ADI17: 83.128021 | ADJ17: 74.666945 | ADK17: =VLOOKUP(C17,'[2]Фін.рез.(витрати)'!$C$8:$AR$94,42,0) -> 112.16167 | ADN17: =ADA17-ACN17 -> 512.39772 | ADO17: =IF(ADN17<0,ADN17,0) -> 0 | ADP17: =IF(ADN17>0,ADN17,0) -> 512.39772 | ADQ17: =SUM(ADR17:AEC17) -> 0 | ADR17: 0 | ADS17: 0 | ADT17: 0 | ADU17: 0 | ADV17: 0 | ADW17: 0 | ADX17: 0 | ADY17: 0 | ADZ17: 0 | AEA17: 0 | AED17: =SUM(AEE17:AEP17) -> 0 | AEE17: 0 | AEF17: 0 | AEG17: 0 | AEH17: 0 | AEI17: 0 | AEJ17: 0 | AEK17: 0 | AEL17: 0 | AEM17: 0 | AEN17: =VLOOKUP(C17,'[2]Фін.рез.(витрати)'!$C$8:$AS$94,43,0) -> 0 | AEQ17: =AED17-ADQ17 -> 0 | AER17: =IF(AEQ17<0,AEQ17,0) -> 0 | AES17: =IF(AEQ17>0,AEQ17,0) -> 0 | AET17: =SUM(AEU17:AFF17) -> 0 | AFG17: =SUM(AFH17:AFS17) -> 0 | AFT17: =AFG17-AET17 -> 0 | AFU17: =IF(AFT17<0,AFT17,0) -> 0 | AFV17: =IF(AFT17>0,AFT17,0) -> 0 | AFW17: =F17+IB17+JE17+KH17+LK17+MN17+NQ17+VQ17+WT17+XW17+YZ17+AAC17+ABF17+ACI17+AET17 -> 207416.16 | AFX17: =G17+IO17+JR17+KU17+LX17+NA17+NR17+WD17+XG17+YJ17+ZM17+AAP17+ABS17+ACJ17+AFG17 -> 335354.57 | AFY17: =AFX17-AFW17 -> 127938.41 | AFZ17: =IF(AFY17<0,AFY17,0) -> 0 | AGA17: =IF(AFY17>0,AFY17,0) -> 127938.41 | AGB17: =AFW17*1.2 -> 248899.39 | AGC17: =AFX17*1.2 -> 402425.48 | AGD17: =AGC17-AGB17 -> 153526.09 | AGE17: =IF(AGD17<0,AGD17,0) -> 0 | AGF17: =IF(AGD17>0,AGD17,0) -> 153526.09 | AGG17: =AGB17*AGS17 -> 12444.97 | AGH17: =AGC17*AGS17 -> 20121.274 | AGI17: =AGH17-AGG17 -> 7676.3045 | AGJ17: =IF(AGI17<0,AGI17,0) -> 0 | AGK17: =IF(AGI17>0,AGI17,0) -> 7676.3045 | AGL17: =AGB17+AGG17 -> 261344.36 | AGM17: =AGC17+AGH17 -> 422546.76 | AGN17: =AGM17-AGL17 -> 161202.4 | AGO17: =IF(AGN17<0,AGN17,0) -> 0 | AGP17: =IF(AGN17>0,AGN17,0) -> 161202.4 | AGQ17: =AGG16/AGL16 -> 0.047619048 | AGS17: 0.05
A18: 448 | B18: 3 | C18: Олександра Довгача вул. 13 | D18: 5 | E18: 2751.6 | F18: =K18+AN18+BQ18+CT18+DW18+FA18+GD18+GY18 -> 41004.88 | G18: =X18+BA18+CD18+DG18+EK18+FN18+GQ18+HL18 -> 41480.648 | H18: =G18-F18 -> 475.76817 | I18: =IF(H18<0,H18,0) -> 0 | J18: =IF(H18>0,H18,0) -> 475.76817 | K18: =SUM(L18:W18) -> 14964.3 | L18: 1319.67 | M18: 1319.67 | N18: 1319.67 | O18: 1319.67 | P18: 1319.67 | Q18: 1319.67 | R18: 1761.57 | S18: 1761.57 | T18: 1761.57 | U18: 1761.57 | X18: =SUM(Y18:AJ18) -> 16689.268 | Y18: 8842.9343 | Z18: 0 | AA18: 0 | AB18: 0 | AC18: 0 | AD18: 7846.3337 | AE18: 0 | AF18: 0 | AG18: 0 | AH18: 0 | AL18: =IF(AK18<0,AK18,0) -> 0 | AM18: =IF(AK18>0,AK18,0) -> 0 | AN18: =SUM(AO18:AZ18) -> 2886.42 | AO18: 253.97 | AP18: 253.97 | AQ18: 253.97 | AR18: 253.97 | AS18: 253.97 | AT18: 253.97 | AU18: 340.65 | AV18: 340.65 | AW18: 340.65 | AX18: 340.65 | BA18: =SUM(BB18:BM18) -> 4582.5875 | BB18: 1733.5458 | BC18: 1300.2127 | BD18: 0 | BE18: 0 | BF18: 0 | BG18: 1548.829 | BH18: 0 | BI18: 0 | BJ18: 0 | BK18: 0 | BO18: =IF(BN18<0,BN18,0) -> 0 | BP18: =IF(BN18>0,BN18,0) -> 0 | BQ18: =SUM(BR18:CC18) -> 1513.94 | BR18: 143.91 | BS18: 143.91 | BT18: 143.91 | BU18: 143.91 | BV18: 143.91 | BW18: 143.91 | BX18: 162.62 | BY18: 162.62 | BZ18: 162.62 | CA18: 162.62 | CD18: =SUM(CE18:CP18) -> 1620.0364 | CE18: 167.62377 | CF18: 163.89086 | CG18: 163.50602 | CH18: 162.67684 | CI18: 163.42659 | CJ18: 163.43048 | CK18: 159.61909 | CL18: 158.37208 | CM18: 157.22632 | CN18: 160.26434 | CR18: =IF(CQ18<0,CQ18,0) -> 0 | CS18: =IF(CQ18>0,CQ18,0) -> 0 | CT18: =SUM(CU18:DF18) -> 358.8 | CU18: 34.12 | CV18: 34.12 | CW18: 34.12 | CX18: 34.12 | CY18: 34.12 | CZ18: 34.12 | DA18: 38.52 | DB18: 38.52 | DC18: 38.52 | DD18: 38.52 | DG18: =SUM(DH18:DS18) -> 384.79098 | DH18: 39.813991 | DI18: 38.927351 | DJ18: 38.835945 | DK18: 38.638998 | DL18: 38.817077 | DM18: 38.818001 | DN18: 37.912719 | DO18: 37.616529 | DP18: 37.344389 | DQ18: 38.06598 | DT18: =DG18-CT18 -> 25.99098 | DU18: =IF(DT18<0,DT18,0) -> 0 | DV18: =IF(DT18>0,DT18,0) -> 25.99098 | DW18: =SUM(DX18:EI18) -> 775.96 | DX18: 68.24 | DY18: 68.24 | DZ18: 68.24 | EA18: 68.24 | EB18: 68.24 | EC18: 68.24 | ED18: 91.63 | EE18: 91.63 | EF18: 91.63 | EG18: 91.63 | EK18: =SUM(EL18:EW18) -> 880.31305 | EL18: 464.92246 | EM18: 0 | EN18: 0 | EO18: 0 | EP18: 0 | EQ18: 415.39059 | ER18: 0 | ES18: 0 | ET18: 0 | EU18: 0 | EX18: =EK18-DW18 -> 104.35305 | EY18: =IF(EX18<0,EX18,0) -> 0 | EZ18: =IF(EX18>0,EX18,0) -> 104.35305 | FA18: =SUM(FB18:FM18) -> 7134.88 | FB18: 627.64 | FC18: 627.64 | FD18: 627.64 | FE18: 627.64 | FF18: 627.64 | FG18: 627.64 | FH18: 842.26 | FI18: 842.26 | FJ18: 842.26 | FK18: 842.26 | FN18: =SUM(FO18:FZ18) -> 3866.3416 | FO18: 0 | FP18: 0 | FQ18: 0 | FR18: 0 | FS18: 0 | FT18: 3866.3416 | FU18: 0 | FV18: 0 | FW18: 0 | FX18: 0 | GA18: =FN18-FA18 -> -3268.5384 | GB18: =IF(GA18<0,GA18,0) -> -3268.5384 | GC18: =IF(GA18>0,GA18,0) -> 0 | GD18: =SUM(GE18:GP18) -> 0 | GQ18: =GR18+GS18+GT18+GU18 -> 0 | GR18: 0 | GS18: =VLOOKUP(C18,'[2]Фін.рез.(витрати)'!$C$8:$V$94,20,0) -> 0 | GV18: =GQ18-GD18 -> 0 | GW18: =IF(GV18<0,GV18,0) -> 0 | GX18: =IF(GV18>0,GV18,0) -> 0 | GY18: =SUM(GZ18:HK18) -> 13370.58 | GZ18: 1183.19 | HA18: 1183.19 | HB18: 1183.19 | HC18: 1183.19 | HD18: 1183.19 | HE18: 1183.19 | HF18: 1567.86 | HG18: 1567.86 | HH18: 1567.86 | HI18: 1567.86 | HL18: =SUM(HM18:HX18) -> 13457.311 | HM18: 1716.6343 | HN18: 1268.2609 | HO18: 1489.9087 | HP18: 1511.3999 | HQ18: 1274.8071 | HR18: 1271.7736 | HS18: 1171.8659 | HT18: 1164.9996 | HU18: 1309.5931 | HV18: 1278.0675 | HY18: =HL18-GY18 -> 86.730668 | HZ18: =IF(HY18<0,HY18,0) -> 0 | IA18: =IF(HY18>0,HY18,0) -> 86.730668 | IB18: =SUM(IC18:IN18) -> 0 | IC18: 0 | ID18: 0 | IE18: 0 | IF18: 0 | IG18: 0 | IH18: 0 | II18: 0 | IO18: =SUM(IP18:JA18) -> 0 | IP18: 0 | IQ18: 0 | IR18: 0 | IS18: 0 | IT18: 0 | IU18: 0 | IV18: 0 | IW18: 0 | IX18: 0 | IY18: 0 | JB18: =IO18-IB18 -> 0 | JC18: =IF(JB18<0,JB18,0) -> 0 | JD18: =IF(JB18>0,JB18,0) -> 0 | JE18: =SUM(JF18:JQ18) -> 0 | JF18: 0 | JG18: 0 | JH18: 0 | JI18: 0 | JJ18: 0 | JK18: 0 | JL18: 0 | JM18: 0 | JN18: 0 | JO18: 0 | JR18: =SUM(JS18:KD18) -> 0 | JS18: 0 | JT18: 0 | JU18: 0 | JV18: 0 | JW18: 0 | JX18: 0 | JY18: 0 | JZ18: 0 | KA18: 0 | KB18: 0 | KE18: =JR18-JE18 -> 0 | KF18: =IF(KE18<0,KE18,0) -> 0 | KG18: =IF(KE18>0,KE18,0) -> 0 | KH18: =SUM(KI18:KT18) -> 3913.34 | KI18: 344.23 | KJ18: 344.23 | KK18: 344.23 | KL18: 344.23 | KM18: 344.23 | KN18: 344.23 | KO18: 461.99 | KP18: 461.99 | KQ18: 461.99 | KR18: 461.99 | KU18: =SUM(KV18:LG18) -> 5456.6417 | KV18: 468.94425 | KW18: 501.40393 | KX18: 498.23923 | KY18: 473.84495 | KZ18: 494.33733 | LA18: 636.22147 | LB18: 590.46829 | LC18: 586.32305 | LD18: 604.67166 | LE18: 602.1875 | LH18: =KU18-KH18 -> 1543.3017 | LI18: =IF(LH18<0,LH18,0) -> 0 | LJ18: =IF(LH18>0,LH18,0) -> 1543.3017 | LK18: =SUM(LL18:LW18) -> 0 | LX18: =SUM(LY18:MJ18) -> 0 | MJ18: 0 | ML18: =IF(MK18<0,MK18,0) -> 0 | MM18: =IF(MK18>0,MK18,0) -> 0 | MN18: =SUM(MO18:MZ18) -> 59558.38 | MO18: 5736.81 | MP18: 5736.81 | MQ18: 5736.81 | MR18: 5736.81 | MS18: 5736.81 | MT18: 5736.81 | MU18: 6284.38 | MV18: 6284.38 | MW18: 6284.38 | MX18: 6284.38 | NA18: =SUM(NB18:NM18) -> 61431.713 | NB18: 0 | NC18: 0 | ND18: 0 | NE18: 0 | NF18: 0 | NG18: 827.53332 | NH18: 0 | NI18: 60604.18 | NJ18: 0 | NK18: 0 | NN18: =NA18-MN18 -> 1873.3335 | NO18: =IF(NN18<0,NN18,0) -> 0 | NP18: =IF(NN18>0,NN18,0) -> 1873.3335 | NQ18: =NV18+OY18+QB18+RE18+SH18+TK18+UN18 -> 21618.2 | NR18: =OI18+PL18+QO18+RR18+SU18+TX18+VA18 -> 51936.39 | NS18: =NR18-NQ18 -> 30318.19 | NT18: =IF(NS18<0,NS18,0) -> 0 | NU18: =IF(NS18>0,NS18,0) -> 30318.19 | NV18: =SUM(NW18:OH18) -> 4470.26 | NW18: 406.41 | NX18: 406.41 | NY18: 406.41 | NZ18: 406.41 | OA18: 406.41 | OB18: 406.41 | OC18: 507.95 | OD18: 507.95 | OE18: 507.95 | OF18: 507.95 | OI18: =SUM(OJ18:OU18) -> 5839.23 | OJ18: 0 | OK18: 0 | OL18: 0 | ON18: 4854.25 | OO18: 0 | OP18: 984.98 | OQ18: 0 | OR18: 0 | OS18: 0 | OV18: =OI18-NV18 -> 1368.97 | OW18: =IF(OV18<0,OV18,0) -> 0 | OX18: =IF(OV18>0,OV18,0) -> 1368.97 | OY18: =SUM(OZ18:PK18) -> 6888.9 | OZ18: 656.53 | PA18: 656.53 | PB18: 656.53 | PC18: 656.53 | PD18: 656.53 | PE18: 656.53 | PF18: 737.43 | PG18: 737.43 | PH18: 737.43 | PI18: 737.43 | PL18: =SUM(PM18:PX18) -> 16892.87 | PM18: 0 | PN18: 3380.44 | PO18: 3780.89 | PP18: 0 | PQ18: 0 | PR18: 0 | PS18: 9731.54 | PT18: 0 | PU18: 0 | PV18: 0 | PY18: =PL18-OY18 -> 10003.97 | PZ18: =IF(PY18<0,PY18,0) -> 0 | QA18: =IF(PY18>0,PY18,0) -> 10003.97 | QB18: =SUM(QC18:QN18) -> 1026.36 | QC18: 91.08 | QD18: 91.08 | QE18: 91.08 | QF18: 91.08 | QG18: 91.08 | QH18: 91.08 | QI18: 119.97 | QJ18: 119.97 | QK18: 119.97 | QL18: 119.97 | QO18: =SUM(QP18:RA18) -> 7208.99 | QP18: 0 | QQ18: 4204.85 | QR18: 3004.14 | QT18: 0 | QW18: 0 | QY18: 0 | RB18: =QO18-QB18 -> 6182.63 | RC18: =IF(RB18<0,RB18,0) -> 0 | RD18: =IF(RB18>0,RB18,0) -> 6182.63 | RE18: =SUM(RF18:RQ18) -> 4878.56 | RF18: 443.28 | RG18: 443.28 | RH18: 443.28 | RI18: 443.28 | RJ18: 443.28 | RK18: 443.28 | RL18: 554.72 | RM18: 554.72 | RN18: 554.72 | RO18: 554.72 | RR18: =SUM(RS18:SD18) -> 18767.6 | RS18: 0 | RU18: 0 | RV18: 0 | RW18: 0 | RX18: 0 | RZ18: 18767.6 | SA18: 0 | SB18: 0 | SE18: =RR18-RE18 -> 13889.04 | SF18: =IF(SE18<0,SE18,0) -> 0 | SG18: =IF(SE18>0,SE18,0) -> 13889.04 | SH18: =SUM(SI18:ST18) -> 2648.7 | SI18: 251.77 | SJ18: 251.77 | SK18: 251.77 | SL18: 251.77 | SM18: 251.77 | SN18: 251.77 | SO18: 284.52 | SP18: 284.52 | SQ18: 284.52 | SR18: 284.52 | SU18: =SUM(SV18:TG18) -> 0 | SV18: 0 | SW18: 0 | SX18: 0 | SY18: 0 | SZ18: 0 | TC18: 0 | TD18: 0 | TE18: =VLOOKUP(C18,'[2]Фін.рез.(витрати)'!$C$8:$AH$94,32,0) -> 0 | TH18: =SU18-SH18 -> -2648.7 | TI18: =IF(TH18<0,TH18,0) -> -2648.7 | TJ18: =IF(TH18>0,TH18,0) -> 0 | TK18: =SUM(TL18:TW18) -> 1655.9 | TL18: 146.11 | TM18: 146.11 | TN18: 146.11 | TO18: 146.11 | TP18: 146.11 | TQ18: 146.11 | TR18: 194.81 | TS18: 194.81 | TT18: 194.81 | TU18: 194.81 | TX18: =SUM(TY18:UJ18) -> 3227.7 | TY18: 0 | TZ18: 0 | UA18: 0 | UB18: 0 | UC18: 0 | UD18: 3227.7 | UE18: 0 | UF18: 0 | UG18: 0 | UH18: =VLOOKUP(C18,'[2]Фін.рез.(витрати)'!$C$8:$AI$94,33,0) -> 0 | UK18: =TX18-TK18 -> 1571.8 | UL18: =IF(UK18<0,UK18,0) -> 0 | UM18: =IF(UK18>0,UK18,0) -> 1571.8 | UN18: =SUM(UO18:UZ18) -> 49.52 | UO18: 4.4 | UP18: 4.4 | UQ18: 4.4 | UR18: 4.4 | US18: 4.4 | UT18: 4.4 | UU18: 5.78 | UV18: 5.78 | UW18: 5.78 | UX18: 5.78 | VA18: =SUM(VB18:VM18) -> 0 | VN18: =VA18-UN18 -> -49.52 | VO18: =IF(VN18<0,VN18,0) -> -49.52 | VP18: =IF(VN18>0,VN18,0) -> 0 | VQ18: =SUM(VR18:WC18) -> 0 | WD18: =SUM(WE18:WP18) -> 0 | WQ18: =WD18-VQ18 -> 0 | WR18: =IF(WQ18<0,WQ18,0) -> 0 | WS18: =IF(WQ18>0,WQ18,0) -> 0 | WT18: =SUM(WU18:XF18) -> 49240.98 | WU18: 4205.27 | WV18: 4205.27 | WW18: 4205.27 | WX18: 4205.27 | WY18: 4205.27 | WZ18: 4205.27 | XA18: 6002.34 | XB18: 6002.34 | XC18: 6002.34 | XD18: 6002.34 | XG18: =SUM(XH18:XS18) -> 49143.235 | XH18: 5057.4709 | XI18: 5235.4313 | XK18: 3912.6828 | XL18: 4572.3845 | XM18: 6009.5628 | XN18: 5668.289 | XO18: 7475.237 | XP18: 3467.0942 | XQ18: =VLOOKUP(C18,'[2]Фін.рез.(витрати)'!$C$8:$AL$94,36,0) -> 7745.0825 | XT18: =XG18-WT18 -> -97.744927 | XU18: =IF(XT18<0,XT18,0) -> -97.744927 | XV18: =IF(XT18>0,XT18,0) -> 0 | XW18: =SUM(XX18:YI18) -> 20767.46 | XX18: 1843.85 | XY18: 1843.85 | XZ18: 1843.85 | YA18: 1843.85 | YB18: 1843.85 | YC18: 1843.85 | YD18: 2426.09 | YE18: 2426.09 | YF18: 2426.09 | YG18: 2426.09 | YJ18: =YK18+YL18+YM18+YN18+YO18+YV18+YP18+YU18+YQ18+YR18+YS18+YT18 -> 19539.068 | YK18: 2687.7151 | YL18: 1705.401 | YM18: 1745.3975 | YN18: 1697.3116 | YO18: 2064.1848 | YP18: 2183.8925 | YQ18: 2094.675 | YR18: 2072.0097 | YS18: 1229.9843 | YT18: =VLOOKUP(C18,'[2]Фін.рез.(витрати)'!$C$8:$AM$94,37,0) -> 2058.4965 | YW18: =YJ18-XW18 -> -1228.392 | YX18: =IF(YW18<0,YW18,0) -> -1228.392 | YY18: =IF(YW18>0,YW18,0) -> 0 | YZ18: =SUM(ZA18:ZL18) -> 6775 | ZA18: 641.4 | ZB18: 641.4 | ZC18: 641.4 | ZD18: 641.4 | ZE18: 641.4 | ZF18: 641.4 | ZG18: 731.65 | ZH18: 731.65 | ZI18: 731.65 | ZJ18: 731.65 | ZM18: =SUM(ZN18:ZY18) -> 10481.845 | ZO18: 1279.3391 | ZP18: 7384.1614 | ZQ18: 1818.3448 | ZZ18: =ZM18-YZ18 -> 3706.8453 | AAA18: =IF(ZZ18<0,ZZ18,0) -> 0 | AAB18: =IF(ZZ18>0,ZZ18,0) -> 3706.8453 | AAC18: =SUM(AAD18:AAO18) -> 1084.7 | AAD18: 107.59 | AAE18: 107.59 | AAF18: 107.59 | AAG18: 107.59 | AAH18: 107.59 | AAI18: 107.59 | AAJ18: 109.79 | AAK18: 109.79 | AAL18: 109.79 | AAM18: 109.79 | AAP18: =SUM(AAQ18:ABB18) -> 1435.2333 | AAQ18: 148.50235 | AAR18: 145.19526 | AAS18: 144.85433 | AAT18: 144.11973 | AAU18: 144.78395 | AAV18: 144.78746 | AAW18: 141.41079 | AAX18: 140.30603 | AAY18: 139.29097 | AAZ18: =VLOOKUP(C18,'[2]Фін.рез.(витрати)'!$C$8:$AO$94,39,0) -> 141.98243 | ABC18: =AAP18-AAC18 -> 350.5333 | ABD18: =IF(ABC18<0,ABC18,0) -> 0 | ABE18: =IF(ABC18>0,ABC18,0) -> 350.5333 | ABF18: =SUM(ABG18:ABR18) -> 240 | ABG18: 23.8 | ABH18: 23.8 | ABI18: 23.8 | ABJ18: 23.8 | ABK18: 23.8 | ABL18: 23.8 | ABM18: 24.3 | ABN18: 24.3 | ABO18: 24.3 | ABP18: 24.3 | ABS18: =SUM(ABT18:ACE18) -> 0 | ABT18: 0 | ACA18: 0 | ACB18: 0 | ACC18: =VLOOKUP(C18,'[2]Фін.рез.(витрати)'!$C$8:$AP$94,40,0) -> 0 | ACF18: =ABS18-ABF18 -> -240 | ACG18: =IF(ACF18<0,ACF18,0) -> -240 | ACH18: =IF(ACF18>0,ACF18,0) -> 0 | ACI18: =ACN18+ADQ18 -> 1614.64 | ACJ18: =ADA18+AED18 -> 1468.8694 | ACK18: =ACJ18-ACI18 -> -145.77058 | ACL18: =IF(ACK18<0,ACK18,0) -> -145.77058 | ACM18: =IF(ACK18>0,ACK18,0) -> 0 | ACN18: =SUM(ACO18:ACZ18) -> 1614.64 | ACO18: 166.2 | ACP18: 166.2 | ACQ18: 166.2 | ACR18: 166.2 | ACS18: 166.2 | ACT18: 166.2 | ACU18: 154.36 | ACV18: 154.36 | ACW18: 154.36 | ACX18: 154.36 | ADA18: =SUM(ADB18:ADM18) -> 1468.8694 | ADB18: 155.01969 | ADC18: 114.69971 | ADD18: 183.90596 | ADE18: 81.32148 | ADF18: 138.88367 | ADG18: 171.56626 | ADH18: 139.63761 | ADI18: 229.59168 | ADJ18: 110.0355 | ADK18: =VLOOKUP(C18,'[2]Фін.рез.(витрати)'!$C$8:$AR$94,42,0) -> 144.20786 | ADN18: =ADA18-ACN18 -> -145.77058 | ADO18: =IF(ADN18<0,ADN18,0) -> -145.77058 | ADP18: =IF(ADN18>0,ADN18,0) -> 0 | ADQ18: =SUM(ADR18:AEC18) -> 0 | ADR18: 0 | ADS18: 0 | ADT18: 0 | ADU18: 0 | ADV18: 0 | ADW18: 0 | ADX18: 0 | ADY18: 0 | ADZ18: 0 | AEA18: 0 | AED18: =SUM(AEE18:AEP18) -> 0 | AEE18: 0 | AEF18: 0 | AEG18: 0 | AEH18: 0 | AEI18: 0 | AEJ18: 0 | AEK18: 0 | AEL18: 0 | AEM18: 0 | AEN18: =VLOOKUP(C18,'[2]Фін.рез.(витрати)'!$C$8:$AS$94,43,0) -> 0 | AEQ18: =AED18-ADQ18 -> 0 | AER18: =IF(AEQ18<0,AEQ18,0) -> 0 | AES18: =IF(AEQ18>0,AEQ18,0) -> 0 | AET18: =SUM(AEU18:AFF18) -> 0 | AFG18: =SUM(AFH18:AFS18) -> 0 | AFT18: =AFG18-AET18 -> 0 | AFU18: =IF(AFT18<0,AFT18,0) -> 0 | AFV18: =IF(AFT18>0,AFT18,0) -> 0 | AFW18: =F18+IB18+JE18+KH18+LK18+MN18+NQ18+VQ18+WT18+XW18+YZ18+AAC18+ABF18+ACI18+AET18 -> 205817.58 | AFX18: =G18+IO18+JR18+KU18+LX18+NA18+NR18+WD18+XG18+YJ18+ZM18+AAP18+ABS18+ACJ18+AFG18 -> 242373.64 | AFY18: =AFX18-AFW18 -> 36556.064 | AFZ18: =IF(AFY18<0,AFY18,0) -> 0 | AGA18: =IF(AFY18>0,AFY18,0) -> 36556.064 | AGB18: =AFW18*1.2 -> 246981.1 | AGC18: =AFX18*1.2 -> 290848.37 | AGD18: =AGC18-AGB18 -> 43867.277 | AGE18: =IF(AGD18<0,AGD18,0) -> 0 | AGF18: =IF(AGD18>0,AGD18,0) -> 43867.277 | AGG18: =AGB18*AGS18 -> 12349.055 | AGH18: =AGC18*AGS18 -> 14542.419 | AGI18: =AGH18-AGG18 -> 2193.3639 | AGJ18: =IF(AGI18<0,AGI18,0) -> 0 | AGK18: =IF(AGI18>0,AGI18,0) -> 2193.3639 | AGL18: =AGB18+AGG18 -> 259330.15 | AGM18: =AGC18+AGH18 -> 305390.79 | AGN18: =AGM18-AGL18 -> 46060.641 | AGO18: =IF(AGN18<0,AGN18,0) -> 0 | AGP18: =IF(AGN18>0,AGN18,0) -> 46060.641 | AGQ18: =AGG17/AGL17 -> 0.047619048 | AGS18: 0.05
