Workbook

Sheet Тариф на 1кв.м
A1: Тариф на 1 м кв. на послуги з утримання будинків і споруд та прибудинкових територій КП "Новозаводське"
A3: № п/п | B3: Статті тарифу | C3: Контроль (нарахування з тарифу | D3: Нараховання | E3: Нараховання | G3: Нараховання | I3: Нараховання | K3: Нараховання
D4: тарифу з 15.06.2016 | E4: тарифу з 01.08.2017 | G4: тарифу з 01.01.2018 | I4: тарифу з 17.02.2018 | K4: тарифу з 01.06.2018
E5: збільш. Мін. заробітної плати, прожиткового мінімума, ціни на е/е, ПММ, вивезення сміття | G5: коригування( збільшення мінімальної заробітної плати + ПММ) | I5: коригування( збільшення ТО ліфтів + диспетчеризація) | K5: збільш. ЗП по Гал. Угоді, виведення статті "вивезення побут. Відх)
D6: грн./м.кв з ПДВ | E6: грн.з ПДВ | F6: грн./м.кв з ПДВ | G6: грн.з ПДВ | H6: грн./м.кв з ПДВ | I6: грн.з ПДВ | J6: грн./м.кв з ПДВ | K6: грн.з ПДВ | L6: грн./м.кв з ПДВ
A7: 1 | B7: Прибирання сходових кліток | C7: =23.26/100 -> 0.2326 | D7: 0.233 | E7: 243432.59 | F7: 0.30012874 | G7: ='[1]2018 рік (по послугам)'!AL553 -> 271277.25 | H7: =G7/$G$25 -> 0.32649822 | I7: 271277.25 | J7: =I7/$G$25 -> 0.32649822 | K7: 370272 | L7: 0.4905
A8: =A7+1 -> 2 | B8: Прибирання прибудинкової території | C8: =38.66/100 -> 0.3866 | D8: 0.387 | E8: 439247.91 | F8: 0.54155001 | G8: ='[1]2018 рік (по послугам)'!I553 -> 477893.72 | H8: =G8/$G$25 -> 0.57517337 | I8: 477893.72 | J8: =I8/$G$25 -> 0.57517337 | K8: 551208 | L8: 0.6724
A9: =A8+1 -> 3 | B9: Вивезення побутових відходів (збирання, зберігання, перевезення, перероблення, утилізація, знешкодження та захоронення) | C9: =31.88/100 -> 0.3188 | D9: 0.319 | E9: 275598.97 | F9: 0.33978677 | G9: ='[1]2018 рік (по послугам)'!BO553 -> 286334.61 | H9: =G9/$G$25 -> 0.34462064 | I9: 286334.61 | J9: =I9/$G$25 -> 0.34462064 | K9: 0 | L9: =K9/$G$25 -> 0
A10: =A9+1 -> 4 | B10: Прибирання підвалів, технічних поверхів та покрівлі | C10: =0.89/100 -> 0.0089 | D10: 0.009 | E10: 8681.7442 | F10: 0.010703747 | G10: ='[1]2018 рік (по послугам)'!CR553 -> 9596.85 | H10: =G10/$G$25 -> 0.011550377 | I10: 9596.85 | J10: =I10/$G$25 -> 0.011550377 | K10: 11285 | L10: 0.0138
A11: =A10+1 -> 5 | B11: Технічне обслуговування ліфтів | C11: =27.89/100 -> 0.2789 | D11: =0.279-0.193 -> 0.086 | E11: 63435.923 | F11: 0.078210332 | G11: ='[1]2018 рік (по послугам)'!DU553 -> 65741.03 | H11: =G11/$G$25 -> 0.079123219 | I11: =J11*G25 -> 127953.83 | J11: 0.154 | K11: 136458 | L11: 0.5447
A12: =A11+1 -> 6 | B12: Обслуговування систем диспетчеризації | C12: =0.29/100 -> 0.0029 | D12: 0.0029866494 | E12: 2422.4531 | F12: 0.0029866494 | G12: ='[1]2018 рік (по послугам)'!EX553 -> 2414.15 | H12: =G12/$G$25 -> 0.0029055724 | I12: =J12*G25 -> 4154.345 | J12: 0.005 | K12: 3889 | L12: 0.0047
A13: =A12+1 -> 7 | B13: Технічне обслуговування внутнішньобудинкових систем: гарячого водопостачання; холодного водопостачання; водовідведення; теплопостачання; зливової каналізації. | C13: =34.36/100 -> 0.3436 | D13: 0.344 | E13: 494380.96 | F13: 0.6095237 | G13: ='[1]2018 рік (по послугам)'!GA553 -> 540723.67 | H13: =G13/$G$25 -> 0.65079293 | I13: 540723.67 | J13: =I13/$G$25 -> 0.65079293 | K13: 644031 | L13: 0.7856
A14: =A13+1 -> 8 | B14: Дератизація | C14: =1.99/100 -> 0.0199 | D14: 0.02 | E14: 22334.575 | F14: 0.027536362 | G14: ='[1]2018 рік (по послугам)'!HD553 -> 22273.16 | H14: =G14/$G$25 -> 0.026807066 | I14: 22273.16 | J14: =I14/$G$25 -> 0.026807066 | K14: 23299 | L14: 0.033
A15: =A14+1 -> 9 | B15: Дезінсекція | C15: =0.121/100 -> 0.00121 | D15: 0.00070156988 | E15: 569.03905 | F15: 0.00070156988 | G15: ='[1]2018 рік (по послугам)'!IG553 -> 629.44 | H15: =G15/$G$25 -> 0.00075756828 | I15: 629.44 | J15: =I15/$G$25 -> 0.00075756828 | K15: 594 | L15: 0.0008
A16: =A15+1 -> 10 | B16: Обслуговування димових та вентиляційних каналів | C16: =0.869/100 -> 0.00869 | D16: 0.087 | E16: 118484.95 | F16: 0.14608043 | G16: ='[1]2018 рік (по послугам)'!JJ553 -> 126931.8 | H16: =G16/$G$25 -> 0.15276993 | I16: 126931.8 | J16: =I16/$G$25 -> 0.15276993 | K16: 165783 | L16: 0.2024
A17: =A16+1 -> 11 | B17: Технічне обслуговування та поточного ремонту мереж електропостачання та електрообладнання, систем протипожежної автоматики та димовидалення | C17: =3.66/100 -> 0.0366 | D17: 0.038 | E17: 109489.49 | F17: 0.13498991 | G17: ='[1]2018 рік (по послугам)'!KM553 -> 117430.37 | H17: =G17/$G$25 -> 0.1413344 | I17: 117430.37 | J17: =I17/$G$25 -> 0.1413344 | K17: 147021 | L17: 0.1793
A18: =A17+1 -> 12 | B18: Поточний ремонт конструктивних елементів, внутрішньобудинкових систем ГВП, ХВП, ХВВ, ЦО та зливової каналізації і технічних пристроїв будинків та елементів зовнішнього упорядження | C18: =63.23/100 -> 0.6323 | D18: 0.632 | E18: 685118.7 | F18: 0.84468481 | G18: ='[1]2018 рік (по послугам)'!LP553 -> 716958.41 | H18: =G18/$G$25 -> 0.86290187 | I18: 716958.41 | J18: =I18/$G$25 -> 0.86290187 | K18: 873288 | L18: 1.0653
A19: =A18+1 -> 13 | B19: Прибирання і вивезення снігу, посипання частини прибудинкової території, призначеної для проходу та проїзду, протиожеледними сумішами | C19: =8.47/100 -> 0.0847 | D19: 0.085 | E19: 105209.78 | F19: 0.12971344 | G19: ='[1]2018 рік (по послугам)'!MS553 -> 112646.02 | H19: =G19/$G$25 -> 0.13557615 | I19: 112646.02 | J19: =I19/$G$25 -> 0.13557615 | K19: 132251 | L19: 0.1613
A20: =A19+1 -> 14 | B20: Експлуатація номерних знаків на будинках | C20: =0.02/100 -> 0.0002 | D20: 0.0002 | E20: 343.15559 | F20: 0.00042307752 | G20: ='[1]2018 рік (по послугам)'!NV553 -> 375.05 | H20: =G20/$G$25 -> 0.00045139486 | I20: 375.05 | J20: =I20/$G$25 -> 0.00045139486 | K20: 355 | L20: 0.005
A21: =A20+1 -> 15 | B21: Освітлення місць загального користування і підвалів та підкачування води | C21: =17.13/100 -> 0.1713 | D21: 0.171 | E21: 241174.93 | F21: 0.29734527 | G21: ='[1]2018 рік (по послугам)'!OY553 -> 240317.23 | H21: =G21/$G$25 -> 0.289236 | I21: 240317.23 | J21: =I21/$G$25 -> 0.289236 | K21: 190985 | L21: 0.233
A22: =A21+1 -> 16 | B22: Енергопостачання ліфтів | C22: =19.2/100 -> 0.192 | D22: =0.192-0.14 -> 0.052 | E22: 82598.536 | F22: 0.10183597 | G22: ='[1]2018 рік (по послугам)'!QB553 -> 85643.54 | H22: =G22/$G$25 -> 0.10307707 | I22: 85643.54 | J22: =I22/$G$25 -> 0.10307707 | K22: 59496 | L22: 0.2375
B23: ВСЬОГО з ПДВ | C23: =SUM(C7:C22) -> 2.7192 | D23: =SUM(D7:D22) -> 2.4668882 | E23: =SUM(E7:E22) -> 2892523.7 | F23: =SUM(F7:F22) -> 3.5662008 | G23: =SUM(G7:G22) -> 3077186.3 | H23: =SUM(H7:H22) -> 3.7035758 | I23: =SUM(I7:I22) -> 3141139.3 | J23: =SUM(J7:J22) -> 3.780547 | ... L23: =SUM(L7:L22) -> 4.6293
B25: Загальна площа житл. та нежитл. прим,м2 | G25: 830869 | I25: 822055 | K25: 822056

Sheet Звіт по будинку
A1: =VLOOKUP(B3,'№ дог., кіл.підїз.'!$C$3:$H$569,3,0) -> 5 | C1: =VLOOKUP(B3,'№ дог., кіл.підїз.'!$C$3:$H$569,2,0) -> 3
A2: Звіт про виконання кошторису на утримання будинків та прибудинкової території управителя КП "Новозаводське" з ЛИСТОПАДА 2025 року по СЕРПЕНЬ 2026 року
B3: Текстильникiв, ВУЛ, 18 | E3: Договір № 1/ | F3: =VLOOKUP(B3,'№ дог., кіл.підїз.'!C3:I569,6,0) -> 503 | G3: Увага! Станьте на адресу будинку, виберіть Ваш будинок
E4: діє з 01.11.2025 до 31.11.2026 рр
A5: № п/п | B5: Складова витрат на утримання будинку та прибудинкової території та поточний ремонт спільного майна будинку | C5: Витрати, грн.
C6: Плановий кошторис | D6: Фактичні | E6: Відхилення | F6: % виконання кошторису
B7: Загальна площа, м2 | C7: =VLOOKUP(B3,'2025рік-2026р (по послугам)'!C8:E94,3,0) -> 2679.86
A8: 1 | B8: Обовязковий перелік послуг
A9: 1.1 | B9: Технічне обслуговування внутрішньобудинкових систем | C9: =SUM(C10:C17) -> 39084.24 | D9: =SUM(D10:D17) -> 34067.467 | E9: =D9-C9 -> -5016.7727 | F9: =IF(D9=0,0,D9/C9) -> 0.87164206
A10: 1.1.1 | B10: водопостачання | C10: =VLOOKUP(B3,'2025рік-2026р (по послугам)'!C8:K94,9,0) -> 12479.74 | D10: =VLOOKUP(B3,'2025рік-2026р (по послугам)'!C8:X94,22,0) -> 7027.731 | E10: =D10-C10 -> -5452.009 | F10: =IF(D10=0,0,D10/C10) -> 0.5631312
A11: 1.1.2 | B11: водовідведення | C11: =VLOOKUP(B3,'2025рік-2026р (по послугам)'!C8:AN94,38,0) -> 2244.8 | D11: =VLOOKUP(B3,'2025рік-2026р (по послугам)'!C8:BA94,51,0) -> 1296.0341 | E11: =D11-C11 -> -948.76595 | F11: =IF(D11=0,0,D11/C11) -> 0.57734945
A12: 1.1.3 | B12: теплопостачання | C12: =VLOOKUP(B3,'2025рік-2026р (по послугам)'!C8:BQ94,67,0) -> 1512.42 | D12: =VLOOKUP(B3,'2025рік-2026р (по послугам)'!C8:CD94,80,0) -> 1477.4129 | E12: =D12-C12 -> -35.007103 | F12: =IF(D12=0,0,D12/C12) -> 0.97685358
A13: 1.1.4 | B13: гарячого водопостачання | C13: =VLOOKUP(B3,'2025рік-2026р (по послугам)'!C8:DG94,96,0) -> 368.96 | D13: =VLOOKUP(B3,'2025рік-2026р (по послугам)'!C8:DG94,109,0) -> 361.73277 | E13: =D13-C13 -> -7.2272343 | F13: =IF(D13=0,0,D13/C13) -> 0.98041188
A14: 1.1.5 | B14: зливової каналізації | C14: =VLOOKUP(B3,'2025рік-2026р (по послугам)'!C8:DW94,125,0) -> 1261.02 | D14: =VLOOKUP(B3,'2025рік-2026р (по послугам)'!C8:EK94,139,0) -> 726.76914 | E14: =D14-C14 -> -534.25086 | F14: =IF(D14=0,0,D14/C14) -> 0.57633435
A15: 1.1.6 | B15: електропостачання | C15: =VLOOKUP(B3,'2025рік-2026р (по послугам)'!C8:FA94,155,0) -> 8200.84 | D15: =VLOOKUP(B3,'2025рік-2026р (по послугам)'!C8:GB94,168,0) -> 10449.396 | E15: =D15-C15 -> 2248.5562 | F15: =IF(D15=0,0,D15/C15) -> 1.2741861
A16: 1.1.7 | B16: газопостачання | C16: =VLOOKUP(B3,'2025рік-2026р (по послугам)'!C8:GX94,184,0) -> 0 | D16: =VLOOKUP(B3,'2025рік-2026р (по послугам)'!C8:GQ94,197,0) -> 0 | E16: =D16-C16 -> 0 | F16: =IF(D16=0,0,D16/C16) -> 0
A17: 1.1.8 | B17: аварійне обслуговування | C17: =VLOOKUP(B3,'2025рік-2026р (по послугам)'!C8:GY94,205,0) -> 13016.46 | D17: =VLOOKUP(B3,'2025рік-2026р (по послугам)'!C8:HL94,218,0) -> 12728.391 | E17: =D17-C17 -> -288.06868 | F17: =IF(D17=0,0,D17/C17) -> 0.97786889
A18: 1.2 | B18: Технічне обслуговування ліфтів | C18: =VLOOKUP(B3,'2025рік-2026р (по послугам)'!C8:JE94,234,0) -> 0 | D18: =VLOOKUP(B3,'2025рік-2026р (по послугам)'!C8:IO94,247,0) -> 0 | E18: =D18-C18 -> 0 | F18: 0
A19: 1.3 | B19: Обслуговування систем диспетчеризації | C19: =VLOOKUP(B3,'2025рік-2026р (по послугам)'!C8:JE94,263,0) -> 0 | D19: =VLOOKUP(B3,'2025рік-2026р (по послугам)'!C8:JR94,276,0) -> 0 | E19: =D19-C19 -> 0 | F19: =IF(D19=0,0,D19/C19) -> 0
A20: 1.4 | B20: Обслуговування димових та вентиляційних каналів | C20: =VLOOKUP(B3,'2025рік-2026р (по послугам)'!C8:KH94,292,0) -> 2354.18 | D20: =VLOOKUP(B3,'2025рік-2026р (по послугам)'!C8:KU94,305,0) -> 3284.361 | E20: =D20-C20 -> 930.18095 | F20: =IF(D20=0,0,D20/C20) -> 1.3951189
A21: 1.5 | B21: Технічне обслуговування систем протипожежної автоматики та димовидалення (у разі їх наявності) | C21: =VLOOKUP(B3,'2025рік-2026р (по послугам)'!C8:LK94,321,0) -> 0 | D21: =VLOOKUP(B3,'2025рік-2026р (по послугам)'!C8:LX94,334,0) -> 0 | E21: =D21-C21 -> 0 | F21: =IF(D21=0,0,D21/C21) -> 0
A22: 1.6 | B22: Поточний ремонт конструктивних елементів, технічних пристроїв та елементів зовнішнього упорядження, що розміщені на закріпленій в установленому порядку прибудинковій території (в т.ч спорт., дитячих та інших майданчиків), та іншого спільного майна ББ | C22: =VLOOKUP(B3,'2025рік-2026р (по послугам)'!C8:MN94,350,0) -> 33044.98 | D22: =VLOOKUP(B3,'2025рік-2026р (по послугам)'!C8:NA94,363,0) -> 10053.806 | E22: =D22-C22 -> -22991.174 | F22: =IF(D22=0,0,D22/C22) -> 0.30424608
A23: 1.7 | B23: Поточний ремонт внутрішньобудинкових систем | C23: =SUM(C24:C30) -> 16143.12 | D23: =SUM(D24:D30) -> 9683.15 | E23: =D23-C23 -> -6459.97 | F23: =IF(D23=0,0,D23/C23) -> 0.59983138
A24: 1.7.1 | B24: водопостачання | C24: =VLOOKUP(B3,'2025рік-2026р (по послугам)'!C8:NV94,384,0) -> 3599.6 | D24: =VLOOKUP(B3,'2025рік-2026р (по послугам)'!C8:OI94,397,0) -> 7696.41 | E24: =D24-C24 -> 4096.81 | F24: =IF(D24=0,0,D24/C24) -> 2.1381292
A25: 1.7.2 | B25: водовідведення | C25: =VLOOKUP(B3,'2025рік-2026р (по послугам)'!C8:OY94,413,0) -> 5359.18 | D25: =VLOOKUP(B3,'2025рік-2026р (по послугам)'!C8:PL94,426,0) -> 0 | E25: =D25-C25 -> -5359.18 | F25: =IF(D25=0,0,D25/C25) -> 0
A26: 1.7.3 | B26: теплопостачання | C26: =VLOOKUP(B3,'2025рік-2026р (по послугам)'!C8:QB94,442,0) -> 810.68 | D26: =VLOOKUP(B3,'2025рік-2026р (по послугам)'!C8:QO94,455,0) -> 0 | E26: =D26-C26 -> -810.68 | F26: =IF(D26=0,0,D26/C26) -> 0
A27: 1.7.4 | B27: гарячого водопостачання | C27: =VLOOKUP(B3,'2025рік-2026р (по послугам)'!C8:RE94,471,0) -> 4279.96 | D27: =VLOOKUP(B3,'2025рік-2026р (по послугам)'!C8:RR94,484,0) -> 1986.74 | E27: =D27-C27 -> -2293.22 | F27: =IF(D27=0,0,D27/C27) -> 0.46419593
A28: 1.7.5 | B28: зливової каналізації | C28: =VLOOKUP(B3,'2025рік-2026р (по послугам)'!C8:SH94,500,0) -> 0 | D28: =VLOOKUP(B3,'2025рік-2026р (по послугам)'!C8:SU94,513,0) -> 0 | E28: =D28-C28 -> 0 | F28: =IF(D28=0,0,D28/C28) -> 0
A29: 1.7.6 | B29: електропостачання | C29: =VLOOKUP(B3,'2025рік-2026р (по послугам)'!C8:TK94,529,0) -> 2035.24 | D29: =VLOOKUP(B3,'2025рік-2026р (по послугам)'!C8:TX94,542,0) -> 0 | E29: =D29-C29 -> -2035.24 | F29: =IF(D29=0,0,D29/C29) -> 0
A30: 1.7.7 | B30: газопостачання | C30: =VLOOKUP(B3,'2025рік-2026р (по послугам)'!C8:VO94,558,0) -> 58.46 | D30: =VLOOKUP(B3,'2025рік-2026р (по послугам)'!C8:VA94,571,0) -> 0 | E30: =D30-C30 -> -58.46 | F30: =IF(D30=0,0,D30/C30) -> 0
A31: 1.8 | B31: Поточний ремонт систем протипожежної автоматики та димовидалення (у разі їх наявності) | C31: =VLOOKUP(B3,'2025рік-2026р (по послугам)'!C8:VQ94,587,0) -> 0 | D31: =VLOOKUP(B3,'2025рік-2026р (по послугам)'!C8:WD94,600,0) -> 0 | E31: =D31-C31 -> 0 | F31: =IF(D31=0,0,D31/C31) -> 0
A32: 1.9 | B32: Прибирання прибудинкової території | C32: =VLOOKUP(B3,'2025рік-2026р (по послугам)'!C8:WT94,616,0) -> 36890.42 | D32: =VLOOKUP(B3,'2025рік-2026р (по послугам)'!C8:XG94,629,0) -> 48593.069 | E32: =D32-C32 -> 11702.649 | F32: =IF(D32=0,0,D32/C32) -> 1.3172273
A33: 1.10 | B33: Прибирання приміщень загального користування (у т.ч допоміжних) | C33: =VLOOKUP(B3,'2025рік-2026р (по послугам)'!C8:XW94,645,0) -> 25208.5 | D33: =VLOOKUP(B3,'2025рік-2026р (по послугам)'!C8:YJ94,658,0) -> 16390.138 | E33: =D33-C33 -> -8818.3617 | F33: =IF(D33=0,0,D33/C33) -> 0.650183
A34: 1.11 | B34: Прибирання та вивезення снігу, посипання частини прибудинкової території, призначеної для проходу та проїзду, протиожеледними сумішами | C34: =VLOOKUP(B3,'2025рік-2026р (по послугам)'!C8:YZ94,674,0) -> 5387.02 | D34: =VLOOKUP(B3,'2025рік-2026р (по послугам)'!C8:ZM94,687,0) -> 10899.191 | E34: =D34-C34 -> 5512.1708 | F34: =IF(D34=0,0,D34/C34) -> 2.0232319
A35: 1.12 | B35: Дератизація | C35: =VLOOKUP(B3,'2025рік-2026р (по послугам)'!C8:AAC94,703,0) -> 416.02 | D35: =VLOOKUP(B3,'2025рік-2026р (по послугам)'!C8:AAP94,716,0) -> 492.43349 | E35: =D35-C35 -> 76.413495 | F35: =IF(D35=0,0,D35/C35) -> 1.1836775
A36: 1.13 | B36: Дезінсекція | C36: =VLOOKUP(B3,'2025рік-2026р (по послугам)'!C8:ABF94,732,0) -> 92.06 | D36: =VLOOKUP(B3,'2025рік-2026р (по послугам)'!C8:ABS94,745,0) -> 0 | E36: =D36-C36 -> -92.06 | F36: =IF(D36=0,0,D36/C36) -> 0
A37: 1.14 | B37: Придбання електричної енергії для освітлення місць загального користуванння, живлення ліфтів та забезпечення функціонування іншого спільного майна багатоквартирного будинку, в т.ч | C37: =(SUM(C38:C39)) -> 15691.62 | D37: =(SUM(D38:D39)) -> 18754.085 | E37: =D37-C37 -> 3062.4646 | F37: =IF(D37=0,0,D37/C37) -> 1.1951656
A38: 1.14.1 | B38: для освітлення місць загального користування | C38: =VLOOKUP(B3,'2025рік-2026р (по послугам)'!C8:ACN94,766,0) -> 15691.62 | D38: =VLOOKUP(B3,'2025рік-2026р (по послугам)'!C8:ADA94,779,0) -> 18754.085 | E38: =D38-C38 -> 3062.4646 | F38: =IF(D38=0,0,D38/C38) -> 1.1951656
A39: 1.14.2 | B39: для живлення ліфтів | C39: =VLOOKUP(B3,'2025рік-2026р (по послугам)'!C8:ADQ94,795,0) -> 0 | D39: =VLOOKUP(B3,'2025рік-2026р (по послугам)'!C8:AED94,808,0) -> 0 | E39: =D39-C39 -> 0 | F39: =IF(D39=0,0,D39/C39) -> 0
A40: 2 | B40: Інші роботи (послуги) понад обов'язковий перелік | C40: 0 | D40: 0 | E40: =D40-C40 -> 0 | F40: =IF(D40=0,0,D40/C40) -> 0
...

Sheet 2025рік-2026р (по послугам)
C1: КП «Новозаводське» ЧМР
C2: Відомість фактичних витрат і доходів по обслуговуванню житлових будинків (КОНКУРС)
C3: Серпент 2026р.
C4: 1 | D4: 2 | E4: 3 | F4: 4 | G4: 5 | H4: 6 | I4: 7 | J4: 8 | K4: 9 | L4: 10 | M4: 11 | N4: 12 | O4: 13 | P4: 14 | Q4: 15 | R4: 16 | S4: 17 | T4: 18 | U4: 19 | V4: 20 | W4: 21 | X4: 22 | Y4: 23 | Z4: 24 | AA4: 25 | AB4: 26 | AC4: 27 | AD4: 28 | AE4: 29 | AF4: 30 | AG4: 31 | AH4: 32 | AI4: 33 | AJ4: 34 | AK4: 35 | AL4: 36 | AM4: 37 | AN4: 38 | AO4: 39 | AP4: 40 | AQ4: 41 | AR4: 42 | AS4: 43 | AT4: 44 | AU4: 45 | AV4: 46 | AW4: 47 | AX4: 48 | AY4: 49 | AZ4: 50 | BA4: 51 | BB4: 52 | BC4: 53 | BD4: 54 | BE4: 55 | BF4: 56 | BG4: 57 | BH4: 58 | BI4: 59 | BJ4: 60 | BK4: 61 | BL4: 62 | BM4: 63 | BN4: 64 | BO4: 65 | BP4: 66 | BQ4: 67 | BR4: 68 | BS4: 69 | BT4: 70 | BU4: 71 | BV4: 72 | BW4: 73 | BX4: 74 | BY4: 75 | BZ4: 76 | CA4: 77 | CB4: 78 | CC4: 79 | CD4: 80 | CE4: 81 | CF4: 82 | CG4: 83 | CH4: 84 | CI4: 85 | CJ4: 86 | CK4: 87 | CL4: 88 | CM4: 89 | CN4: 90 | CO4: 91 | CP4: 92 | CQ4: 93 | CR4: 94 | CS4: 95 | CT4: 96 | CU4: 97 | CV4: 98 | CW4: 99 | CX4: 100 | CY4: 101 | CZ4: 102 | DA4: 103 | DB4: 104 | DC4: 105 | DD4: 106 | DE4: 107 | DF4: 108 | DG4: 109 | DH4: 110 | DI4: 111 | DJ4: 112 | DK4: 113 | DL4: 114 | DM4: 115 | DN4: 116 | DO4: 117 | DP4: 118 | DQ4: 119 | DR4: 120 | DS4: 121 | DT4: 122 | DU4: 123 | DV4: 124 | DW4: 125 | DX4: 126 | DY4: 127 | DZ4: 128 | EA4: 129 | EB4: 130 | EC4: 131 | ED4: 132 | EE4: 133 | EF4: 134 | EG4: 135 | EH4: 136 | EI4: 137 | EJ4: 138 | EK4: 139 | EL4: 140 | EM4: 141 | EN4: 142 | EO4: 143 | EP4: 144 | EQ4: 145 | ER4: 146 | ES4: 147 | ET4: 148 | EU4: 149 | EV4: 150 | EW4: 151 | EX4: 152 | EY4: 153 | EZ4: 154 | FA4: 155 | FB4: 156 | FC4: 157 | FD4: 158 | FE4: 159 | FF4: 160 | FG4: 161 | FH4: 162 | FI4: 163 | FJ4: 164 | FK4: 165 | FL4: 166 | FM4: 167 | FN4: 168 | FO4: 169 | FP4: 170 | FQ4: 171 | FR4: 172 | FS4: 173 | FT4: 174 | FU4: 175 | FV4: 176 | FW4: 177 | FX4: 178 | FY4: 179 | FZ4: 180 | GA4: 181 | GB4: 182 | GC4: 183 | GD4: 184 | GE4: 185 | GF4: 186 | GG4: 187 | GH4: 188 | GI4: 189 | GJ4: 190 | GK4: 191 | GL4: 192 | GM4: 193 | GN4: 194 | GO4: 195 | GP4: 196 | GQ4: 197 | GR4: 198 | GS4: 199 | GT4: 200 | GU4: 201 | GV4: 202 | GW4: 203 | GX4: 204 | GY4: 205 | GZ4: 206 | HA4: 207 | HB4: 208 | HC4: 209 | HD4: 210 | HE4: 211 | HF4: 212 | HG4: 213 | HH4: 214 | HI4: 215 | HJ4: 216 | HK4: 217 | HL4: 218 | HM4: 219 | HN4: 220 | HO4: 221 | HP4: 222 | HQ4: 223 | HR4: 224 | HS4: 225 | HT4: 226 | HU4: 227 | HV4: 228 | HW4: 229 | HX4: 230 | HY4: 231 | HZ4: 232 | IA4: 233 | IB4: 234 | IC4: 235 | ID4: 236 | IE4: 237 | IF4: 238 | IG4: 239 | IH4: 240 | II4: 241 | IJ4: 242 | IK4: 243 | IL4: 244 | IM4: 245 | IN4: 246 | IO4: 247 | IP4: 248 | IQ4: 249 | IR4: 250 | IS4: 251 | IT4: 252 | IU4: 253 | IV4: 254 | IW4: 255 | IX4: 256 | IY4: 257 | IZ4: 258 | JA4: 259 | JB4: 260 | JC4: 261 | JD4: 262 | JE4: 263 | JF4: 264 | JG4: 265 | JH4: 266 | JI4: 267 | JJ4: 268 | JK4: 269 | JL4: 270 | JM4: 271 | JN4: 272 | JO4: 273 | JP4: 274 | JQ4: 275 | JR4: 276 | JS4: 277 | JT4: 278 | JU4: 279 | JV4: 280 | JW4: 281 | JX4: 282 | JY4: 283 | JZ4: 284 | KA4: 285 | KB4: 286 | KC4: 287 | KD4: 288 | KE4: 289 | KF4: 290 | KG4: 291 | KH4: 292 | KI4: 293 | KJ4: 294 | KK4: 295 | KL4: 296 | KM4: 297 | KN4: 298 | KO4: 299 | KP4: 300 | KQ4: 301 | KR4: 302 | KS4: 303 | KT4: 304 | KU4: 305 | KV4: 306 | KW4: 307 | KX4: 308 | KY4: 309 | KZ4: 310 | LA4: 311 | LB4: 312 | LC4: 313 | LD4: 314 | LE4: 315 | LF4: 316 | LG4: 317 | LH4: 318 | LI4: 319 | LJ4: 320 | LK4: 321 | LL4: 322 | LM4: 323 | LN4: 324 | LO4: 325 | LP4: 326 | LQ4: 327 | LR4: 328 | LS4: 329 | LT4: 330 | LU4: 331 | LV4: 332 | LW4: 333 | LX4: 334 | LY4: 335 | LZ4: 336 | MA4: 337 | MB4: 338 | MC4: 339 | MD4: 340 | ME4: 341 | MF4: 342 | MG4: 343 | MH4: 344 | MI4: 345 | MJ4: 346 | MK4: 347 | ML4: 348 | MM4: 349 | MN4: 350 | MO4: 351 | MP4: 352 | MQ4: 353 | MR4: 354 | MS4: 355 | MT4: 356 | MU4: 357 | MV4: 358 | MW4: 359 | MX4: 360 | MY4: 361 | MZ4: 362 | NA4: 363 | NB4: 364 | NC4: 365 | ND4: 366 | NE4: 367 | NF4: 368 | NG4: 369 | NH4: 370 | NI4: 371 | NJ4: 372 | NK4: 373 | NL4: 374 | NM4: 375 | NN4: 376 | NO4: 377 | NP4: 378 | NQ4: 379 | NR4: 380 | NS4: 381 | NT4: 382 | NU4: 383 | NV4: 384 | NW4: 385 | NX4: 386 | NY4: 387 | NZ4: 388 | OA4: 389 | OB4: 390 | OC4: 391 | OD4: 392 | OE4: 393 | OF4: 394 | OG4: 395 | OH4: 396 | OI4: 397 | OJ4: 398 | OK4: 399 | OL4: 400 | OM4: 401 | ON4: 402 | OO4: 403 | OP4: 404 | OQ4: 405 | OR4: 406 | OS4: 407 | OT4: 408 | OU4: 409 | OV4: 410 | OW4: 411 | OX4: 412 | OY4: 413 | OZ4: 414 | PA4: 415 | PB4: 416 | PC4: 417 | PD4: 418 | PE4: 419 | PF4: 420 | PG4: 421 | PH4: 422 | PI4: 423 | PJ4: 424 | PK4: 425 | PL4: 426 | PM4: 427 | PN4: 428 | PO4: 429 | PP4: 430 | PQ4: 431 | PR4: 432 | PS4: 433 | PT4: 434 | PU4: 435 | PV4: 436 | PW4: 437 | PX4: 438 | PY4: 439 | PZ4: 440 | QA4: 441 | QB4: 442 | QC4: 443 | QD4: 444 | QE4: 445 | QF4: 446 | QG4: 447 | QH4: 448 | QI4: 449 | QJ4: 450 | QK4: 451 | QL4: 452 | QM4: 453 | QN4: 454 | QO4: 455 | QP4: 456 | QQ4: 457 | QR4: 458 | QS4: 459 | QT4: 460 | QU4: 461 | QV4: 462 | QW4: 463 | QX4: 464 | QY4: 465 | QZ4: 466 | RA4: 467 | RB4: 468 | RC4: 469 | RD4: 470 | RE4: 471 | RF4: 472 | RG4: 473 | RH4: 474 | RI4: 475 | RJ4: 476 | RK4: 477 | RL4: 478 | RM4: 479 | RN4: 480 | RO4: 481 | RP4: 482 | RQ4: 483 | RR4: 484 | RS4: 485 | RT4: 486 | RU4: 487 | RV4: 488 | RW4: 489 | RX4: 490 | RY4: 491 | RZ4: 492 | SA4: 493 | SB4: 494 | SC4: 495 | SD4: 496 | SE4: 497 | SF4: 498 | SG4: 499 | SH4: 500 | SI4: 501 | SJ4: 502 | SK4: 503 | SL4: 504 | SM4: 505 | SN4: 506 | SO4: 507 | SP4: 508 | SQ4: 509 | SR4: 510 | SS4: 511 | ST4: 512 | SU4: 513 | SV4: 514 | SW4: 515 | SX4: 516 | SY4: 517 | SZ4: 518 | TA4: 519 | TB4: 520 | TC4: 521 | TD4: 522 | TE4: 523 | TF4: 524 | TG4: 525 | TH4: 526 | TI4: 527 | TJ4: 528 | TK4: 529 | TL4: 530 | TM4: 531 | TN4: 532 | TO4: 533 | TP4: 534 | TQ4: 535 | TR4: 536 | TS4: 537 | TT4: 538 | TU4: 539 | TV4: 540 | TW4: 541 | TX4: 542 | TY4: 543 | TZ4: 544 | UA4: 545 | UB4: 546 | UC4: 547 | UD4: 548 | UE4: 549 | UF4: 550 | UG4: 551 | UH4: 552 | UI4: 553 | UJ4: 554 | UK4: 555 | UL4: 556 | UM4: 557 | UN4: 558 | UO4: 559 | UP4: 560 | UQ4: 561 | UR4: 562 | US4: 563 | UT4: 564 | UU4: 565 | UV4: 566 | UW4: 567 | UX4: 568 | UY4: 569 | UZ4: 570 | VA4: 571 | VB4: 572 | VC4: 573 | VD4: 574 | VE4: 575 | VF4: 576 | VG4: 577 | VH4: 578 | VI4: 579 | VJ4: 580 | VK4: 581 | VL4: 582 | VM4: 583 | VN4: 584 | VO4: 585 | VP4: 586 | VQ4: 587 | VR4: 588 | VS4: 589 | VT4: 590 | VU4: 591 | VV4: 592 | VW4: 593 | VX4: 594 | VY4: 595 | VZ4: 596 | WA4: 597 | WB4: 598 | WC4: 599 | WD4: 600 | WE4: 601 | WF4: 602 | WG4: 603 | WH4: 604 | WI4: 605 | WJ4: 606 | WK4: 607 | WL4: 608 | WM4: 609 | WN4: 610 | WO4: 611 | WP4: 612 | WQ4: 613 | WR4: 614 | WS4: 615 | WT4: 616 | WU4: 617 | WV4: 618 | WW4: 619 | WX4: 620 | WY4: 621 | WZ4: 622 | XA4: 623 | XB4: 624 | XC4: 625 | XD4: 626 | XE4: 627 | XF4: 628 | XG4: 629 | XH4: 630 | XI4: 631 | XJ4: 632 | XK4: 633 | XL4: 634 | XM4: 635 | XN4: 636 | XO4: 637 | XP4: 638 | XQ4: 639 | XR4: 640 | XS4: 641 | XT4: 642 | XU4: 643 | XV4: 644 | XW4: 645 | XX4: 646 | XY4: 647 | XZ4: 648 | YA4: 649 | YB4: 650 | YC4: 651 | YD4: 652 | YE4: 653 | YF4: 654 | YG4: 655 | YH4: 656 | YI4: 657 | YJ4: 658 | YK4: 659 | YL4: 660 | YM4: 661 | YN4: 662 | YO4: 663 | YP4: 664 | YQ4: 665 | YR4: 666 | YS4: 667 | YT4: 668 | YU4: 669 | YV4: 670 | YW4: 671 | YX4: 672 | YY4: 673 | YZ4: 674 | ZA4: 675 | ZB4: 676 | ZC4: 677 | ZD4: 678 | ZE4: 679 | ZF4: 680 | ZG4: 681 | ZH4: 682 | ZI4: 683 | ZJ4: 684 | ZK4: 685 | ZL4: 686 | ZM4: 687 | ZN4: 688 | ZO4: 689 | ZP4: 690 | ZQ4: 691 | ZR4: 692 | ZS4: 693 | ZT4: 694 | ZU4: 695 | ZV4: 696 | ZW4: 697 | ZX4: 698 | ZY4: 699 | ZZ4: 700 | AAA4: 701 | AAB4: 702 | AAC4: 703 | AAD4: 704 | AAE4: 705 | AAF4: 706 | AAG4: 707 | AAH4: 708 | AAI4: 709 | AAJ4: 710 | AAK4: 711 | AAL4: 712 | AAM4: 713 | AAN4: 714 | AAO4: 715 | AAP4: 716 | AAQ4: 717 | AAR4: 718 | AAS4: 719 | AAT4: 720 | AAU4: 721 | AAV4: 722 | AAW4: 723 | AAX4: 724 | AAY4: 725 | AAZ4: 726 | ABA4: 727 | ABB4: 728 | ABC4: 729 | ABD4: 730 | ABE4: 731 | ABF4: 732 | ABG4: 733 | ABH4: 734 | ABI4: 735 | ABJ4: 736 | ABK4: 737 | ABL4: 738 | ABM4: 739 | ABN4: 740 | ABO4: 741 | ABP4: 742 | ABQ4: 743 | ABR4: 744 | ABS4: 745 | ABT4: 746 | ABU4: 747 | ABV4: 748 | ABW4: 749 | ABX4: 750 | ABY4: 751 | ABZ4: 752 | ACA4: 753 | ACB4: 754 | ACC4: 755 | ACD4: 756 | ACE4: 757 | ACF4: 758 | ACG4: 759 | ACH4: 760 | ACI4: 761 | ACJ4: 762 | ACK4: 763 | ACL4: 764 | ACM4: 765 | ACN4: 766 | ACO4: 767 | ACP4: 768 | ACQ4: 769 | ACR4: 770 | ACS4: 771 | ACT4: 772 | ACU4: 773 | ACV4: 774 | ACW4: 775 | ACX4: 776 | ACY4: 777 | ACZ4: 778 | ADA4: 779 | ADB4: 780 | ADC4: 781 | ADD4: 782 | ADE4: 783 | ADF4: 784 | ADG4: 785 | ADH4: 786 | ADI4: 787 | ADJ4: 788 | ADK4: 789 | ADL4: 790 | ADM4: 791 | ADN4: 792 | ADO4: 793 | ADP4: 794 | ADQ4: 795 | ADR4: 796 | ADS4: 797 | ADT4: 798 | ADU4: 799 | ADV4: 800 | ADW4: 801 | ADX4: 802 | ADY4: 803 | ADZ4: 804 | AEA4: 805 | AEB4: 806 | AEC4: 807 | AED4: 808 | AEE4: 809 | AEF4: 810 | AEG4: 811 | AEH4: 812 | AEI4: 813 | AEJ4: 814 | AEK4: 815 | AEL4: 816 | AEM4: 817 | AEN4: 818 | AEO4: 819 | AEP4: 820 | AEQ4: 821 | AER4: 822 | AES4: 823 | AET4: 824 | AEU4: 825 | AEV4: 826 | AEW4: 827 | AEX4: 828 | AEY4: 829 | AEZ4: 830 | AFA4: 831 | AFB4: 832 | AFC4: 833 | AFD4: 834 | AFE4: 835 | AFF4: 836 | AFG4: 837 | AFH4: 838 | AFI4: 839 | AFJ4: 840 | AFK4: 841 | AFL4: 842 | AFM4: 843 | AFN4: 844 | AFO4: 845 | AFP4: 846 | AFQ4: 847 | AFR4: 848 | AFS4: 849 | AFT4: 850 | AFU4: 851 | AFV4: 852 | AFW4: 853 | AFX4: 854 | AFY4: 855 | AFZ4: 856 | AGA4: 857 | AGB4: 858 | AGC4: 859 | AGD4: 860 | AGE4: 861 | AGF4: 862 | AGG4: 863 | AGH4: 864 | AGI4: 865 | AGJ4: 866 | AGK4: 867 | AGL4: 868 | AGM4: 869 | AGN4: 870 | AGO4: 871 | AGP4: 872
B5: Пов. | C5: Адреса | D5: Пов. | E5: Загальна площа житла, та нежитлових приміщень, м2 | F5: Обов'язковий перелік послуг | AET5: 2 Інші роботи понад обов'язковий перелік | AFW5: 3 Загальна сума витрат (без урахування ПДВ) | AGB5: 4 Загальна сума витрат (з урахування ПДВ) | AGG5: 5 Винагорода управителю (з урахуванням ПДВ) | AGL5: 6 Загальна сума витрат з винагородою управителю
F6: 1.1 Технічне обслуговування внутрішньобудинкових систем, в т.ч. | K6: 1.1.1. ТО водопостачання | AN6: 1.1.2 ТО водовідведення | BQ6: 1.1.3 ТО теплопостачання | CT6: 1.1.4 ТО гарячого водопостачання | DW6: 1.1.5 ТО зливової каналізації | FA6: 1.1.6 ТО електропостачання | GD6: 1.1.7 ТО газопостачання | GY6: 1.1.8 аварійне обслуговування | IB6: 1.2. ТО ліфтів | JE6: 1.3 Обслуг. систем диспетчеризації | KH6: 1.4 Обслуговування ДВК | LK6: 1.5 ТО систем ППА | MN6: 1.6 ПР костуктивних елементів | NQ6: 1.7 Поточний ремонт внутрішньобудинкових систем, в т.ч. | NV6: 1.7.1 ПР водопостачання | OY6: 1.7.2 ПР водовідведення | QB6: 1.7.3 ПР теплопостачання | RE6: 1.7.4 ПР гарячого водопостачання | SH6: 1.7.5 ПР зливової каналізації | TK6: 1.7.6 ПР електропостачання | UN6: 1.7.7 ПР газопостачання | VQ6: 1.8 ПР систем ППА | WT6: 1.9 Прибирання прибудинкової території | XW6: 1.10 Прибирання приміщень загального користування | YZ6: 1.11 Прибирання і вивезення снігу | AAC6: 1.12 Дератизація | ABF6: 1.13 Дезінсекція | ACI6: 1.14 Придбання е/е , в т.ч. | ACN6: 1.14.1 Придбання е/е для освітлення місць загального користування | ADQ6: 1.14.2 Придбання е/е для живлення ліфтів
F7: Нараховано | G7: Фактично виконано | H7: Різниця між нарахуванням та витратами | I7: Недовиконано, грн. | J7: Перевиконано, грн. | K7: Нараховано, грн. | L7: листопад | M7: грудень | N7: січень | O7: лютий | P7: березень | Q7: квітень | R7: травень | S7: червень | T7: липень | U7: серпень | V7: вересень | W7: жовтень | X7: Фактично виконано, грн. | Y7: листопад | Z7: грудень | AA7: січень | AB7: лютий | AC7: березень | AD7: квітень | AE7: травень | AF7: червень | AG7: липень | AH7: серпень | AI7: вересень | AJ7: жовтень | AK7: Різниця мі нарахуваннями та витратами,грн | AL7: Недовиконано, грн. | AM7: Перевиконано, грн. | AN7: Нараховано згідно тарифу, грн. | AO7: листопад | AP7: грудень | AQ7: січень | AR7: лютий | AS7: березень | AT7: квітень | AU7: трвень | AV7: чеврень | AW7: липень | AX7: серпень | AY7: вересень | AZ7: жовтень | BA7: Фактично виконано, грн. | BB7: листопад | BC7: грудень | BD7: січень | BE7: лютий | BF7: березень | BG7: квітень | BH7: травень | BI7: червень | BJ7: липень | BK7: серпень | BL7: вересень | BM7: жовтень | BN7: Різниця мі нарахуваннями та витратами,грн | BO7: Недовиконано, грн. | BP7: Перевиконано, грн. | BQ7: Нараховано згідно тарифу, грн. | BR7: листопад | BS7: грудень | BT7: січень | BU7: лютий | BV7: березень | BW7: квітень | BX7: травень | BY7: червень | BZ7: липень | CA7: серпень | CB7: вересень | CC7: жовтень | CD7: Фактично виконано, грн. | CE7: листопад | CF7: грудень | CG7: січень | CH7: лютий | CI7: березень | CJ7: квітень | CK7: травень | CL7: червень | CM7: липень | CN7: серпень | CO7: вересень | CP7: жовтень | CQ7: Різниця мі нарахуваннями та витратами,грн | CR7: Недовиконано, грн. | CS7: Перевиконано, грн. | CT7: Нараховано згідно тарифу, грн. | CU7: листопад | CV7: грудень | CW7: січень | CX7: лютий | CY7: березень | CZ7: квітень | DA7: травень | DB7: червень | DC7: липень | DD7: серпень | DE7: вересень | DF7: жовтень | DG7: Фактично виконано, грн. | DH7: листопад | DI7: грудень | DJ7: січень | DK7: лютий | DL7: березень | DM7: квітень | DN7: травень | DO7: червень | DP7: липень | DQ7: серпень | DR7: вересень | DS7: жовтень | DT7: Різниця мі нарахуваннями та витратами,грн | DU7: Недовиконано, грн. | DV7: Перевиконано, грн. | DW7: Нараховано згідно тарифу, грн. | DX7: листопад | DY7: грудень | DZ7: січень | EA7: лютий | EB7: березень | EC7: квітень | ED7: травень | EE7: червень | EF7: липень | EG7: серпень | EH7: вересень | EI7: жовтень | EK7: Фактично виконано, грн. | EL7: листопад | EM7: грудень | EN7: січень | EO7: лютий | EP7: березень | EQ7: квітень | ER7: травень | ES7: червень | ET7: липень | EU7: серпень | EV7: вересень | EW7: жовтень | EX7: Різниця між нарахуваннями та витратами,грн | EY7: Недовиконано, грн. | EZ7: Перевиконано, грн. | FA7: Нараховано згідно тарифу, грн. | FB7: листопад | FC7: грудень | FD7: січень | FE7: лютий | FF7: березень | FG7: квітень | FH7: травень | FI7: червень | FJ7: липень | FK7: серпень | FL7: вересень | FM7: жовтень | FN7: Фактично виконано, грн. | FO7: листопад | FP7: грудень | FQ7: січень | FR7: лютий | FS7: березень | FT7: квітень | FU7: травень | FV7: червень | FW7: липень | FX7: серпень | FY7: вересень | FZ7: жовтень | GA7: Різниця між нарахуваннями та витратами,грн | GB7: Недовиконано, грн. | GC7: Перевиконано, грн. | GD7: Нараховано згідно тарифу, грн. | GE7: листопад | GF7: грудень | GG7: січень | GH7: лютий | GI7: березень | GJ7: квітень | GK7: травень | GL7: червень | GM7: липень | GN7: сервень | GO7: вересень | GP7: жовтень | GQ7: Фактично виконано, грн. | GR7: травень | GV7: Різниця між нарахуваннями та витратами,грн | GW7: Недовиконано, грн. | GX7: Перевиконано, грн. | GY7: Нараховано згідно тарифу, грн. | GZ7: листопад | HA7: грудень | HB7: січень | HC7: лютий | HD7: березень | HE7: квітень | HF7: травень | HG7: червень | HH7: липень | HI7: серпень | HJ7: вересень | HK7: жовтень | HL7: Фактично виконано, грн. | HM7: листопад | HN7: грудень | HO7: січень | HP7: лютий | HQ7: березень | HR7: квітень | HS7: травень | HT7: червень | HU7: липень | HV7: серпень | HW7: вересень | HX7: жовтень | HY7: Різниця між нарахуваннями та витратами,грн | HZ7: Недовиконано, грн. | IA7: Перевиконано, грн. | IB7: Нараховано згідно тарифу, грн. | IC7: листопад | ID7: грудень | IE7: січень | IF7: лютий | IG7: березень | IH7: квітень | II7: травень | IJ7: червень | IK7: липень | IL7: серпень | IM7: вересень | IN7: жовтень | IO7: Фактично виконано, грн. | IP7: листопад | IQ7: грудень | IR7: січень | IS7: лютий | IT7: березень | IU7: квітень | IV7: травень | IW7: червень | IX7: липень | IY7: серпень | IZ7: вересень | JA7: жовтень | JB7: Різниця між нарахуваннями та витратами,грн | JC7: Недовиконано, грн. | JD7: Перевиконано, грн. | JE7: Нараховано згідно тарифу, грн. | JF7: листопад | JG7: грудень | JH7: січень | JI7: лютий | JJ7: березень | JK7: квітень | JL7: травень | JM7: червень | JN7: липень | JO7: серпень | JP7: вересень | JQ7: жовтень | JR7: Фактично виконано, грн. | JS7: листопад | JT7: грудень | JU7: січень | JV7: лютий | JW7: березень | JX7: квітень | JY7: травень | JZ7: червень | KA7: липень | KB7: серпень | KC7: вересень | KD7: жовтень | KE7: Різниця між нарахуваннями та витратами,грн | KF7: Недовиконано, грн. | KG7: Перевиконано, грн. | KH7: Нараховано згідно тарифу, грн. | KI7: листопад | KJ7: грудень | KK7: січень | KL7: лютий | KM7: березень | KN7: квітень | KO7: травень | KP7: червень | KQ7: липень | KR7: серпень | KS7: вересень | KT7: жовтень | KU7: Фактично виконано, грн. | KV7: листопад | KW7: грудень | KX7: січень | KY7: лютий | KZ7: березень | LA7: квітень | LB7: травень | LC7: червень | LD7: липень | LE7: серпень | LF7: вересень | LG7: жовтень | LH7: Різниця між нарахуваннями та витратами,грн | LI7: Недовиконано, грн. | LJ7: Перевиконано, грн. | LK7: Нараховано згідно тарифу, грн. | LL7: січень | LM7: лютий | LN7: березень | LO7: квітень | LP7: травень | LQ7: червень | LR7: липень | LS7: серпень | LT7: вересень | LU7: жовтень | LV7: листопад | LW7: грудень | LX7: Фактично виконано, грн. | LY7: січень | LZ7: лютий | MA7: березень | MB7: квітень | MC7: травень | MD7: червень | ME7: липень | MF7: серпень | MG7: вересень | MH7: жовтень | MI7: листопад | MJ7: грудень | MK7: Різниця між нарахуваннями та витратами,грн | ML7: Недовиконано, грн. | MM7: Перевиконано, грн. | MN7: Нараховано згідно тарифу, грн. | MO7: листопад | MP7: грудень | MQ7: січень | MR7: лютий | MS7: березень | MT7: квітень | MU7: травень | MV7: червень | MW7: липень | MX7: серпень | MY7: вереснь | MZ7: жовтень | NA7: Фактично виконано, грн. | NB7: листопад | NC7: грудень | ND7: січень | NE7: лютий | NF7: березень | NG7: квітень | NH7: травень | NI7: червень | NJ7: липень | NK7: серпень | NL7: вересень | NM7: жовтень | NN7: Різниця між нарахуваннями та витратами,грн | NO7: Недовиконано, грн. | NP7: Перевиконано, грн. | NQ7: Нараховано | NR7: Фактично виконано | NS7: Різниця між нарахуванням та витратами | NT7: Недовиконано, грн. | NU7: Перевиконано, грн. | NV7: Нараховано згідно тарифу, грн. | NW7: листопад | NX7: грудень | NY7: січень | NZ7: лютий | OA7: березень | OB7: квітень | OC7: травень | OD7: червень | OE7: липень | OF7: серпень | OG7: вересень | OH7: жовтень | OI7: Фактично виконано, грн. | OJ7: листопад | OK7: грудень | OL7: січень | OM7: лютий | ON7: березень | OO7: квітень | OP7: травень | OQ7: червень | OR7: липень | OS7: серпень | OT7: вересень | OU7: жовтень | OV7: Різниця між нарахуваннями та витратами,грн | OW7: Недовиконано, грн. | OX7: Перевиконано, грн. | OY7: Нараховано згідно тарифу, грн. | OZ7: листопад | PA7: грудень | PB7: січень | PC7: лютий | PD7: березень | PE7: квітень | PF7: травень | PG7: червень | PH7: липень | PI7: серпень | PJ7: вересень | PK7: жовтень | PL7: Фактично виконано, грн. | PM7: листопад | PN7: грудень | PO7: січень | PP7: лютий | PQ7: березень | PR7: квітень | PS7: травень | PT7: червень | PU7: липень | PV7: серпень | PW7: вересень | PX7: жовтень | PY7: Різниця між нарахуваннями та витратами,грн | PZ7: Недовиконано, грн. | QA7: Перевиконано, грн. | QB7: Нараховано згідно тарифу, грн. | QC7: листопад | QD7: грудень | QE7: січень | QF7: лютий | QG7: березень | QH7: квітень | QI7: травень | QJ7: червень | QK7: липень | QL7: серпень | QM7: вересень | QN7: жовтень | QO7: Фактично виконано, грн. | QP7: листопад | QQ7: грудень | QR7: січень | QS7: лютий | QT7: березень | QU7: квітень | QV7: травень | QW7: червень | QX7: липень | QY7: серпень | QZ7: вересень | RA7: жовтень | RB7: Різниця між нарахуваннями та витратами,грн | RC7: Недовиконано, грн. | RD7: Перевиконано, грн. | RE7: Нараховано згідно тарифу, грн. | RF7: листопад | RG7: грудень | RH7: січень | RI7: лютий | RJ7: березень | RK7: квітень | RL7: травень | RM7: червень | RN7: липень | RO7: серпень | RP7: вересень | RQ7: жовтень | RR7: Фактично виконано, грн. | RS7: листопад | RT7: грудень | RU7: січень | RV7: лютий | RW7: березень | RX7: квітень | RY7: травень | RZ7: червень | SA7: липень | SB7: серпень | SC7: вересень | SD7: жовтень | SE7: Різниця між нарахуваннями та витратами,грн | SF7: Недовиконано, грн. | SG7: Перевиконано, грн. | SH7: Нараховано згідно тарифу, грн. | SI7: листопад | SJ7: грудень | SK7: січень | SL7: лютий | SM7: березень | SN7: квітень | SO7: травень | SP7: червень | SQ7: липень | SR7: серпень | SS7: вересень | ST7: жовтень | SU7: Фактично виконано, грн. | SV7: листопад | SW7: грудень | SX7: січень | SY7: лютий | SZ7: березень | TA7: квітень | TB7: травень | TC7: червень | TD7: липень | TE7: серпень | TF7: вересень | TG7: жовтень | TH7: Різниця між нарахуваннями та витратами,грн | TI7: Недовиконано, грн. | TJ7: Перевиконано, грн. | TK7: Нараховано згідно тарифу, грн. | TL7: листопад | TM7: грудень | TN7: січень | TO7: лютий | TP7: березень | TQ7: квітень | TR7: травень | TS7: червень | TT7: липень | TU7: серпень | TV7: вересень | TW7: жовтень | TX7: Фактично виконано, грн. | TY7: листопад | TZ7: грудень | UA7: січень | UB7: лютий | UC7: березень | UD7: квітень | UE7: травень | UF7: червень | UG7: липень | UH7: серпень | UI7: вересень | UJ7: жовтень | UK7: Різниця між нарахуваннями та витратами,грн | UL7: Недовиконано, грн. | UM7: Перевиконано, грн. | UN7: Нараховано згідно тарифу, грн. | UO7: листопад | UP7: грудень | UQ7: січень | UR7: лютий | US7: березень | UT7: квітень | UU7: травень | UV7: червень | UW7: липень | UX7: серпень | UY7: вересень | UZ7: жовтень | VA7: Фактично виконано, грн. | VB7: січень | VC7: лютий | VD7: березень | VE7: квітень | VF7: травень | VG7: червень | VH7: липень | VI7: серпень | VJ7: вересень | VK7: жовтень | VL7: листопад | VM7: грудень | VN7: Різниця між нарахуваннями та витратами,грн | VO7: Недовиконано, грн. | VP7: Перевиконано, грн. | VQ7: Нараховано згідно тарифу, грн. | VR7: січень | VS7: лютий | VT7: березень | VU7: квітень | VV7: травень | VW7: червень | VX7: липень | VY7: серпень | VZ7: вересень | WA7: жовтень | WB7: листопад | WC7: грудень | WD7: Фактично виконано, грн. | WE7: січень | WF7: лютий | WG7: березень | WH7: квітень | WI7: травень | WJ7: червень | WK7: липень | WL7: серпень | WM7: вересень | WN7: жовтень | WO7: листопад | WP7: грудень | WQ7: Різниця між нарахуваннями та витратами,грн | WR7: Недовиконано, грн. | WS7: Перевиконано, грн. | WT7: Нараховано згідно тарифу, грн. | WU7: листопад | WV7: грудень | WW7: січень | WX7: лютий | WY7: березень | WZ7: квітень | XA7: травень | XB7: червень | XC7: липень | XD7: серпень | XE7: вересень | XF7: жовтень | XG7: Фактично виконано, грн. | XH7: листопад | XI7: грудень | XJ7: січень | XK7: лютий | XL7: березень | XM7: квітень | XN7: травень | XO7: червень | XP7: липень | XQ7: серпень | XR7: вересень | XS7: жовтень | XT7: Різниця між нарахуваннями та витратами,грн | XU7: Недовиконано, грн. | XV7: Перевиконано, грн. | XW7: Нараховано згідно тароифу, грн. | XX7: листопад | XY7: грудень | XZ7: січень | YA7: лютий | YB7: березень | YC7: квітень | YD7: травень | YE7: червень | YF7: липень | YG7: серпень | YH7: вересень | YI7: жовтень | YJ7: Фактично виконано, грн. | YK7: листопад | YL7: грудень | YM7: січень | YN7: лютий | YO7: березень | YP7: квітень | YQ7: травень | YR7: червень | YS7: липень | YT7: серпень | YU7: вересень | YV7: жовтень | YW7: Різниця між нарахуваннями та витратами,грн | YX7: Недовиконано, грн. | YY7: Перевиконано, грн. | YZ7: Нараховано згідно тароифу, грн. | ZA7: листопад | ZB7: грудень | ZC7: січень | ZD7: лютий | ZE7: березень | ZF7: квітень | ZG7: травень | ZH7: червень | ZI7: липень | ZJ7: серпень | ZK7: вересень | ZL7: жовтень | ZM7: Фактично виконано, грн. | ZN7: листопад | ZO7: грудень | ZP7: січень | ZQ7: лютий | ZR7: березень | ZS7: квітень | ZT7: грудень | ZU7: січень | ZV7: лютий | ZZ7: Різниця між нарахуваннями та витратами,грн | AAA7: Недовиконано, грн. | AAB7: Перевиконано, грн. | AAC7: Нараховано згідно тароифу, грн. | AAD7: листопад | AAE7: грудень | AAF7: січень | AAG7: лютий | AAH7: березень | AAI7: квітень | AAJ7: травень | AAK7: червень | AAL7: липень | AAM7: серпень | AAN7: вересень | AAO7: жовтень | AAP7: Фактично виконано, грн. | AAQ7: листопад | AAR7: грудень | AAS7: січень | AAT7: лютий | AAU7: березень | AAV7: квітень | AAW7: травень | AAX7: червень | AAY7: липень | AAZ7: серпень | ABA7: вересень | ABB7: жовтень | ABC7: Різниця між нарахуваннями та витратами,грн | ABD7: Недовиконано, грн. | ABE7: Перевиконано, грн. | ABF7: Нараховано згідно тароифу, грн. | ABG7: листопад | ABH7: грудень | ABI7: січень | ABJ7: лютий | ABK7: березень | ABL7: квітень | ABM7: травень | ABN7: червень | ABO7: липень | ABP7: серпень | ABQ7: вересень | ABR7: жовтень | ABS7: Фактично виконано, грн. | ABT7: листопад | ABU7: грудень | ABV7: січень | ABW7: лютий | ABX7: березень | ABY7: квітень | ABZ7: травень | ACA7: червень | ACB7: липень | ACC7: серпень | ACD7: вересень | ACE7: жовтень | ACF7: Різниця між нарахуваннями та витратами,грн | ACG7: Недовиконано, грн. | ACH7: Перевиконано, грн. | ACI7: Нараховано | ACJ7: Фактично виконано | ACK7: Різниця між нарахуванням та витратами | ACL7: Недовиконано, грн. | ACM7: Перевиконано, грн. | ACN7: Нараховано згідно тароифу, грн. | ACO7: листопад | ACP7: грудень | ACQ7: січень | ACR7: лютий | ACS7: березень | ACT7: квітень | ACU7: травень | ACV7: червень | ACW7: липень | ACX7: серпень | ACY7: вересень | ACZ7: жовтень | ADA7: Фактично виконано, грн. | ADB7: листопад | ADC7: грудень | ADD7: січень | ADE7: лютий | ADF7: березень | ADG7: квітень | ADH7: травень | ADI7: червень | ADJ7: липень | ADK7: серпень | ADL7: вересень | ADM7: жовтень | ADN7: Різниця між нарахуваннями та витратами,грн | ADO7: Недовиконано, грн. | ADP7: Перевиконано, грн. | ADQ7: Нараховано згідно тароифу, грн. | ADR7: листопад | ADS7: грудень | ADT7: січень | ADU7: лютий | ADV7: березень | ADW7: квітень | ADX7: травень | ADY7: червень | ADZ7: липень | AEA7: серпень | AEB7: вересень | AEC7: жовтень | AED7: Фактично виконано, грн. | AEE7: листопад | AEF7: грудень | AEG7: січень | AEH7: лютий | AEI7: березень | AEJ7: квітень | AEK7: травень | AEL7: червень | AEM7: липень | AEN7: серпень | AEO7: вересень | AEP7: жовтень | AEQ7: Різниця між нарахуваннями та витратами,грн | AER7: Недовиконано, грн. | AES7: Перевиконано, грн. | AET7: Нараховано згідно тароифу, грн. | AEU7: листопад | AEV7: грудень | AEW7: січень | AEX7: лютий | AEY7: березень | AEZ7: квітень | AFA7: травень | AFB7: червень | AFC7: липень | AFD7: серпень | AFE7: вересень | AFF7: жовтень | AFG7: Фактично виконано, грн. | AFH7: листопад | AFI7: грудень | AFJ7: січень | AFK7: лютий | AFL7: березень | AFM7: квітень | AFN7: травень | AFO7: червень | AFP7: липень | AFQ7: серпень | AFR7: вересень | AFT7: Різниця між нарахуваннями та витратами,грн | AFU7: Недовиконано, грн. | AFV7: Перевиконано, грн. | AFW7: Нарахування | AFX7: Витрати | AFY7: Різниця між нарахуванням та витратами | AFZ7: Недовиконано, грн. | AGA7: Перевиконано, грн. | AGB7: Нарахування | AGC7: Витрати | AGD7: Різниця між нарахуванням та витратами | AGE7: Недовиконано, грн. | AGF7: Перевиконано, грн. | AGG7: Нарахування | AGH7: Витрати | AGI7: Різниця між нарахуванням та витратами | AGJ7: Недовиконано, грн. | AGK7: Перевиконано, грн. | AGL7: Нарахування | AGM7: Витрати | AGN7: Різниця між нарахуванням та витратами | AGO7: Недовиконано, грн. | AGP7: Перевиконано, грн.
A8: 438 | B8: 3 | C8: Олександра Довгача вул. 1 | D8: 5 | E8: 2075.78 | F8: =K8+AN8+BQ8+CT8+DW8+FA8+GD8+GY8 -> 29867.52 | G8: =X8+BA8+CD8+DG8+EK8+FN8+GQ8+HL8 -> 43485.188 | H8: =G8-F8 -> 13617.668 | I8: =IF(H8<0,H8,0) -> 0 | J8: =IF(H8>0,H8,0) -> 13617.668 | K8: =SUM(L8:W8) -> 12256.52 | L8: 1080.86 | M8: 1080.86 | N8: 1080.86 | O8: 1080.86 | P8: 1080.86 | Q8: 1080.86 | R8: 1442.84 | S8: 1442.84 | T8: 1442.84 | U8: 1442.84 | X8: =SUM(Y8:AJ8) -> 15007.719 | Y8: 0 | Z8: 0 | AA8: 6873.337 | AB8: 0 | AC8: 0 | AD8: 0 | AE8: 0 | AF8: 0 | AG8: 8134.3819 | AH8: 0 | AL8: =IF(AK8<0,AK8,0) -> 0 | AM8: =IF(AK8>0,AK8,0) -> 0 | AN8: =SUM(AO8:AZ8) -> 2647.2 | AO8: 232.9 | AP8: 232.9 | AQ8: 232.9 | AR8: 232.9 | AS8: 232.9 | AT8: 232.9 | AU8: 312.45 | AV8: 312.45 | AW8: 312.45 | AX8: 312.45 | BA8: =SUM(BB8:BM8) -> 3313.8934 | BB8: 0 | BC8: 0 | BD8: 1517.7167 | BE8: 0 | BF8: 0 | BG8: 0 | BH8: 0 | BI8: 0 | BJ8: 1796.1767 | BK8: 0 | BO8: =IF(BN8<0,BN8,0) -> 0 | BP8: =IF(BN8>0,BN8,0) -> 0 | BQ8: =SUM(BR8:CC8) -> 1073.74 | BR8: 102.13 | BS8: 102.13 | BT8: 102.13 | BU8: 102.13 | BV8: 102.13 | BW8: 102.13 | BX8: 115.24 | BY8: 115.24 | BZ8: 115.24 | CA8: 115.24 | CD8: =SUM(CE8:CP8) -> 1147.9616 | CE8: 118.7786 | CF8: 116.13345 | CG8: 115.86076 | CH8: 115.2732 | CI8: 115.80447 | CJ8: 115.80723 | CK8: 113.10646 | CL8: 112.22283 | CM8: 111.41094 | CN8: 113.56369 | CR8: =IF(CQ8<0,CQ8,0) -> 0 | CS8: =IF(CQ8>0,CQ8,0) -> 0 | CT8: =SUM(CU8:DF8) -> 265.92 | CU8: 25.32 | CV8: 25.32 | CW8: 25.32 | CX8: 25.32 | CY8: 25.32 | CZ8: 25.32 | DA8: 28.5 | DB8: 28.5 | DC8: 28.5 | DD8: 28.5 | DG8: =SUM(DH8:DS8) -> 285.02202 | DH8: 29.490983 | DI8: 28.834232 | DJ8: 28.766525 | DK8: 28.620643 | DL8: 28.75255 | DM8: 28.753235 | DN8: 28.082675 | DO8: 27.863281 | DP8: 27.661701 | DQ8: 28.196198 | DT8: =DG8-CT8 -> 19.102024 | DU8: =IF(DT8<0,DT8,0) -> 0 | DV8: =IF(DT8>0,DT8,0) -> 19.102024 | DW8: =SUM(DX8:EI8) -> 582.22 | DX8: 51.27 | DY8: 51.27 | DZ8: 51.27 | EA8: 51.27 | EB8: 51.27 | EC8: 51.27 | ED8: 68.65 | EE8: 68.65 | EF8: 68.65 | EG8: 68.65 | EK8: =SUM(EL8:EW8) -> 723.73991 | EL8: 0 | EM8: 0 | EN8: 331.46579 | EO8: 0 | EP8: 0 | EQ8: 0 | ER8: 0 | ES8: 0 | ET8: 392.27411 | EU8: 0 | EX8: =EK8-DW8 -> 141.51991 | EY8: =IF(EX8<0,EX8,0) -> 0 | EZ8: =IF(EX8>0,EX8,0) -> 141.51991 | FA8: =SUM(FB8:FM8) -> 5188.44 | FB8: 456.46 | FC8: 456.46 | FD8: 456.46 | FE8: 456.46 | FF8: 456.46 | FG8: 456.46 | FH8: 612.42 | FI8: 612.42 | FJ8: 612.42 | FK8: 612.42 | FN8: =SUM(FO8:FZ8) -> 6500.4398 | FO8: 0 | FP8: 0 | FQ8: 0 | FR8: 3020.8999 | FS8: 0 | FT8: 0 | FU8: 0 | FV8: 0 | FW8: 3479.5399 | FX8: 0 | GA8: =FN8-FA8 -> 1311.9998 | GB8: =IF(GA8<0,GA8,0) -> 0 | GC8: =IF(GA8>0,GA8,0) -> 1311.9998 | GD8: =SUM(GE8:GP8) -> 0 | GQ8: =GR8+GS8+GT8+GU8 -> 0 | GR8: 0 | GS8: =VLOOKUP(C8,'[2]Фін.рез.(витрати)'!$C$8:$V$94,20,0) -> 0 | GV8: =GQ8-GD8 -> 0 | GW8: =IF(GV8<0,GV8,0) -> 0 | GX8: =IF(GV8>0,GV8,0) -> 0 | GY8: =SUM(GZ8:HK8) -> 7853.48 | GZ8: 696.22 | HA8: 696.22 | HB8: 696.22 | HC8: 696.22 | HD8: 696.22 | HE8: 696.22 | HF8: 919.04 | HG8: 919.04 | HH8: 919.04 | HI8: 919.04 | HL8: =SUM(HM8:HX8) -> 16506.413 | HM8: 2086.6133 | HN8: 2349.9212 | HO8: 2977.1543 | HP8: 1041.4362 | HQ8: 961.70198 | HR8: 3374.5717 | HS8: 884.04412 | HT8: 878.86425 | HU8: 987.94418 | HV8: 964.16158 | HY8: =HL8-GY8 -> 8652.9328 | HZ8: =IF(HY8<0,HY8,0) -> 0 | IA8: =IF(HY8>0,HY8,0) -> 8652.9328 | IB8: =SUM(IC8:IN8) -> 0 | IC8: 0 | ID8: 0 | IE8: 0 | IF8: 0 | IG8: 0 | IH8: 0 | II8: 0 | IJ8: 0 | IK8: 0 | IL8: 0 | IO8: =SUM(IP8:JA8) -> 0 | IP8: 0 | IQ8: 0 | IR8: 0 | IS8: 0 | IT8: 0 | IU8: 0 | IV8: 0 | IW8: 0 | IX8: 0 | IY8: 0 | JB8: =IO8-IB8 -> 0 | JC8: =IF(JB8<0,JB8,0) -> 0 | JD8: =IF(JB8>0,JB8,0) -> 0 | JE8: =SUM(JF8:JQ8) -> 0 | JF8: 0 | JG8: 0 | JH8: 0 | JI8: 0 | JJ8: 0 | JK8: 0 | JL8: 0 | JM8: 0 | JN8: 0 | JO8: 0 | JR8: =SUM(JS8:KD8) -> 0 | JS8: 0 | JT8: 0 | JU8: 0 | JV8: 0 | JW8: 0 | JX8: 0 | JY8: 0 | JZ8: 0 | KA8: 0 | KB8: 0 | KE8: =JR8-JE8 -> 0 | KF8: =IF(KE8<0,KE8,0) -> 0 | KG8: =IF(KE8>0,KE8,0) -> 0 | KH8: =SUM(KI8:KT8) -> 3485.42 | KI8: 306.59 | KJ8: 306.59 | KK8: 306.59 | KL8: 306.59 | KM8: 306.59 | KN8: 306.59 | KO8: 411.47 | KP8: 411.47 | KQ8: 411.47 | KR8: 411.47 | KU8: =SUM(KV8:LG8) -> 4860.3947 | KV8: 417.70274 | KW8: 446.61555 | KX8: 443.79665 | KY8: 422.06794 | KZ8: 440.32111 | LA8: 566.70158 | LB8: 525.94785 | LC8: 522.25556 | LD8: 538.59922 | LE8: 536.3865 | LH8: =KU8-KH8 -> 1374.9747 | LI8: =IF(LH8<0,LH8,0) -> 0 | LJ8: =IF(LH8>0,LH8,0) -> 1374.9747 | LK8: =SUM(LL8:LW8) -> 0 | LX8: =SUM(LY8:MJ8) -> 0 | MJ8: 0 | ML8: =IF(MK8<0,MK8,0) -> 0 | MM8: =IF(MK8>0,MK8,0) -> 0 | MN8: =SUM(MO8:MZ8) -> 29607.48 | MO8: 3005.52 | MP8: 3005.52 | MQ8: 3005.52 | MR8: 3005.52 | MS8: 3005.52 | MT8: 3005.52 | MU8: 2893.59 | MV8: 2893.59 | MW8: 2893.59 | MX8: 2893.59 | NA8: =SUM(NB8:NM8) -> 8659.53 | NB8: 0 | NC8: 0 | ND8: 0 | NE8: 1449.5307 | NF8: 0 | NG8: 860.47652 | NH8: 0 | NI8: 0 | NJ8: 0 | NK8: 6349.5227 | NN8: =NA8-MN8 -> -20947.95 | NO8: =IF(NN8<0,NN8,0) -> -20947.95 | NP8: =IF(NN8>0,NN8,0) -> 0 | NQ8: =NV8+OY8+QB8+RE8+SH8+TK8+UN8 -> 17864.1 | NR8: =OI8+PL8+QO8+RR8+SU8+TX8+VA8 -> 35252.15 | NS8: =NR8-NQ8 -> 17388.05 | NT8: =IF(NS8<0,NS8,0) -> 0 | NU8: =IF(NS8>0,NS8,0) -> 17388.05 | NV8: =SUM(NW8:OH8) -> 4146.9 | NW8: 375.51 | NX8: 375.51 | NY8: 375.51 | NZ8: 375.51 | OA8: 375.51 | OB8: 375.51 | OC8: 473.46 | OD8: 473.46 | OE8: 473.46 | OF8: 473.46 | OI8: =SUM(OJ8:OU8) -> 22341.1 | OJ8: 0 | OK8: 13651.57 | OL8: 2514.6 | ON8: 0 | OO8: 0 | OP8: 0 | OQ8: 3662.4 | OR8: 0 | OS8: 2512.53 | OV8: =OI8-NV8 -> 18194.2 | OW8: =IF(OV8<0,OV8,0) -> 0 | OX8: =IF(OV8>0,OV8,0) -> 18194.2 | OY8: =SUM(OZ8:PK8) -> 6314.06 | OZ8: 601.77 | PA8: 601.77 | PB8: 601.77 | PC8: 601.77 | PD8: 601.77 | PE8: 601.77 | PF8: 675.86 | PG8: 675.86 | PH8: 675.86 | PI8: 675.86 | PL8: =SUM(PM8:PX8) -> 12911.05 | PM8: 0 | PN8: 0 | PO8: 0 | PP8: 0 | PQ8: 0 | PR8: 0 | PS8: 0 | PT8: 0 | PU8: 12911.05 | PV8: 0 | PY8: =PL8-OY8 -> 6596.99 | PZ8: =IF(PY8<0,PY8,0) -> 0 | QA8: =IF(PY8>0,PY8,0) -> 6596.99 | QB8: =SUM(QC8:QN8) -> 736.82 | QC8: 65.39 | QD8: 65.39 | QE8: 65.39 | QF8: 65.39 | QG8: 65.39 | QH8: 65.39 | QI8: 86.12 | QJ8: 86.12 | QK8: 86.12 | QL8: 86.12 | QO8: =SUM(QP8:RA8) -> 0 | QP8: 0 | QQ8: 0 | QR8: 0 | QT8: 0 | QW8: 0 | QY8: 0 | RB8: =QO8-QB8 -> -736.82 | RC8: =IF(RB8<0,RB8,0) -> -736.82 | RD8: =IF(RB8>0,RB8,0) -> 0 | RE8: =SUM(RF8:RQ8) -> 3191.46 | RF8: 290.19 | RG8: 290.19 | RH8: 290.19 | RI8: 290.19 | RJ8: 290.19 | RK8: 290.19 | RL8: 362.58 | RM8: 362.58 | RN8: 362.58 | RO8: 362.58 | RR8: =SUM(RS8:SD8) -> 0 | RS8: 0 | RU8: 0 | RV8: 0 | RW8: 0 | RX8: 0 | RZ8: 0 | SA8: 0 | SB8: 0 | SE8: =RR8-RE8 -> -3191.46 | SF8: =IF(SE8<0,SE8,0) -> -3191.46 | SG8: =IF(SE8>0,SE8,0) -> 0 | SH8: =SUM(SI8:ST8) -> 1985.86 | SI8: 188.69 | SJ8: 188.69 | SK8: 188.69 | SL8: 188.69 | SM8: 188.69 | SN8: 188.69 | SO8: 213.43 | SP8: 213.43 | SQ8: 213.43 | SR8: 213.43 | SU8: =SUM(SV8:TG8) -> 0 | SV8: 0 | SW8: 0 | SX8: 0 | SY8: 0 | SZ8: 0 | TC8: 0 | TD8: 0 | TE8: =VLOOKUP(C8,'[2]Фін.рез.(витрати)'!$C$8:$AH$94,32,0) -> 0 | TH8: =SU8-SH8 -> -1985.86 | TI8: =IF(TH8<0,TH8,0) -> -1985.86 | TJ8: =IF(TH8>0,TH8,0) -> 0 | TK8: =SUM(TL8:TW8) -> 1489 | TL8: 131.4 | TM8: 131.4 | TN8: 131.4 | TO8: 131.4 | TP8: 131.4 | TQ8: 131.4 | TR8: 175.15 | TS8: 175.15 | TT8: 175.15 | TU8: 175.15 | TX8: =SUM(TY8:UJ8) -> 0 | TY8: 0 | TZ8: 0 | UA8: 0 | UB8: 0 | UC8: 0 | UD8: 0 | UE8: 0 | UF8: 0 | UG8: 0 | UH8: =VLOOKUP(C8,'[2]Фін.рез.(витрати)'!$C$8:$AI$94,33,0) -> 0 | UK8: =TX8-TK8 -> -1489 | UL8: =IF(UK8<0,UK8,0) -> -1489 | UM8: =IF(UK8>0,UK8,0) -> 0 | UN8: =SUM(UO8:UZ8) -> 0 | UO8: 0 | UP8: 0 | UQ8: 0 | UR8: 0 | US8: 0 | UT8: 0 | UU8: 0 | UV8: 0 | UW8: 0 | UX8: 0 | VA8: =SUM(VB8:VM8) -> 0 | VN8: =VA8-UN8 -> 0 | VO8: =IF(VN8<0,VN8,0) -> 0 | VP8: =IF(VN8>0,VN8,0) -> 0 | VQ8: =SUM(VR8:WC8) -> 0 | WD8: =SUM(WE8:WP8) -> 0 | WQ8: =WD8-VQ8 -> 0 | WR8: =IF(WQ8<0,WQ8,0) -> 0 | WS8: =IF(WQ8>0,WQ8,0) -> 0 | WT8: =SUM(WU8:XF8) -> 52011.8 | WU8: 4438.02 | WV8: 4438.02 | WW8: 4438.02 | WX8: 4438.02 | WY8: 4438.02 | WZ8: 4438.02 | XA8: 6345.92 | XB8: 6345.92 | XC8: 6345.92 | XD8: 6345.92 | XG8: =SUM(XH8:XS8) -> 56026.889 | XH8: 5914.7469 | XI8: 6057.8834 | XK8: 4993.939 | XL8: 5308.4652 | XM8: 6974.5535 | XN8: 5022.8185 | XO8: 7278.9202 | XP8: 6286.8722 | XQ8: =VLOOKUP(C8,'[2]Фін.рез.(витрати)'!$C$8:$AL$94,36,0) -> 8188.6906 | XT8: =XG8-WT8 -> 4015.0894 | XU8: =IF(XT8<0,XT8,0) -> 0 | XV8: =IF(XT8>0,XT8,0) -> 4015.0894 | XW8: =SUM(XX8:YI8) -> 8777.3 | XX8: 778.63 | XY8: 778.63 | XZ8: 778.63 | YA8: 778.63 | YB8: 778.63 | YC8: 778.63 | YD8: 1026.38 | YE8: 1026.38 | YF8: 1026.38 | YG8: 1026.38 | YJ8: =YK8+YL8+YM8+YN8+YO8+YV8+YP8+YU8+YQ8+YR8+YS8+YT8 -> 9447.2505 | YK8: 1129.9448 | YL8: 849.67354 | YM8: 869.5967 | YN8: 845.63923 | YO8: 834.05895 | YP8: 1088.0766 | YQ8: 773.38592 | YR8: 1032.3259 | YS8: 998.95559 | YT8: =VLOOKUP(C8,'[2]Фін.рез.(витрати)'!$C$8:$AM$94,37,0) -> 1025.5933 | YW8: =YJ8-XW8 -> 669.95053 | YX8: =IF(YW8<0,YW8,0) -> 0 | YY8: =IF(YW8>0,YW8,0) -> 669.95053 | YZ8: =SUM(ZA8:ZL8) -> 4150.86 | ZA8: 392.95 | ZB8: 392.95 | ZC8: 392.95 | ZD8: 392.95 | ZE8: 392.95 | ZF8: 392.95 | ZG8: 448.29 | ZH8: 448.29 | ZI8: 448.29 | ZJ8: 448.29 | ZM8: =SUM(ZN8:ZY8) -> 11338.528 | ZO8: 1138.4335 | ZP8: 8149.008 | ZQ8: 2051.0869 | ZZ8: =ZM8-YZ8 -> 7187.6684 | AAA8: =IF(ZZ8<0,ZZ8,0) -> 0 | AAB8: =IF(ZZ8>0,ZZ8,0) -> 7187.6684 | AAC8: =SUM(AAD8:AAO8) -> 1105.28 | AAD8: 109.6 | AAE8: 109.6 | AAF8: 109.6 | AAG8: 109.6 | AAH8: 109.6 | AAI8: 109.6 | AAJ8: 111.92 | AAK8: 111.92 | AAL8: 111.92 | AAM8: 111.92 | AAP8: =SUM(AAQ8:ABB8) -> 1504.5204 | AAQ8: 155.67143 | AAR8: 152.20469 | AAS8: 151.84729 | AAT8: 151.07724 | AAU8: 151.77352 | AAV8: 151.7772 | AAW8: 148.23751 | AAX8: 147.07942 | AAY8: 146.01536 | AAZ8: =VLOOKUP(C8,'[2]Фін.рез.(витрати)'!$C$8:$AO$94,39,0) -> 148.83676 | ABC8: =AAP8-AAC8 -> 399.24043 | ABD8: =IF(ABC8<0,ABC8,0) -> 0 | ABE8: =IF(ABC8>0,ABC8,0) -> 399.24043 | ABF8: =SUM(ABG8:ABR8) -> 244.58 | ABG8: 24.25 | ABH8: 24.25 | ABI8: 24.25 | ABJ8: 24.25 | ABK8: 24.25 | ABL8: 24.25 | ABM8: 24.77 | ABN8: 24.77 | ABO8: 24.77 | ABP8: 24.77 | ABS8: =SUM(ABT8:ACE8) -> 0 | ABT8: 0 | ACA8: 0 | ACB8: 0 | ACC8: =VLOOKUP(C8,'[2]Фін.рез.(витрати)'!$C$8:$AP$94,40,0) -> 0 | ACF8: =ABS8-ABF8 -> -244.58 | ACG8: =IF(ACF8<0,ACF8,0) -> -244.58 | ACH8: =IF(ACF8>0,ACF8,0) -> 0 | ACI8: =ACN8+ADQ8 -> 0 | ACJ8: =ADA8+AED8 -> 3975.9534 | ACK8: =ACJ8-ACI8 -> 3975.9534 | ACL8: =IF(ACK8<0,ACK8,0) -> 0 | ACM8: =IF(ACK8>0,ACK8,0) -> 3975.9534 | ACN8: =SUM(ACO8:ACZ8) -> 0 | ACO8: 0 | ACP8: 0 | ACQ8: 0 | ACR8: 0 | ACS8: 0 | ACT8: 0 | ACU8: 0 | ACV8: 0 | ACW8: 0 | ACX8: 0 | ADA8: =SUM(ADB8:ADM8) -> 3975.9534 | ADB8: 406.40298 | ADC8: 409.64181 | ADD8: 408.67992 | ADE8: 370.01273 | ADF8: 408.48137 | ADG8: 396.23637 | ADH8: 398.9646 | ADI8: 383.97229 | ADJ8: 392.98392 | ADK8: =VLOOKUP(C8,'[2]Фін.рез.(витрати)'!$C$8:$AR$94,42,0) -> 400.5774 | ADN8: =ADA8-ACN8 -> 3975.9534 | ADO8: =IF(ADN8<0,ADN8,0) -> 0 | ADP8: =IF(ADN8>0,ADN8,0) -> 3975.9534 | ADQ8: =SUM(ADR8:AEC8) -> 0 | ADR8: 0 | ADS8: 0 | ADT8: 0 | ADU8: 0 | ADV8: 0 | ADW8: 0 | ADX8: 0 | ADY8: 0 | ADZ8: 0 | AEA8: 0 | AED8: =SUM(AEE8:AEP8) -> 0 | AEE8: 0 | AEF8: 0 | AEG8: 0 | AEH8: 0 | AEI8: 0 | AEJ8: 0 | AEK8: 0 | AEL8: 0 | AEM8: 0 | AEN8: =VLOOKUP(C8,'[2]Фін.рез.(витрати)'!$C$8:$AS$94,43,0) -> 0 | AEQ8: =AED8-ADQ8 -> 0 | AER8: =IF(AEQ8<0,AEQ8,0) -> 0 | AES8: =IF(AEQ8>0,AEQ8,0) -> 0 | AET8: =SUM(AEU8:AFF8) -> 0 | AFG8: =SUM(AFH8:AFS8) -> 0 | AFT8: =AFG8-AET8 -> 0 | AFU8: =IF(AFT8<0,AFT8,0) -> 0 | AFV8: =IF(AFT8>0,AFT8,0) -> 0 | AFW8: =F8+IB8+JE8+KH8+LK8+MN8+NQ8+VQ8+WT8+XW8+YZ8+AAC8+ABF8+ACI8+AET8 -> 147114.34 | AFX8: =G8+IO8+JR8+KU8+LX8+NA8+NR8+WD8+XG8+YJ8+ZM8+AAP8+ABS8+ACJ8+AFG8 -> 174550.41 | AFY8: =AFX8-AFW8 -> 27436.065 | AFZ8: =IF(AFY8<0,AFY8,0) -> 0 | AGA8: =IF(AFY8>0,AFY8,0) -> 27436.065 | AGB8: =AFW8*1.2 -> 176537.21 | AGC8: =AFX8*1.2 -> 209460.49 | AGD8: =AGC8-AGB8 -> 32923.278 | AGE8: =IF(AGD8<0,AGD8,0) -> 0 | AGF8: =IF(AGD8>0,AGD8,0) -> 32923.278 | AGG8: =AGB8*AGS8 -> 8826.8604 | AGH8: =AGC8*AGS8 -> 10473.024 | AGI8: =AGH8-AGG8 -> 1646.1639 | AGJ8: =IF(AGI8<0,AGI8,0) -> 0 | AGK8: =IF(AGI8>0,AGI8,0) -> 1646.1639 | AGL8: =AGB8+AGG8 -> 185364.07 | AGM8: =AGC8+AGH8 -> 219933.51 | AGN8: =AGM8-AGL8 -> 34569.442 | AGO8: =IF(AGN8<0,AGN8,0) -> 0 | AGP8: =IF(AGN8>0,AGN8,0) -> 34569.442 | AGQ8: =#REF!/#REF! -> #REF! | AGS8: 0.05
